BEGIN:VCALENDAR
PRODID:NingEventWidget-v1
VERSION:2.0
METHOD:PUBLISH
BEGIN:VTIMEZONE
TZID:America/New_York
X-LIC-LOCATION:America/New_York
BEGIN:DAYLIGHT
TZOFFSETFROM:-0500
TZOFFSETTO:-0400
TZNAME:EDT
DTSTART:19700308T020000
RRULE:FREQ=YEARLY;BYMONTH=3;BYDAY=2SU
END:DAYLIGHT
BEGIN:STANDARD
TZOFFSETFROM:-0400
TZOFFSETTO:-0500
TZNAME:EST
DTSTART:19701101T020000
RRULE:FREQ=YEARLY;BYMONTH=11;BYDAY=1SU
END:STANDARD
END:VTIMEZONE
BEGIN:VEVENT
UID:2938326:Event:566902
DTSTAMP:20260420T054207Z
SUMMARY:Volunteer: Food Bank in Hillside
DESCRIPTION:Let's meet-up to help the Food Bank of NJ. As a team we w
 ill be working in the Food Bank warehouse: sorting and re-packing food
  items. After we bond over non-perishables everyone will be encouraged
  to attend a late lunch at a nearby restaurant.  How to Attend: You MU
 ST register via Eventbrite, http://tinyurl.com/ppllgwm (RSVPing alone
  is not enough).  Deadline to sign-up is 6.25.14\n\n Who: Anyone 21 t
 o 39 years old may attend. Please note we have limited Non-Member spot
 s available.\n\nWhat to wear: Think comfortable. Jeans, t-shirt and sw
 eatshirt are fine. No tank tops. Dress in layers in the winter as it g
 ets COLD inside. No open-toed shoes, sandals or flip flops. Please wea
 r shoes or sneakers. No good jewelry. Please leave all purses, backpac
 ks, iPods and other valuables locked in your cars. Bring work gloves i
 f you desire.\n About the Community Food Bank of NJ: \"Using our own f
 leet of trucks, we pick up large-scale donations from hundreds of corp
 orations in New Jersey. The FoodBank is the state's largest provider o
 f donated groceries to charities, shipping up to 24 million pounds of 
 food annually to 1,500 food pantries, soup kitchens, homeless shelters
  and other programs in 18 counties. The FoodBank also distributes gove
 rnment-donated U.S. Agriculture Department food product.\"  Parking: P
 arking is available along the length of the building. Please do not bl
 ock loading docks of the buildings across the street from the Foodbank
 ; your cars may be towed!\n\nFor more information visit http://njyp.or
 g/events/volunteer-food-bank-in-hillside-2
DTSTART;TZID=America/New_York:20140628T090000
DTEND;TZID=America/New_York:20140628T110000
CATEGORIES:"union county", social, community
LOCATION:Community Food Bank
WEBSITE:http://www.cfbnj.org/
URL:http://www.cfbnj.org/
CONTACT:
ORGANIZER;CN="Brian and Mike":http://njyp.org/profile/BrianMike
ATTACH;FMTTYPE="image/jpeg":http://storage.ning.com/topology/rest/1.0/
 file/get/1088950034?profile=original
ATTENDEE;ROLE=REQ-PARTICIPANT;PARTSTAT=ACCEPTED;RSVP=TRUE;CN=Sau:http:
 //njyp.org/profile/Sau
ATTENDEE;ROLE=REQ-PARTICIPANT;PARTSTAT=ACCEPTED;RSVP=TRUE;CN=Joe:http:
 //njyp.org/profile/Joe474
ATTENDEE;ROLE=REQ-PARTICIPANT;PARTSTAT=ACCEPTED;RSVP=TRUE;CN=Dan:http:
 //njyp.org/profile/Daniel162
ATTENDEE;ROLE=REQ-PARTICIPANT;PARTSTAT=ACCEPTED;RSVP=TRUE;CN="Gina And
 rade":http://njyp.org/profile/Gina900
ATTENDEE;ROLE=REQ-PARTICIPANT;PARTSTAT=ACCEPTED;RSVP=TRUE;CN=Jentora:h
 ttp://njyp.org/profile/Jentora
ATTENDEE;ROLE=REQ-PARTICIPANT;PARTSTAT=ACCEPTED;RSVP=TRUE;CN=Thalia:ht
 tp://njyp.org/profile/Thalia
ATTENDEE;ROLE=REQ-PARTICIPANT;PARTSTAT=ACCEPTED;RSVP=TRUE;CN=Stephanie
 :http://njyp.org/profile/Stephanie364
ATTENDEE;ROLE=REQ-PARTICIPANT;PARTSTAT=ACCEPTED;RSVP=TRUE;CN="Brian an
 d Mike":http://njyp.org/profile/BrianMike
ATTENDEE;ROLE=REQ-PARTICIPANT;PARTSTAT=TENTATIVE;RSVP=TRUE;CN=Kevin:ht
 tp://njyp.org/profile/Kevin164
ATTENDEE;ROLE=REQ-PARTICIPANT;PARTSTAT=TENTATIVE;RSVP=TRUE;CN=NorthNJD
 avid:http://njyp.org/profile/NorthNJDavid
ATTENDEE;ROLE=REQ-PARTICIPANT;PARTSTAT=TENTATIVE;RSVP=TRUE;CN=Raco:htt
 p://njyp.org/profile/RadhaCollins
ATTENDEE;ROLE=REQ-PARTICIPANT;PARTSTAT=TENTATIVE;RSVP=TRUE;CN="Jason W
 . Fuchs":http://njyp.org/profile/JasonWFuchs
ATTENDEE;ROLE=REQ-PARTICIPANT;PARTSTAT=TENTATIVE;RSVP=TRUE;CN=Robert:h
 ttp://njyp.org/profile/Robert882
ATTENDEE;ROLE=REQ-PARTICIPANT;PARTSTAT=TENTATIVE;RSVP=TRUE;CN=Kevin:ht
 tp://njyp.org/profile/Kevin117
END:VEVENT
END:VCALENDAR
