BEGIN:VCALENDAR
PRODID:NingEventWidget-v1
VERSION:2.0
METHOD:PUBLISH
BEGIN:VTIMEZONE
TZID:America/New_York
X-LIC-LOCATION:America/New_York
BEGIN:DAYLIGHT
TZOFFSETFROM:-0500
TZOFFSETTO:-0400
TZNAME:EDT
DTSTART:19700308T020000
RRULE:FREQ=YEARLY;BYMONTH=3;BYDAY=2SU
END:DAYLIGHT
BEGIN:STANDARD
TZOFFSETFROM:-0400
TZOFFSETTO:-0500
TZNAME:EST
DTSTART:19701101T020000
RRULE:FREQ=YEARLY;BYMONTH=11;BYDAY=1SU
END:STANDARD
END:VTIMEZONE
BEGIN:VEVENT
UID:2938326:Event:38517
DTSTAMP:20260420T141421Z
SUMMARY:Volunteer: Food Bank in Hillside
DESCRIPTION:Let's meet-up to help the Food Bank of NJ. As a team we wi
 ll be working in the Food Bank warehouse: sorting and re-packing food 
 items, sorting children's clothes for underprivileged kids or re-stock
 ing school supplies in the Kids' Division. After we bond over non-peri
 shable items everyone will be encouraged to attend a late lunch at a n
 earby restaurant (always a blast).\n\nWhat to BRING:\nFood supplies ar
 e at an all time low. All volunteers are asked to bring ONE food item.
 \nCanned tuna, Canned soups, Mac & cheese, Peanut butter in plastic ja
 rs, Spaghetti sauce, Pasta, Cereal, Canned vegetables\n\nWhat to wear:
 \nThink comfortable. Jeans, t-shirt and sweatshirt are fine. Dress in 
 layers in the winter. No open-toed shoes, sandals or flip flops. Pleas
 e wear shoes or sneakers. No good jewelry. Please leave all purses, ba
 ckpacks, iPods and other valuables locked in your cars. Bring work glo
 ves if you desire.\n\nSchedule:\n11:25 Meet-up with the volunteer host
 .\n11:30 to 1:30 Volunteer Activity\n1:30 Meet for lunch at Tiffany’
 s (optional)\n\nDeposits:\nBecause the Food Bank is relying on us we a
 re asking that all volunteers put down a FULLY REFUNDABLE DEPOSIT of $
 9.19. The $9.19 will be returned to all who attend the event. Cancella
 tions will be accepted (and deposits refunded) up until noon on the da
 y before.\n\n\nRSVP (to the right) and we will let you know when tix a
 re almost gone, when prices are going up, if there are any changes, et
 c.\n\nPost-Event Meet-up (optional):\nTiffany's Restaurant\n1637 Vauxh
 all Road\nUnion, NJ 07083\nPlease bring directions with you.\n\nAbout 
 the Community Food Bank of NJ:\n\"Using our own fleet of trucks, we pi
 ck up large-scale donations from hundreds of corporations in New Jerse
 y. The FoodBank is the state's largest provider of donated groceries t
 o charities, shipping up to 24 million pounds of food annually to 1,50
 0 food pantries, soup kitchens, homeless shelters and other programs i
 n 18 counties. The FoodBank also distributes government-donated U.S. A
 griculture Department food product.\"\n\nParking:\nParking is availabl
 e along the length of the building; please do not block loading docks 
 of the buildings across the street from the Foodbank. Your cars may be
  towed!\n\nFor more information visit http://njyp.org/events/volunteer
 -food-bank-in
DTSTART;TZID=America/New_York:20100220T113000
DTEND;TZID=America/New_York:20100220T133000
CATEGORIES:"union county", community
LOCATION:Community FoodBank
WEBSITE:http://www.njfoodbank.org
URL:http://www.njfoodbank.org
CONTACT:
ORGANIZER;CN="Brian and Mike":http://njyp.org/profile/BrianMike
ATTACH;FMTTYPE="image/jpeg":http://storage.ning.com/topology/rest/1.0/
 file/get/1088586076?profile=original
ATTENDEE;ROLE=REQ-PARTICIPANT;PARTSTAT=ACCEPTED;RSVP=TRUE;CN=Anthony:h
 ttp://njyp.org/profile/Anthony
ATTENDEE;ROLE=REQ-PARTICIPANT;PARTSTAT=ACCEPTED;RSVP=TRUE;CN="Michael 
 Roselle":http://njyp.org/profile/MichaelRoselle
ATTENDEE;ROLE=REQ-PARTICIPANT;PARTSTAT=ACCEPTED;RSVP=TRUE;CN="Lillian 
 T.":http://njyp.org/profile/LillianT
ATTENDEE;ROLE=REQ-PARTICIPANT;PARTSTAT=ACCEPTED;RSVP=TRUE;CN=d:http://
 njyp.org/profile/d
ATTENDEE;ROLE=REQ-PARTICIPANT;PARTSTAT=ACCEPTED;RSVP=TRUE;CN=Laura:htt
 p://njyp.org/profile/LauraStrasle
ATTENDEE;ROLE=REQ-PARTICIPANT;PARTSTAT=ACCEPTED;RSVP=TRUE;CN=Seth:http
 ://njyp.org/profile/Seth
ATTENDEE;ROLE=REQ-PARTICIPANT;PARTSTAT=ACCEPTED;RSVP=TRUE;CN="Kristie 
 Webb":http://njyp.org/profile/KristieWebb
ATTENDEE;ROLE=REQ-PARTICIPANT;PARTSTAT=ACCEPTED;RSVP=TRUE;CN=Sara:http
 ://njyp.org/profile/SaraLevenstein
ATTENDEE;ROLE=REQ-PARTICIPANT;PARTSTAT=ACCEPTED;RSVP=TRUE;CN=JT:http:/
 /njyp.org/profile/JasmineDTorres
ATTENDEE;ROLE=REQ-PARTICIPANT;PARTSTAT=ACCEPTED;RSVP=TRUE;CN="Sarah Da
 naher":http://njyp.org/profile/SarahDanaher
ATTENDEE;ROLE=REQ-PARTICIPANT;PARTSTAT=ACCEPTED;RSVP=TRUE;CN=NorthNJDa
 vid:http://njyp.org/profile/NorthNJDavid
ATTENDEE;ROLE=REQ-PARTICIPANT;PARTSTAT=ACCEPTED;RSVP=TRUE;CN=Carline:h
 ttp://njyp.org/profile/Carline
ATTENDEE;ROLE=REQ-PARTICIPANT;PARTSTAT=ACCEPTED;RSVP=TRUE;CN="Brian an
 d Mike":http://njyp.org/profile/BrianMike
ATTENDEE;ROLE=REQ-PARTICIPANT;PARTSTAT=TENTATIVE;RSVP=TRUE;CN="Robert 
 Benham":http://njyp.org/profile/RobertBenham
ATTENDEE;ROLE=REQ-PARTICIPANT;PARTSTAT=TENTATIVE;RSVP=TRUE;CN="Peter E
 skow":http://njyp.org/profile/PeterEskow
ATTENDEE;ROLE=REQ-PARTICIPANT;PARTSTAT=TENTATIVE;RSVP=TRUE;CN="Ijeoma 
 Nwankwo":http://njyp.org/profile/IjeomaNwankwo
ATTENDEE;ROLE=REQ-PARTICIPANT;PARTSTAT=TENTATIVE;RSVP=TRUE;CN=Josie:ht
 tp://njyp.org/profile/JosieNadle
END:VEVENT
END:VCALENDAR
