BEGIN:VCALENDAR
PRODID:NingEventWidget-v1
VERSION:2.0
METHOD:PUBLISH
BEGIN:VTIMEZONE
TZID:America/New_York
X-LIC-LOCATION:America/New_York
BEGIN:DAYLIGHT
TZOFFSETFROM:-0500
TZOFFSETTO:-0400
TZNAME:EDT
DTSTART:19700308T020000
RRULE:FREQ=YEARLY;BYMONTH=3;BYDAY=2SU
END:DAYLIGHT
BEGIN:STANDARD
TZOFFSETFROM:-0400
TZOFFSETTO:-0500
TZNAME:EST
DTSTART:19701101T020000
RRULE:FREQ=YEARLY;BYMONTH=11;BYDAY=1SU
END:STANDARD
END:VTIMEZONE
BEGIN:VEVENT
UID:2938326:Event:131618
DTSTAMP:20260420T043005Z
SUMMARY:Volunteer: Food Bank
DESCRIPTION:Let's meet-up with Team Charity to help the Food Bank of N
 J. Together we will be working in the Food Bank warehouse: sorting and
  re-packing food items, sorting children's clothes for underprivileged
  kids or re-stocking school supplies in the Kids' Division. After we b
 ond over non-perishable items everyone will be encouraged to attend a 
 late lunch at a nearby restaurant (always a blast).   - You MUST click
  the green button to attend.\nWhat to BRING: Food supplies are at an a
 ll time low. All volunteers are asked to bring ONE food item. Canned t
 una, Canned soups, Mac & cheese, Peanut butter in plastic jars, Spaghe
 tti sauce, Pasta, Cereal, Canned vegetables  What to wear: Think comfo
 rtable. Jeans, t-shirt and sweatshirt are fine. Dress in layers in the
  winter. No open-toed shoes, sandals or flip flops. Please wear shoes 
 or sneakers. No good jewelry. Please leave all purses, backpacks, iPod
 s and other valuables locked in your cars. Bring work gloves if you de
 sire.  Schedule: 11:25 Meet-up with the volunteer host. 11:30 to 1:30 
 Volunteer Activity 1:30 Meet for lunch at Tiffany’s (optional)\n \n
 Post-Event Meet-up (optional): Tiffany's Restaurant, 1637 Vauxhall Roa
 d, Union, NJ  Please bring directions with you.  About the Community F
 ood Bank of NJ: \"Using our own fleet of trucks, we pick up large-scal
 e donations from hundreds of corporations in New Jersey. The FoodBank 
 is the state's largest provider of donated groceries to charities, shi
 pping up to 24 million pounds of food annually to 1,500 food pantries,
  soup kitchens, homeless shelters and other programs in 18 counties. T
 he FoodBank also distributes government-donated U.S. Agriculture Depar
 tment food product.\"  Parking: Parking is available along the length 
 of the building; please do not block loading docks of the buildings ac
 ross the street from the Foodbank. Your cars may be towed!\n \nFindin
 g the Group:\nAsk for Team Charity once you arrive.\n\nFor more inform
 ation visit http://njyp.org/events/volunteer-food-bank
DTSTART;TZID=America/New_York:20110212T113000
DTEND;TZID=America/New_York:20110212T133000
CATEGORIES:"union county", community
LOCATION:Community FoodBank
WEBSITE:http://www.njfoodbank.org
URL:http://www.njfoodbank.org
CONTACT:
ORGANIZER;CN="Brian and Mike":http://njyp.org/profile/BrianMike
ATTACH;FMTTYPE="image/jpeg":http://storage.ning.com/topology/rest/1.0/
 file/get/1088676977?profile=original
ATTENDEE;ROLE=REQ-PARTICIPANT;PARTSTAT=ACCEPTED;RSVP=TRUE;CN="Brian an
 d Mike":http://njyp.org/profile/BrianMike
END:VEVENT
END:VCALENDAR
