BEGIN:VCALENDAR
PRODID:NingEventWidget-v1
VERSION:2.0
METHOD:PUBLISH
BEGIN:VTIMEZONE
TZID:America/New_York
X-LIC-LOCATION:America/New_York
BEGIN:DAYLIGHT
TZOFFSETFROM:-0500
TZOFFSETTO:-0400
TZNAME:EDT
DTSTART:19700308T020000
RRULE:FREQ=YEARLY;BYMONTH=3;BYDAY=2SU
END:DAYLIGHT
BEGIN:STANDARD
TZOFFSETFROM:-0400
TZOFFSETTO:-0500
TZNAME:EST
DTSTART:19701101T020000
RRULE:FREQ=YEARLY;BYMONTH=11;BYDAY=1SU
END:STANDARD
END:VTIMEZONE
BEGIN:VEVENT
UID:2938326:Event:65712
DTSTAMP:20260419T090450Z
SUMMARY:Volunteer: Fundraiser Set-Up
DESCRIPTION:Help us help them! Noah’s Ark Animal Welfare Association
  will be hosting a fundraising event in Califon, NJ and we are looking
  for volunteers to assist with the set up. We need a team of 10 Young 
 Professionals to assist with the set up of chairs, tables, silent auct
 ion items, place settings and more. Volunteers will work together from
  12:30 to 3:30 and afterward all will head out for a celebratory lunch
  together!\n\nWho Can Attend:\nAnyone who is 21 to 39 years old. You d
 o not need to be a Member of either organization but you must put down
  a deposit.\n\n\n\nDeposits:\nBecause they are relying on us we are as
 king that all volunteers put down a FULLY REFUNDABLE DEPOSIT of $9.18.
  The $9.18 will be returned to all who attend the event. Cancellations
  will be accepted (and deposits refunded) up until noon on the day bef
 ore.\n\nDress:\nWear comfortable clothing and shoes but nothing torn, 
 ripped, or stained. You will be seen by the attendees at this event.\n
 \nAbout the Event:\nThe Country Kit-Tea Fundraiser will benefit Noah's
  Ark Animal Welfare Association. The event will feature an afternoon t
 ea party in the traditional English style offering a selection of blen
 ded teas and homemade scones from Sally Lunn’s, guest speaker Dr. Sh
 eila Lounsberry, Veterinary Acupuncture Services in Sparta will presen
 t holistic remedies and acupuncture for cats. http://www.noahsarknj.or
 g/KitTeaFlyer.2.pdf\n\nHow to Find Us:\nCheck in at 12:30 at the barn 
 behind the Raritan Inn. Park in the grass lot that is next to the Rari
 tan Inn.\nhttp://www.raritaninn.com/\n\nFor more information visit htt
 p://njyp.org/events/volunteer-fundraiser-setup
DTSTART;TZID=America/New_York:20100523T123000
DTEND;TZID=America/New_York:20100523T153000
CATEGORIES:"morris county", "hunterdon county", community
LOCATION:Raritan Inn
WEBSITE:
URL:
CONTACT:
ORGANIZER;CN="Brian and Mike":http://njyp.org/profile/BrianMike
ATTACH;FMTTYPE="image/jpeg":http://storage.ning.com/topology/rest/1.0/
 file/get/1088613945?profile=original
ATTENDEE;ROLE=REQ-PARTICIPANT;PARTSTAT=ACCEPTED;RSVP=TRUE;CN="Yvonne Z
 arnitz":http://njyp.org/profile/YvonneZarnitz
ATTENDEE;ROLE=REQ-PARTICIPANT;PARTSTAT=ACCEPTED;RSVP=TRUE;CN=Adam:http
 ://njyp.org/profile/Adam
ATTENDEE;ROLE=REQ-PARTICIPANT;PARTSTAT=ACCEPTED;RSVP=TRUE;CN="Brian Ge
 niton":http://njyp.org/profile/BrianGeniton
ATTENDEE;ROLE=REQ-PARTICIPANT;PARTSTAT=ACCEPTED;RSVP=TRUE;CN=Alessandr
 a:http://njyp.org/profile/AlessandraDeCicco
ATTENDEE;ROLE=REQ-PARTICIPANT;PARTSTAT=ACCEPTED;RSVP=TRUE;CN="Jenny Ma
 rie":http://njyp.org/profile/JennyMarie82
ATTENDEE;ROLE=REQ-PARTICIPANT;PARTSTAT=TENTATIVE;RSVP=TRUE;CN="Rhandi 
 L":http://njyp.org/profile/RhandiL
ATTENDEE;ROLE=REQ-PARTICIPANT;PARTSTAT=TENTATIVE;RSVP=TRUE;CN=Erin:htt
 p://njyp.org/profile/ErinSullivan
ATTENDEE;ROLE=REQ-PARTICIPANT;PARTSTAT=TENTATIVE;RSVP=TRUE;CN=Monika:h
 ttp://njyp.org/profile/MonikaSymms
ATTENDEE;ROLE=REQ-PARTICIPANT;PARTSTAT=TENTATIVE;RSVP=TRUE;CN="John K.
 ":http://njyp.org/profile/skiandpilot
ATTENDEE;ROLE=REQ-PARTICIPANT;PARTSTAT=TENTATIVE;RSVP=TRUE;CN="Kristin
  Kopec":http://njyp.org/profile/KristinKopec
ATTENDEE;ROLE=REQ-PARTICIPANT;PARTSTAT=TENTATIVE;RSVP=TRUE;CN="Lauren 
 Seabrooks":http://njyp.org/profile/LaurenSeabrooks
ATTENDEE;ROLE=REQ-PARTICIPANT;PARTSTAT=TENTATIVE;RSVP=TRUE;CN="Amanda 
 Elizabeth Arena":http://njyp.org/profile/AmandaElizabethArena
ATTENDEE;ROLE=REQ-PARTICIPANT;PARTSTAT=TENTATIVE;RSVP=TRUE;CN=Jennie:h
 ttp://njyp.org/profile/junglebunnie
ATTENDEE;ROLE=REQ-PARTICIPANT;PARTSTAT=TENTATIVE;RSVP=TRUE;CN="Doug Be
 man":http://njyp.org/profile/DougBeman
ATTENDEE;ROLE=REQ-PARTICIPANT;PARTSTAT=TENTATIVE;RSVP=TRUE;CN="Christi
 na Hage":http://njyp.org/profile/ChristinaHage
END:VEVENT
END:VCALENDAR
