BEGIN:VCALENDAR
PRODID:NingEventWidget-v1
VERSION:2.0
METHOD:PUBLISH
BEGIN:VTIMEZONE
TZID:America/New_York
X-LIC-LOCATION:America/New_York
BEGIN:DAYLIGHT
TZOFFSETFROM:-0500
TZOFFSETTO:-0400
TZNAME:EDT
DTSTART:19700308T020000
RRULE:FREQ=YEARLY;BYMONTH=3;BYDAY=2SU
END:DAYLIGHT
BEGIN:STANDARD
TZOFFSETFROM:-0400
TZOFFSETTO:-0500
TZNAME:EST
DTSTART:19701101T020000
RRULE:FREQ=YEARLY;BYMONTH=11;BYDAY=1SU
END:STANDARD
END:VTIMEZONE
BEGIN:VEVENT
UID:2938326:Event:157741
DTSTAMP:20260420T004137Z
SUMMARY:Volunteer: GreenFest
DESCRIPTION:Help us help them!  We need 10 volunteers to work at the 
 Garden State Greenfest.  As a team you will be assisting the bartende
 rs during the Jersey Pour, http://www.gardenstategreenfest.com/jerseyp
 our.html.  You will bring out more ice and alcohol when it is needed,
  remove the empties, bus the tables, etc.  The atmosphere will be fun
 , fun, fun and you will be helping to promote organic and local beers 
 and wines!Who Can Attend:This is a MEMBER ONLY volunteering event.  P
 lease make sure you pay your dues before you sign up.How to Attend:Sig
 ning up to volunteer is a little different than normal so PLEASE READ 
 carefully!1. Download this form, Volunteer%20Application.pdf2. Where i
 s says \"How did you find out about GS GreenFest\" answer \"New Jersey
  Young Professionals\".3. Under \"Volunteer Positions your Prefer\" wr
 ite in \"Jersey Pour\".4. Select Mar 19 and then write in 4-645pm.5. E
 mail or Fax the application back as per the instructions.Training:Ther
 e will be a training session on Thursday, March 17 at 6:30pm.  If you
  cannot make it then email volunteer@planethuggerevents.com.What to We
 ar:You'll get a t-shirt to wear so please also dress in a nice pair of
  jeans or khakis.  Wear comfortable shoes but NOT sneakers.More infor
 mation such as wear to park, where to go the day of, etc will be provi
 ded to  those who submit the applications.  RSVPing for this event w
 ill NOT save your spot, only sending in the application will save your
  spot.\n\nFor more information visit http://njyp.org/events/volunteer-
 greenfest
DTSTART;TZID=America/New_York:20110319T160000
DTEND;TZID=America/New_York:20110319T184500
CATEGORIES:"union county", community, members
LOCATION:Kean University - STEM Building (Across from the Harwood Aren
 a/Gym)
WEBSITE:http://www.gardenstategreenfest.com/
URL:http://www.gardenstategreenfest.com/
CONTACT:
ORGANIZER;CN="Brian and Mike":http://njyp.org/profile/BrianMike
ATTACH;FMTTYPE="image/jpeg":http://storage.ning.com/topology/rest/1.0/
 file/get/1088686535?profile=original
ATTENDEE;ROLE=REQ-PARTICIPANT;PARTSTAT=ACCEPTED;RSVP=TRUE;CN="Shannon 
 C":http://njyp.org/profile/ShannonC
ATTENDEE;ROLE=REQ-PARTICIPANT;PARTSTAT=ACCEPTED;RSVP=TRUE;CN=d:http://
 njyp.org/profile/d
ATTENDEE;ROLE=REQ-PARTICIPANT;PARTSTAT=ACCEPTED;RSVP=TRUE;CN=Jun:http:
 //njyp.org/profile/Jun
ATTENDEE;ROLE=REQ-PARTICIPANT;PARTSTAT=ACCEPTED;RSVP=TRUE;CN=Arielle:h
 ttp://njyp.org/profile/Arielle
ATTENDEE;ROLE=REQ-PARTICIPANT;PARTSTAT=ACCEPTED;RSVP=TRUE;CN="AnnMarie
  Gervasio":http://njyp.org/profile/AnnMarieGervasio
ATTENDEE;ROLE=REQ-PARTICIPANT;PARTSTAT=ACCEPTED;RSVP=TRUE;CN="Janelle 
 C.":http://njyp.org/profile/Janelle113
ATTENDEE;ROLE=REQ-PARTICIPANT;PARTSTAT=ACCEPTED;RSVP=TRUE;CN="Brian an
 d Mike":http://njyp.org/profile/BrianMike
ATTENDEE;ROLE=REQ-PARTICIPANT;PARTSTAT=TENTATIVE;RSVP=TRUE;CN=Meredith
 :http://njyp.org/profile/MeredithC
ATTENDEE;ROLE=REQ-PARTICIPANT;PARTSTAT=TENTATIVE;RSVP=TRUE;CN=Millie:h
 ttp://njyp.org/profile/Millie
END:VEVENT
END:VCALENDAR
