BEGIN:VCALENDAR
PRODID:NingEventWidget-v1
VERSION:2.0
METHOD:PUBLISH
BEGIN:VTIMEZONE
TZID:America/New_York
X-LIC-LOCATION:America/New_York
BEGIN:DAYLIGHT
TZOFFSETFROM:-0500
TZOFFSETTO:-0400
TZNAME:EDT
DTSTART:19700308T020000
RRULE:FREQ=YEARLY;BYMONTH=3;BYDAY=2SU
END:DAYLIGHT
BEGIN:STANDARD
TZOFFSETFROM:-0400
TZOFFSETTO:-0500
TZNAME:EST
DTSTART:19701101T020000
RRULE:FREQ=YEARLY;BYMONTH=11;BYDAY=1SU
END:STANDARD
END:VTIMEZONE
BEGIN:VEVENT
UID:2938326:Event:96992
DTSTAMP:20260420T105535Z
SUMMARY:Volunteer: Habitat for Humanity
DESCRIPTION:Woo hoo, our first Coastal Habitat for Humanity event is o
 n the calendar! Join us for this private volunteering event that is JU
 ST for the members of NJYP. Together we will be working build a home i
 n Asbury Park. There will be 2 shifts and we need 30 volunteers in all
  so please register and spread the word about this great giving back o
 pportunity.\n\n\n\nDeposits:\nBecause they are relying on us we are as
 king that all volunteers put down a FULLY REFUNDABLE DEPOSIT of $10.22
 . The $10.22 will be returned to all who attend the event. Cancellatio
 ns will be accepted up until noon on the day before the volunteering e
 vent.\n\nSchedule:\nWe are going to break the workday up into 2 shifts
 . If you want to stay all day please sign up for both shifts by puttin
 g a deposit down twice.\nShift A 8:30am - 12pm\nShift B 12:30pm – 4p
 m\n\nWho Should Attend:\nAnyone who is 21-39 years old.\n\nWhat to Bri
 ng:\n* Your favorite hammer, saw, or other tool (not required).\n* Dre
 ss appropriately for working outdoors and wear sturdy shoes, hats, and
  bring sunscreen/insect repellent. Work gloves and safety glasses are 
 recommended, as is a cooler with water or other beverages and a bagged
  lunch/snack.\n\nREQUIRED to Volunteer:\nFirst time Coastal Habitat vo
 lunteers should go online to, www.coastalhabitat.org and under the GET
  INVOLVED link, they should Sign Up to Volunteer and note at the botto
 m of the form that they are part of the NJ YOUNG PROFESSIONALS group. 
 Under that same link, they should print out, complete and turn in on t
 he day of your event, the Medical Information and the Waiver of Liabil
 ity forms.\n\nDonations:\nHabitat is asking that each individual volun
 teer bring a voluntary $100 contribution to help us offset constructio
 n expenses. It will be a tax deductible donation.\nDon’t have $100? 
 Ask each of your Facebook friends to donate $1 or find sponsors at wor
 k/home. $100 can be quick and easy to raise.\n\nHow to Find Us:\nLet s
 taff know you are volunteering with NJYP. We are the only volunteers s
 chedule for that day.\n\nDirections:\nhttp://www.coastalhabitat.org/pr
 ojects/home_builds_current.html\n\nFor more information visit http://n
 jyp.org/events/volunteer-habitat-for-humanity
DTSTART;TZID=America/New_York:20100925T083000
DTEND;TZID=America/New_York:20100925T160000
CATEGORIES:"monmouth county", community
LOCATION:New Home Construction Site
WEBSITE:http://www.coastalhabitat.org/projects/home_builds_current.htm
 l
URL:http://www.coastalhabitat.org/projects/home_builds_current.html
CONTACT:
ORGANIZER;CN="Brian and Mike":http://njyp.org/profile/BrianMike
ATTACH;FMTTYPE="image/jpeg":http://storage.ning.com/topology/rest/1.0/
 file/get/1088642468?profile=original
ATTENDEE;ROLE=REQ-PARTICIPANT;PARTSTAT=ACCEPTED;RSVP=TRUE;CN=kelly:htt
 p://njyp.org/profile/kelly241
ATTENDEE;ROLE=REQ-PARTICIPANT;PARTSTAT=ACCEPTED;RSVP=TRUE;CN="Amanda W
 isniewski":http://njyp.org/profile/AmandaWisniewski
ATTENDEE;ROLE=REQ-PARTICIPANT;PARTSTAT=ACCEPTED;RSVP=TRUE;CN="Tricia M
 cAleer":http://njyp.org/profile/TriciaMcAleer
ATTENDEE;ROLE=REQ-PARTICIPANT;PARTSTAT=ACCEPTED;RSVP=TRUE;CN=Maggie:ht
 tp://njyp.org/profile/Maggie980
ATTENDEE;ROLE=REQ-PARTICIPANT;PARTSTAT=ACCEPTED;RSVP=TRUE;CN=nicole:ht
 tp://njyp.org/profile/nicoleromano
ATTENDEE;ROLE=REQ-PARTICIPANT;PARTSTAT=ACCEPTED;RSVP=TRUE;CN=Amanda:ht
 tp://njyp.org/profile/Amanda758
ATTENDEE;ROLE=REQ-PARTICIPANT;PARTSTAT=ACCEPTED;RSVP=TRUE;CN=Eric:http
 ://njyp.org/profile/Eric939
ATTENDEE;ROLE=REQ-PARTICIPANT;PARTSTAT=ACCEPTED;RSVP=TRUE;CN="Brian Ge
 niton":http://njyp.org/profile/BrianGeniton
ATTENDEE;ROLE=REQ-PARTICIPANT;PARTSTAT=TENTATIVE;RSVP=TRUE;CN="Mark Gr
 aham":http://njyp.org/profile/MarkGraham
ATTENDEE;ROLE=REQ-PARTICIPANT;PARTSTAT=TENTATIVE;RSVP=TRUE;CN="Dennis 
 Lee":http://njyp.org/profile/leeden
ATTENDEE;ROLE=REQ-PARTICIPANT;PARTSTAT=TENTATIVE;RSVP=TRUE;CN="Jeffrey
  Gates":http://njyp.org/profile/JeffreyGates
ATTENDEE;ROLE=REQ-PARTICIPANT;PARTSTAT=TENTATIVE;RSVP=TRUE;CN=Anna:htt
 p://njyp.org/profile/Anna678
ATTENDEE;ROLE=REQ-PARTICIPANT;PARTSTAT=TENTATIVE;RSVP=TRUE;CN=Marisa:h
 ttp://njyp.org/profile/MarisaA
ATTENDEE;ROLE=REQ-PARTICIPANT;PARTSTAT=TENTATIVE;RSVP=TRUE;CN=Jennifer
 :http://njyp.org/profile/JenniferGates
ATTENDEE;ROLE=REQ-PARTICIPANT;PARTSTAT=TENTATIVE;RSVP=TRUE;CN=Erin:htt
 p://njyp.org/profile/ErinSullivan
ATTENDEE;ROLE=REQ-PARTICIPANT;PARTSTAT=TENTATIVE;RSVP=TRUE;CN=Maimi:ht
 tp://njyp.org/profile/Maimi
ATTENDEE;ROLE=REQ-PARTICIPANT;PARTSTAT=TENTATIVE;RSVP=TRUE;CN=d:http:/
 /njyp.org/profile/d
ATTENDEE;ROLE=REQ-PARTICIPANT;PARTSTAT=TENTATIVE;RSVP=TRUE;CN="Neelima
  Choudary":http://njyp.org/profile/NeelimaChoudary
ATTENDEE;ROLE=REQ-PARTICIPANT;PARTSTAT=TENTATIVE;RSVP=TRUE;CN=Laavanya
 :http://njyp.org/profile/LaavanyaPasupuleti
END:VEVENT
END:VCALENDAR
