BEGIN:VCALENDAR
PRODID:NingEventWidget-v1
VERSION:2.0
METHOD:PUBLISH
BEGIN:VTIMEZONE
TZID:America/New_York
X-LIC-LOCATION:America/New_York
BEGIN:DAYLIGHT
TZOFFSETFROM:-0500
TZOFFSETTO:-0400
TZNAME:EDT
DTSTART:19700308T020000
RRULE:FREQ=YEARLY;BYMONTH=3;BYDAY=2SU
END:DAYLIGHT
BEGIN:STANDARD
TZOFFSETFROM:-0400
TZOFFSETTO:-0500
TZNAME:EST
DTSTART:19701101T020000
RRULE:FREQ=YEARLY;BYMONTH=11;BYDAY=1SU
END:STANDARD
END:VTIMEZONE
BEGIN:VEVENT
UID:2938326:Event:353520
DTSTAMP:20260420T021810Z
SUMMARY:Volunteer: Meadowlands Area Heart Walk
DESCRIPTION:AHA|ASA is looking for volunteers for the 1st Annual Meado
 wlands Area Heart Walk with registration, passing out water, cheering 
 on walkers, supervising tents, passing out food, clean-up and other th
 ings throughout the morning. \nAnyone that wishes to fundraise and pa
 rticipate in the walk in addition to volunteering/instead of volunteer
 ing is welcome!\n\nWho Can Attend:\nAnyone can volunteer.\n\nWhat to W
 ear/Bring:\nA red shirt  & shorts/pants (comfortable casual!) and sne
 akers\n\nHow To Register:\nContact Heidi Schmidt, Special Events Manag
 er at 609.223.3771 or Heidi.Schmidt@heart.org\n\nHow to Find The Group
 :\nThis will not be an NJYP only event.  There will be tents set up o
 n the grass in front of the parking lot: go to the tent and ask for He
 idi.\n\n\nFor more information visit http://njyp.org/events/volunteer-
 meadowlands-area-heart-walk
DTSTART;TZID=America/New_York:20120624T070000
DTEND;TZID=America/New_York:20120624T120000
CATEGORIES:community, "bergen county"
LOCATION:Medieval Times
WEBSITE:http://www.Meadowlandsheartwalk.org
URL:http://www.Meadowlandsheartwalk.org
CONTACT:
ORGANIZER;CN=Admin:http://njyp.org/profile/Admin
ATTACH;FMTTYPE="image/jpeg":http://storage.ning.com/topology/rest/1.0/
 file/get/1088788623?profile=original
ATTENDEE;ROLE=REQ-PARTICIPANT;PARTSTAT=ACCEPTED;RSVP=TRUE;CN=Franco:ht
 tp://njyp.org/profile/Franco
ATTENDEE;ROLE=REQ-PARTICIPANT;PARTSTAT=ACCEPTED;RSVP=TRUE;CN=Admin:htt
 p://njyp.org/profile/Admin
ATTENDEE;ROLE=REQ-PARTICIPANT;PARTSTAT=TENTATIVE;RSVP=TRUE;CN=Monica:h
 ttp://njyp.org/profile/Monica421
ATTENDEE;ROLE=REQ-PARTICIPANT;PARTSTAT=TENTATIVE;RSVP=TRUE;CN=Janene:h
 ttp://njyp.org/profile/Janene
END:VEVENT
END:VCALENDAR
