BEGIN:VCALENDAR
PRODID:NingEventWidget-v1
VERSION:2.0
METHOD:PUBLISH
BEGIN:VTIMEZONE
TZID:America/New_York
X-LIC-LOCATION:America/New_York
BEGIN:DAYLIGHT
TZOFFSETFROM:-0500
TZOFFSETTO:-0400
TZNAME:EDT
DTSTART:19700308T020000
RRULE:FREQ=YEARLY;BYMONTH=3;BYDAY=2SU
END:DAYLIGHT
BEGIN:STANDARD
TZOFFSETFROM:-0400
TZOFFSETTO:-0500
TZNAME:EST
DTSTART:19701101T020000
RRULE:FREQ=YEARLY;BYMONTH=11;BYDAY=1SU
END:STANDARD
END:VTIMEZONE
BEGIN:VEVENT
UID:2938326:Event:576382
DTSTAMP:20260419T223553Z
SUMMARY:Volunteer: Morning Farm Work
DESCRIPTION:Let's meet-up to help Grow it Green Morristown. As a tea
 m we will be tending to the farm by pulling weeds, planting vegetable
 s, deadheading flowers, and possibly building some things. After we bo
 nd over manual labor everyone will be encouraged to stick around the f
 arm stand to get some fresh produce and help support the organization.
   How to Attend: You MUST register via Eventbrite, https://www.eventbr
 ite.com/e/volunteer-morning-farm-work-registration-11895677291?ref=ebt
 n (RSVPing alone is not enough).  Max of 15 volunteers.\n\n Who: An
 yone 21 to 39 years old may attend. Please note we have limited Non-Me
 mber spots available.\n\nWhat to wear and bring: Gardening clothes - T
 hink shorts, pants, light shirts, hats.You may also want to bring a re
 usable water bottle, sunblock, and your favorite gardening gloves.\n A
 bout Grow it Green Morristown: \"Grow it Green Morristown's mission i
 s to build community through collaborative projects centered around fo
 od, education, and shared outdoor spaces.\"  Directions/Parking:\nMeet
  at The Urban Farm.  The Urban Farm is located behind the Lafayette L
 earning Center. http://www.growitgreenmorristown.org/#!urban-farm-at-
 lafayette/c1wfv\nTurn on to Hazel Street from Martin Luther King Ave. 
 Drive to the end of Hazel and you will see the school in front of you 
 - go all the way behind the building past the soccer field and you wil
 l see the farm gate.\n\nFor more information visit http://njyp.org/eve
 nts/volunteer-morning-farm-work
DTSTART;TZID=America/New_York:20140719T100000
DTEND;TZID=America/New_York:20140719T120000
CATEGORIES:"morris county", social, community
LOCATION:The Urban Farm (behind the Lafayette Learning Center)
WEBSITE:http://www.growitgreenmorristown.org/
URL:http://www.growitgreenmorristown.org/
CONTACT:
ORGANIZER;CN="Brian and Mike":http://njyp.org/profile/BrianMike
ATTACH;FMTTYPE="image/jpeg":http://storage.ning.com/topology/rest/1.0/
 file/get/1088950034?profile=original
ATTENDEE;ROLE=REQ-PARTICIPANT;PARTSTAT=ACCEPTED;RSVP=TRUE;CN=Jennie:ht
 tp://njyp.org/profile/junglebunnie
ATTENDEE;ROLE=REQ-PARTICIPANT;PARTSTAT=ACCEPTED;RSVP=TRUE;CN="Louis C.
  Hochman":http://njyp.org/profile/LouisCHochman
ATTENDEE;ROLE=REQ-PARTICIPANT;PARTSTAT=ACCEPTED;RSVP=TRUE;CN=Brian:htt
 p://njyp.org/profile/Brian549
ATTENDEE;ROLE=REQ-PARTICIPANT;PARTSTAT=ACCEPTED;RSVP=TRUE;CN=Tyler:htt
 p://njyp.org/profile/Tyler773
ATTENDEE;ROLE=REQ-PARTICIPANT;PARTSTAT=ACCEPTED;RSVP=TRUE;CN=Stephanie
 :http://njyp.org/profile/Stephanie364
ATTENDEE;ROLE=REQ-PARTICIPANT;PARTSTAT=ACCEPTED;RSVP=TRUE;CN="Allison 
 Froehlich":http://njyp.org/profile/AllisonFroehlich
ATTENDEE;ROLE=REQ-PARTICIPANT;PARTSTAT=ACCEPTED;RSVP=TRUE;CN="Brian an
 d Mike":http://njyp.org/profile/BrianMike
ATTENDEE;ROLE=REQ-PARTICIPANT;PARTSTAT=TENTATIVE;RSVP=TRUE;CN=Caela:ht
 tp://njyp.org/profile/Caela
ATTENDEE;ROLE=REQ-PARTICIPANT;PARTSTAT=TENTATIVE;RSVP=TRUE;CN="Deanna-
 Marie Norcross":http://njyp.org/profile/DeannaMarie
ATTENDEE;ROLE=REQ-PARTICIPANT;PARTSTAT=TENTATIVE;RSVP=TRUE;CN=Karim:ht
 tp://njyp.org/profile/Karim984
ATTENDEE;ROLE=REQ-PARTICIPANT;PARTSTAT=TENTATIVE;RSVP=TRUE;CN=Kaitlyn:
 http://njyp.org/profile/Kaitlyn390
ATTENDEE;ROLE=REQ-PARTICIPANT;PARTSTAT=TENTATIVE;RSVP=TRUE;CN="Jeffrey
  Gates":http://njyp.org/profile/JeffreyGates
ATTENDEE;ROLE=REQ-PARTICIPANT;PARTSTAT=TENTATIVE;RSVP=TRUE;CN=Jentora:
 http://njyp.org/profile/Jentora
END:VEVENT
END:VCALENDAR
