BEGIN:VCALENDAR
PRODID:NingEventWidget-v1
VERSION:2.0
METHOD:PUBLISH
BEGIN:VTIMEZONE
TZID:America/New_York
X-LIC-LOCATION:America/New_York
BEGIN:DAYLIGHT
TZOFFSETFROM:-0500
TZOFFSETTO:-0400
TZNAME:EDT
DTSTART:19700308T020000
RRULE:FREQ=YEARLY;BYMONTH=3;BYDAY=2SU
END:DAYLIGHT
BEGIN:STANDARD
TZOFFSETFROM:-0400
TZOFFSETTO:-0500
TZNAME:EST
DTSTART:19701101T020000
RRULE:FREQ=YEARLY;BYMONTH=11;BYDAY=1SU
END:STANDARD
END:VTIMEZONE
BEGIN:VEVENT
UID:2938326:Event:108928
DTSTAMP:20260420T023723Z
SUMMARY:Volunteer: New Eyes for the Needy
DESCRIPTION:NJYP will be joining Team Charity for this important group
 -based task. Together we will be sorting and classifying used eyeglass
 es. The eyeglasses are received from all over the country in packages.
  We will be opening the packages, notating and counting the items and 
 then sorting the glasses by classification (ie bifocal, progressive, a
 stigmatic, reading, children’s, safety, etc.). This will be an easy 
 yet important volunteering event that will allow us to chat while we w
 ork. Young Professionals Unite!\n\nRSVPing:\nIf you can attend please 
 RSVP to the right. We need to provide an accurate headcount so please 
 update your RSVP if you change your mind.\n\nWho Should Attend:\nAnyon
 e who is 21-39 years old.\n\nDirections:\nhttp://www.neweyesfortheneed
 y.org/utilities/contact.html\n\nHow to find the group:\nAsk for NJYP/T
 eam charity once you arrive.\n\nFor more information visit http://njyp
 .org/events/volunteer-new-eyes-for-the
DTSTART;TZID=America/New_York:20101120T110000
DTEND;TZID=America/New_York:20101120T130000
CATEGORIES:"essex county", community
LOCATION:New Eyes For The Needy
WEBSITE:http://www.neweyesfortheneedy.org/utilities/contact.html
URL:http://www.neweyesfortheneedy.org/utilities/contact.html
CONTACT:
ORGANIZER;CN="Brian and Mike":http://njyp.org/profile/BrianMike
ATTACH;FMTTYPE="image/jpeg":http://storage.ning.com/topology/rest/1.0/
 file/get/1088649125?profile=original
ATTENDEE;ROLE=REQ-PARTICIPANT;PARTSTAT=ACCEPTED;RSVP=TRUE;CN=Maricar:h
 ttp://njyp.org/profile/Maricar
ATTENDEE;ROLE=REQ-PARTICIPANT;PARTSTAT=ACCEPTED;RSVP=TRUE;CN=Ardavan:h
 ttp://njyp.org/profile/Ardavan
ATTENDEE;ROLE=REQ-PARTICIPANT;PARTSTAT=ACCEPTED;RSVP=TRUE;CN="Michael 
 R":http://njyp.org/profile/Rapscallion
ATTENDEE;ROLE=REQ-PARTICIPANT;PARTSTAT=ACCEPTED;RSVP=TRUE;CN=Julie:htt
 p://njyp.org/profile/Julie0705
ATTENDEE;ROLE=REQ-PARTICIPANT;PARTSTAT=ACCEPTED;RSVP=TRUE;CN=Tamara:ht
 tp://njyp.org/profile/Tamara227
ATTENDEE;ROLE=REQ-PARTICIPANT;PARTSTAT=ACCEPTED;RSVP=TRUE;CN="Nathan G
 reenhut":http://njyp.org/profile/NathanGreenhut
ATTENDEE;ROLE=REQ-PARTICIPANT;PARTSTAT=ACCEPTED;RSVP=TRUE;CN="Heather 
 O'Brien":http://njyp.org/profile/HeatherOBrien
ATTENDEE;ROLE=REQ-PARTICIPANT;PARTSTAT=ACCEPTED;RSVP=TRUE;CN=Paulyn:ht
 tp://njyp.org/profile/PLyn
ATTENDEE;ROLE=REQ-PARTICIPANT;PARTSTAT=ACCEPTED;RSVP=TRUE;CN="LaQuitea
  Vaughn":http://njyp.org/profile/LaQuiteaVaughn
ATTENDEE;ROLE=REQ-PARTICIPANT;PARTSTAT=ACCEPTED;RSVP=TRUE;CN="Brian Ge
 niton":http://njyp.org/profile/BrianGeniton
ATTENDEE;ROLE=REQ-PARTICIPANT;PARTSTAT=ACCEPTED;RSVP=TRUE;CN="Marisa N
 ogueira":http://njyp.org/profile/Marisa
ATTENDEE;ROLE=REQ-PARTICIPANT;PARTSTAT=ACCEPTED;RSVP=TRUE;CN="Brian an
 d Mike":http://njyp.org/profile/BrianMike
ATTENDEE;ROLE=REQ-PARTICIPANT;PARTSTAT=TENTATIVE;RSVP=TRUE;CN=Tyshawn:
 http://njyp.org/profile/Tyshawn
ATTENDEE;ROLE=REQ-PARTICIPANT;PARTSTAT=TENTATIVE;RSVP=TRUE;CN="Jay Rav
 al":http://njyp.org/profile/JayRaval
ATTENDEE;ROLE=REQ-PARTICIPANT;PARTSTAT=TENTATIVE;RSVP=TRUE;CN=Nicole:h
 ttp://njyp.org/profile/NicoleZ
ATTENDEE;ROLE=REQ-PARTICIPANT;PARTSTAT=TENTATIVE;RSVP=TRUE;CN=Luigina:
 http://njyp.org/profile/Luigina
ATTENDEE;ROLE=REQ-PARTICIPANT;PARTSTAT=TENTATIVE;RSVP=TRUE;CN=Minesh:h
 ttp://njyp.org/profile/Max
ATTENDEE;ROLE=REQ-PARTICIPANT;PARTSTAT=TENTATIVE;RSVP=TRUE;CN=Kimberly
 :http://njyp.org/profile/Kimberly35
ATTENDEE;ROLE=REQ-PARTICIPANT;PARTSTAT=TENTATIVE;RSVP=TRUE;CN=Carline:
 http://njyp.org/profile/Carline
ATTENDEE;ROLE=REQ-PARTICIPANT;PARTSTAT=TENTATIVE;RSVP=TRUE;CN=Teresa:h
 ttp://njyp.org/profile/Teresa
ATTENDEE;ROLE=REQ-PARTICIPANT;PARTSTAT=TENTATIVE;RSVP=TRUE;CN=Douglas:
 http://njyp.org/profile/Douglas657
ATTENDEE;ROLE=REQ-PARTICIPANT;PARTSTAT=TENTATIVE;RSVP=TRUE;CN=Shani:ht
 tp://njyp.org/profile/Shani
ATTENDEE;ROLE=REQ-PARTICIPANT;PARTSTAT=TENTATIVE;RSVP=TRUE;CN=MaryGrac
 e:http://njyp.org/profile/MaryGrace
ATTENDEE;ROLE=REQ-PARTICIPANT;PARTSTAT=TENTATIVE;RSVP=TRUE;CN=Missie:h
 ttp://njyp.org/profile/Missie
ATTENDEE;ROLE=REQ-PARTICIPANT;PARTSTAT=TENTATIVE;RSVP=TRUE;CN=Angeliqu
 e:http://njyp.org/profile/Angelique
ATTENDEE;ROLE=REQ-PARTICIPANT;PARTSTAT=TENTATIVE;RSVP=TRUE;CN=Preeti:h
 ttp://njyp.org/profile/Preeti
ATTENDEE;ROLE=REQ-PARTICIPANT;PARTSTAT=TENTATIVE;RSVP=TRUE;CN=Laavanya
 :http://njyp.org/profile/LaavanyaPasupuleti
ATTENDEE;ROLE=REQ-PARTICIPANT;PARTSTAT=TENTATIVE;RSVP=TRUE;CN=Heather:
 http://njyp.org/profile/Heather308
END:VEVENT
END:VCALENDAR
