BEGIN:VCALENDAR
PRODID:NingEventWidget-v1
VERSION:2.0
METHOD:PUBLISH
BEGIN:VTIMEZONE
TZID:America/New_York
X-LIC-LOCATION:America/New_York
BEGIN:DAYLIGHT
TZOFFSETFROM:-0500
TZOFFSETTO:-0400
TZNAME:EDT
DTSTART:19700308T020000
RRULE:FREQ=YEARLY;BYMONTH=3;BYDAY=2SU
END:DAYLIGHT
BEGIN:STANDARD
TZOFFSETFROM:-0400
TZOFFSETTO:-0500
TZNAME:EST
DTSTART:19701101T020000
RRULE:FREQ=YEARLY;BYMONTH=11;BYDAY=1SU
END:STANDARD
END:VTIMEZONE
BEGIN:VEVENT
UID:2938326:Event:14221
DTSTAMP:20260422T163507Z
SUMMARY:Volunteering: Blood Drive Help Needed
DESCRIPTION:We need MANY volunteers for our YP Blood Drive! Please rev
 iew the volunteer position descriptions below then click \"Put Down a 
 Deposit\". You can volunteer AND donate blood. Please just pick a bloo
 d donation time that is NOT during your volunteer shift.\n\nDeposits:\
 nBecause they are relying on us we are asking that all volunteers put 
 down a FULLY REFUNDABLE DEPOSIT of $10.44. The $10.44 will be returned
  to all who attend the event. Cancellations will be accepted up until 
 noon on the day before the volunteering event.\n\n\nRSVP (to the right
 ) and we will let you know when tix are almost gone, when prices are g
 oing up, if there are any changes, etc.\n\nSchedule:\nThere will be 2 
 volunteer shifts. If you want to stay all night please sign up for bot
 h shifts by putting a deposit down twice.\nShift A 4:45 to 7:30pm\nShi
 ft B 7:15 to 10:15pm\n\nWhat to wear:\nPlease try to wear a BLACK top 
 so that you stand out as a volunteer. Everyone will also get nanme tag
 s but wearing black will certainly help guests distinguish who you are
 .\n\nTASKS\n\nGreeters\nGreeters will be the first point of contact fo
 r our guests. We need friendly personable people here who will welcome
  the guests as they arrive and direct them to where they need to go ne
 xt. Greeters will also be creating name tags.\n\nRegistration Table\nT
 hose at registration will check people in and hand out the goodie bags
 .\n\nScheduler\nThe scheduler will work with the registration table an
 d will notify those on the back-end regarding who has arrived. This pe
 rson will have to walk back and forth between the two areas.\n\nGlass 
 Doors\nThese volunteers will re-welcome those that just donated back i
 nto the party room. They will thank them, check in with how they are f
 eeling, answer questions, etc. You need to have outstanding customer s
 ervice skills for this station.\n\nFloater\nThis person will fill in a
 ny gaps we may have and when there are no gaps they will mingle in the
  Mocktail Room making sure that everything is going smoothly.\n\nCante
 en\nCanteen volunteers are very important. Along with serving juice an
 d cookies these volunteers are going to keep a close eye on donors rig
 ht after they give blood. If there are any reactions, these volunteers
  have to be on their toes and get a nurse or a nurse manager ASAP. If 
 someone doesn’t feel well a lot of the time they don’t tell you, s
 o we have to use our judgment to say hey that girl looks pale, and go 
 over and ask her if she is ok, even if she says yes, sometimes we have
  to say, you know what, you don’t look so great, why don’t you com
 e and lay down.\n\nFor more information visit http://njyp.org/events/v
 olunteering-blood-drive-help
DTSTART;TZID=America/New_York:20090917T164500
DTEND;TZID=America/New_York:20090917T221500
CATEGORIES:"essex county", community
LOCATION:The Loft / Bobbie Brown Studio
WEBSITE:http://maps.google.com/maps?hl=en&ie=UTF8&cid=0,0,941802648724
 8197791&fb=1&split=1&gl=us&dq=bobbie+brown+studios+montclair&daddr=10+
 Lackawanna+Plz,+Montclair,+NJ+07042-3604&geocode=13675741849175963987,
 40.812315,-74.213791&ei=K-qGSq2cDqKltgeVm9znDA&z=16
URL:http://maps.google.com/maps?hl=en&ie=UTF8&cid=0,0,9418026487248197
 791&fb=1&split=1&gl=us&dq=bobbie+brown+studios+montclair&daddr=10+Lack
 awanna+Plz,+Montclair,+NJ+07042-3604&geocode=13675741849175963987,40.8
 12315,-74.213791&ei=K-qGSq2cDqKltgeVm9znDA&z=16
CONTACT:
ORGANIZER;CN="Brian and Mike":http://njyp.org/profile/BrianMike
ATTACH;FMTTYPE="image/jpeg":http://storage.ning.com/topology/rest/1.0/
 file/get/1088549973?profile=original
ATTENDEE;ROLE=REQ-PARTICIPANT;PARTSTAT=ACCEPTED;RSVP=TRUE;CN="Mairead 
 O'Sullivan":http://njyp.org/profile/MaireadOSullivan
ATTENDEE;ROLE=REQ-PARTICIPANT;PARTSTAT=ACCEPTED;RSVP=TRUE;CN=Elizabeth
 :http://njyp.org/profile/Quirky3
ATTENDEE;ROLE=REQ-PARTICIPANT;PARTSTAT=ACCEPTED;RSVP=TRUE;CN="Lynn Ada
 mo":http://njyp.org/profile/LynnAdamo
ATTENDEE;ROLE=REQ-PARTICIPANT;PARTSTAT=ACCEPTED;RSVP=TRUE;CN="Lydia Ba
 zikian":http://njyp.org/profile/LydiaBazikian
ATTENDEE;ROLE=REQ-PARTICIPANT;PARTSTAT=ACCEPTED;RSVP=TRUE;CN=Lisa:http
 ://njyp.org/profile/Lisa
ATTENDEE;ROLE=REQ-PARTICIPANT;PARTSTAT=ACCEPTED;RSVP=TRUE;CN=Jessica:h
 ttp://njyp.org/profile/JessicaNatalizio
ATTENDEE;ROLE=REQ-PARTICIPANT;PARTSTAT=ACCEPTED;RSVP=TRUE;CN="Bethany 
 Myers":http://njyp.org/profile/BethanyMyers
ATTENDEE;ROLE=REQ-PARTICIPANT;PARTSTAT=ACCEPTED;RSVP=TRUE;CN=tesh:http
 ://njyp.org/profile/t
ATTENDEE;ROLE=REQ-PARTICIPANT;PARTSTAT=ACCEPTED;RSVP=TRUE;CN="Brian an
 d Mike":http://njyp.org/profile/BrianMike
ATTENDEE;ROLE=REQ-PARTICIPANT;PARTSTAT=ACCEPTED;RSVP=TRUE;CN="Sarah K.
  Ober":http://njyp.org/profile/SarahKOber
ATTENDEE;ROLE=REQ-PARTICIPANT;PARTSTAT=ACCEPTED;RSVP=TRUE;CN="Maria T.
  Cruz":http://njyp.org/profile/MariaTCruz
ATTENDEE;ROLE=REQ-PARTICIPANT;PARTSTAT=ACCEPTED;RSVP=TRUE;CN="NIcole V
 innal":http://njyp.org/profile/NIcoleVinnal
END:VEVENT
END:VCALENDAR
