BEGIN:VCALENDAR
PRODID:NingEventWidget-v1
VERSION:2.0
METHOD:PUBLISH
BEGIN:VTIMEZONE
TZID:America/New_York
X-LIC-LOCATION:America/New_York
BEGIN:DAYLIGHT
TZOFFSETFROM:-0500
TZOFFSETTO:-0400
TZNAME:EDT
DTSTART:19700308T020000
RRULE:FREQ=YEARLY;BYMONTH=3;BYDAY=2SU
END:DAYLIGHT
BEGIN:STANDARD
TZOFFSETFROM:-0400
TZOFFSETTO:-0500
TZNAME:EST
DTSTART:19701101T020000
RRULE:FREQ=YEARLY;BYMONTH=11;BYDAY=1SU
END:STANDARD
END:VTIMEZONE
BEGIN:VEVENT
UID:2938326:Event:28050
DTSTAMP:20260420T121534Z
SUMMARY:Volunteering: Coat and Bag Check
DESCRIPTION:Habitat for Humanity needs your help once again! This time
  the members of NJYP will participate in HfHBC’s Holiday Coat and Pa
 ckage Check Booth at the Shops of Riverside (aka Riverside Square Mall
 ). Mall customers will stop by the booth to check their coats and/or p
 ackages while they shop. We will collect donations from them and hold 
 on to their belongings. This is a great way to help out a great organi
 zation while hanging with Young Professionals!\n\nDress Code:\nHabitat
  for Humanity will supply all volunteers with a t-shirt. T-shirts will
  be at the booth once you arrive. You must wear the t-shirt and black 
 or khaki pants. Please no jeans.\n\nClick this green button to view th
 e shifts\n\nRSVP (to the right) and we will let you know when tix are 
 almost gone, when prices are going up, if there are any changes, etc.\
 n\nDeposits:\nBecause they are relying on us we are asking that all vo
 lunteers put down a FULLY REFUNDABLE DEPOSIT of $10.10. The $10.10 wil
 l be returned to all who attend the event. Cancellations (with refunds
 ) will be accepted up until noon on the day before the volunteering ev
 ent.\n\nLast Minute Cancellations:\nShould you need to cancel please s
 ee \"The Coat and Baggage Guidelines\" (this document will be sent to 
 you by 12.11.09). You MUST contact one of the numbers listed in advanc
 e in order to find coverage for your shift\n\nWaiver\nPlease bring the
  attached waiver with you, http://njyperks.com/ccwaiver.pdf.\n\nFindin
 g the Booth:\nEnter the Mall Entrance to the left of The Cheese Cake F
 actory. The Habitat Booth will be located near the Brooks Bothers stor
 e.\n\nFor more information visit http://njyp.org/events/volunteering-c
 oat-and-bag
DTSTART;TZID=America/New_York:20091212T104500
DTEND;TZID=America/New_York:20091212T200000
CATEGORIES:"bergen county", community
LOCATION:Shops at Riverside
WEBSITE:http://www.simon.com/mall/default.aspx?ID=1228
URL:http://www.simon.com/mall/default.aspx?ID=1228
CONTACT:
ORGANIZER;CN="Brian and Mike":http://njyp.org/profile/BrianMike
ATTACH;FMTTYPE="image/jpeg":http://storage.ning.com/topology/rest/1.0/
 file/get/1088572939?profile=original
ATTENDEE;ROLE=REQ-PARTICIPANT;PARTSTAT=ACCEPTED;RSVP=TRUE;CN="Sarah Mi
 ddleton":http://njyp.org/profile/SarahM
ATTENDEE;ROLE=REQ-PARTICIPANT;PARTSTAT=ACCEPTED;RSVP=TRUE;CN="Erin V":
 http://njyp.org/profile/ErinV
ATTENDEE;ROLE=REQ-PARTICIPANT;PARTSTAT=ACCEPTED;RSVP=TRUE;CN="Melanie 
 Hazim":http://njyp.org/profile/MelanieHazim
ATTENDEE;ROLE=REQ-PARTICIPANT;PARTSTAT=ACCEPTED;RSVP=TRUE;CN="Beth Man
 del":http://njyp.org/profile/BethMandel
ATTENDEE;ROLE=REQ-PARTICIPANT;PARTSTAT=ACCEPTED;RSVP=TRUE;CN="Dennis L
 ee":http://njyp.org/profile/leeden
ATTENDEE;ROLE=REQ-PARTICIPANT;PARTSTAT=TENTATIVE;RSVP=TRUE;CN=Lizzie:h
 ttp://njyp.org/profile/ElizabethKuhns
ATTENDEE;ROLE=REQ-PARTICIPANT;PARTSTAT=TENTATIVE;RSVP=TRUE;CN="Kristin
  Kopec":http://njyp.org/profile/KristinKopec
ATTENDEE;ROLE=REQ-PARTICIPANT;PARTSTAT=TENTATIVE;RSVP=TRUE;CN="Nikki H
 art":http://njyp.org/profile/DomenicaHart
ATTENDEE;ROLE=REQ-PARTICIPANT;PARTSTAT=TENTATIVE;RSVP=TRUE;CN=Ofelia:h
 ttp://njyp.org/profile/Ofelia
END:VEVENT
END:VCALENDAR
