BEGIN:VCALENDAR
PRODID:NingEventWidget-v1
VERSION:2.0
METHOD:PUBLISH
BEGIN:VTIMEZONE
TZID:America/New_York
X-LIC-LOCATION:America/New_York
BEGIN:DAYLIGHT
TZOFFSETFROM:-0500
TZOFFSETTO:-0400
TZNAME:EDT
DTSTART:19700308T020000
RRULE:FREQ=YEARLY;BYMONTH=3;BYDAY=2SU
END:DAYLIGHT
BEGIN:STANDARD
TZOFFSETFROM:-0400
TZOFFSETTO:-0500
TZNAME:EST
DTSTART:19701101T020000
RRULE:FREQ=YEARLY;BYMONTH=11;BYDAY=1SU
END:STANDARD
END:VTIMEZONE
BEGIN:VEVENT
UID:2938326:Event:28570
DTSTAMP:20260421T033849Z
SUMMARY:Volunteering: Food Bank
DESCRIPTION:Let's meet-up to help the Food Bank of NJ. For this partic
 ular event we will be working in the Food Bank warehouse; sorting and 
 re-packing food items, sorting children's clothes for underprivileged 
 kids or re-stocking school supplies in the Kids' Division. The exact a
 ctivity will be determined the day of the event.\n\nWhat to BRING:\nFo
 od supplies are at an all time low. All volunteers are asked to bring 
 ONE food item.\nCanned tuna, Canned soups, Mac & cheese, Peanut butter
  in plastic jars, Spaghetti sauce, Pasta, Cereal, Canned vegetables\n\
 nWhat to wear:\nThink comfortable. Jeans, t-shirt and sweatshirt are f
 ine. Dress in layers in the winter. No open-toed shoes, sandals or fli
 p flops. Please wear shoes or sneakers. No good jewelry. Please leave 
 all purses, backpacks, I-Pods and other valuables locked in your cars.
  Bring work gloves if you desire.\n\nSchedule:\n11:25 Meet-up with the
  volunteer host.\n11:30 to 1:30 Volunteer Activity\n1:30 Meet for lunc
 h at Tiffany’s (optional)\n\n\nRSVP (to the right) and we will let y
 ou know when tix are almost gone, when prices are going up, if there a
 re any changes, etc.\n\nDeposits:\nBecause the Food Bank is relying on
  us we are asking that all volunteers put down a FULLY REFUNDABLE DEPO
 SIT of $8.99. The $8.99 will be returned to all who attend the event. 
 Cancellations will be accepted (and deposits refunded) up until noon o
 n the day before.\n\nPost-Event Meet-up (optional):\nTiffany's Restaur
 ant\n1637 Vauxhall Road\nUnion, NJ 07083\nPlease bring directions with
  you.\n\nAbout the Community Food Bank of NJ:\n\"Using our own fleet o
 f trucks, we pick up large-scale donations from hundreds of corporatio
 ns in New Jersey. The FoodBank is the state's largest provider of dona
 ted groceries to charities, shipping up to 24 million pounds of food a
 nnually to 1,500 food pantries, soup kitchens, homeless shelters and o
 ther programs in 18 counties. The FoodBank also distributes government
 -donated U.S. Agriculture Department food product.\"\n\nParking:\nPark
 ing is available along the length of the building; please do not block
  loading docks of the buildings across the street from the Foodbank. Y
 our cars may be towed!\n\nFor more information visit http://njyp.org/e
 vents/volunteering-food-bank-1
DTSTART;TZID=America/New_York:20100109T113000
DTEND;TZID=America/New_York:20100109T133000
CATEGORIES:"union county", community
LOCATION:Community Food Bank
WEBSITE:
URL:
CONTACT:
ORGANIZER;CN="Brian and Mike":http://njyp.org/profile/BrianMike
ATTACH;FMTTYPE="image/jpeg":http://storage.ning.com/topology/rest/1.0/
 file/get/1088576790?profile=original
ATTENDEE;ROLE=REQ-PARTICIPANT;PARTSTAT=ACCEPTED;RSVP=TRUE;CN="Steve Ro
 berts":http://njyp.org/profile/SteveRoberts
ATTENDEE;ROLE=REQ-PARTICIPANT;PARTSTAT=ACCEPTED;RSVP=TRUE;CN="Cassie K
 uo":http://njyp.org/profile/CassieKuo
ATTENDEE;ROLE=REQ-PARTICIPANT;PARTSTAT=ACCEPTED;RSVP=TRUE;CN="Chris Ko
 ":http://njyp.org/profile/ChrisKo
ATTENDEE;ROLE=REQ-PARTICIPANT;PARTSTAT=ACCEPTED;RSVP=TRUE;CN="Dave P":
 http://njyp.org/profile/DaveP
ATTENDEE;ROLE=REQ-PARTICIPANT;PARTSTAT=ACCEPTED;RSVP=TRUE;CN=Laavanya:
 http://njyp.org/profile/LaavanyaPasupuleti
ATTENDEE;ROLE=REQ-PARTICIPANT;PARTSTAT=ACCEPTED;RSVP=TRUE;CN=Paul:http
 ://njyp.org/profile/MTown
ATTENDEE;ROLE=REQ-PARTICIPANT;PARTSTAT=ACCEPTED;RSVP=TRUE;CN="Sarah Tr
 emallo":http://njyp.org/profile/SarahTremallo
ATTENDEE;ROLE=REQ-PARTICIPANT;PARTSTAT=ACCEPTED;RSVP=TRUE;CN="Sarah Mi
 ddleton":http://njyp.org/profile/SarahM
ATTENDEE;ROLE=REQ-PARTICIPANT;PARTSTAT=ACCEPTED;RSVP=TRUE;CN="Erin V":
 http://njyp.org/profile/ErinV
ATTENDEE;ROLE=REQ-PARTICIPANT;PARTSTAT=ACCEPTED;RSVP=TRUE;CN="Ahmed Ud
 din":http://njyp.org/profile/AhmedUddin
ATTENDEE;ROLE=REQ-PARTICIPANT;PARTSTAT=ACCEPTED;RSVP=TRUE;CN="Niraj Ch
 habra":http://njyp.org/profile/nirajchhabra
ATTENDEE;ROLE=REQ-PARTICIPANT;PARTSTAT=ACCEPTED;RSVP=TRUE;CN="Kate Dol
 l":http://njyp.org/profile/KateDoll
ATTENDEE;ROLE=REQ-PARTICIPANT;PARTSTAT=ACCEPTED;RSVP=TRUE;CN=Deborah:h
 ttp://njyp.org/profile/Deborah
ATTENDEE;ROLE=REQ-PARTICIPANT;PARTSTAT=ACCEPTED;RSVP=TRUE;CN="Alix Fos
 ter":http://njyp.org/profile/AlixFoster
ATTENDEE;ROLE=REQ-PARTICIPANT;PARTSTAT=ACCEPTED;RSVP=TRUE;CN="Marisa N
 ogueira":http://njyp.org/profile/Marisa
ATTENDEE;ROLE=REQ-PARTICIPANT;PARTSTAT=ACCEPTED;RSVP=TRUE;CN="Devika B
 akhshi":http://njyp.org/profile/Devika
ATTENDEE;ROLE=REQ-PARTICIPANT;PARTSTAT=ACCEPTED;RSVP=TRUE;CN="Stephen 
 Tavares":http://njyp.org/profile/StephenTavares
ATTENDEE;ROLE=REQ-PARTICIPANT;PARTSTAT=ACCEPTED;RSVP=TRUE;CN=Gio:http:
 //njyp.org/profile/GianfrancoPuggioni
ATTENDEE;ROLE=REQ-PARTICIPANT;PARTSTAT=ACCEPTED;RSVP=TRUE;CN="Brian an
 d Mike":http://njyp.org/profile/BrianMike
ATTENDEE;ROLE=REQ-PARTICIPANT;PARTSTAT=TENTATIVE;RSVP=TRUE;CN=NorthNJD
 avid:http://njyp.org/profile/NorthNJDavid
ATTENDEE;ROLE=REQ-PARTICIPANT;PARTSTAT=TENTATIVE;RSVP=TRUE;CN="Michell
 e Summer":http://njyp.org/profile/Michelle494
ATTENDEE;ROLE=REQ-PARTICIPANT;PARTSTAT=TENTATIVE;RSVP=TRUE;CN=d:http:/
 /njyp.org/profile/d
ATTENDEE;ROLE=REQ-PARTICIPANT;PARTSTAT=TENTATIVE;RSVP=TRUE;CN=Nita:htt
 p://njyp.org/profile/NitaSilimkhan
ATTENDEE;ROLE=REQ-PARTICIPANT;PARTSTAT=TENTATIVE;RSVP=TRUE;CN=Amari:ht
 tp://njyp.org/profile/AmariVerastegui
ATTENDEE;ROLE=REQ-PARTICIPANT;PARTSTAT=TENTATIVE;RSVP=TRUE;CN=TJ:http:
 //njyp.org/profile/TJ
ATTENDEE;ROLE=REQ-PARTICIPANT;PARTSTAT=TENTATIVE;RSVP=TRUE;CN=Meredith
 :http://njyp.org/profile/MeredithC
ATTENDEE;ROLE=REQ-PARTICIPANT;PARTSTAT=TENTATIVE;RSVP=TRUE;CN="Stephan
 ie Coutros":http://njyp.org/profile/StephanieCoutros
ATTENDEE;ROLE=REQ-PARTICIPANT;PARTSTAT=TENTATIVE;RSVP=TRUE;CN="rachel 
 irene":http://njyp.org/profile/rachel_irene
ATTENDEE;ROLE=REQ-PARTICIPANT;PARTSTAT=TENTATIVE;RSVP=TRUE;CN="Adrienn
 e A. Desch":http://njyp.org/profile/AdrienneADesch
ATTENDEE;ROLE=REQ-PARTICIPANT;PARTSTAT=TENTATIVE;RSVP=TRUE;CN="Rachel 
 S":http://njyp.org/profile/Rs
ATTENDEE;ROLE=REQ-PARTICIPANT;PARTSTAT=TENTATIVE;RSVP=TRUE;CN="Kristin
  Kopec":http://njyp.org/profile/KristinKopec
END:VEVENT
END:VCALENDAR
