BEGIN:VCALENDAR
PRODID:NingEventWidget-v1
VERSION:2.0
METHOD:PUBLISH
BEGIN:VTIMEZONE
TZID:America/New_York
X-LIC-LOCATION:America/New_York
BEGIN:DAYLIGHT
TZOFFSETFROM:-0500
TZOFFSETTO:-0400
TZNAME:EDT
DTSTART:19700308T020000
RRULE:FREQ=YEARLY;BYMONTH=3;BYDAY=2SU
END:DAYLIGHT
BEGIN:STANDARD
TZOFFSETFROM:-0400
TZOFFSETTO:-0500
TZNAME:EST
DTSTART:19701101T020000
RRULE:FREQ=YEARLY;BYMONTH=11;BYDAY=1SU
END:STANDARD
END:VTIMEZONE
BEGIN:VEVENT
UID:2938326:Event:885
DTSTAMP:20260420T042938Z
SUMMARY:Volunteering: Food Bank
DESCRIPTION:Let's meet-up with Team Charity to help the Food Bank of N
 J. For this particular event we will be working in the Food Bank wareh
 ouse; sorting and re-packing food items, sorting children's clothes fo
 r underprivileged kids or re-stocking school supplies in the Kids' Div
 ision. The exact activity will be determined the day of the event.\n\n
 \nRSVP (to the right) and we will let you know when tix are almost gon
 e, when prices are going up, if there are any changes, etc.\n\nWhat to
  BRING:\nFood supplies are at an all time low. All volunteers are aske
 d to bring ONE food item.\nMost needed is Canned tuna, Peanut butter i
 n plastic jars, Cereal, Hearty soups with protein, Canned meals such a
 s chili, stew or spaghetti o's.\n\nWhat to wear:\nThink comfortable. J
 eans, t-shirt and sweatshirt are fine. Dress in layers. No open-toed s
 hoes, sandals or flip flops. Please wear shoes or sneakers. No good je
 welry. Please leave all purses, backpacks, I-Pods and other valuables 
 locked in your cars.\n\nSchedule:\n8:45 Meet-up with the volunteer hos
 t.\n9-11:30 Volunteer Activity\n11:45 Meet for lunch at Tiffany’s (o
 ptional)\n\nDeposits:\nBecause the Food Bank is relying on us we are a
 sking that all volunteers put down a FULLY REFUNDABLE DEPOSIT of $8.99
 . The $8.99 will be returned to all who attend the event. Cancellation
 s will be accepted up until noon on the day before.\n\nPost-Event Meet
 -up (optional):\nTiffany's Restaurant\n1637 Vauxhall Road\nUnion, NJ 0
 7083\n\nAbout the Community Food Bank of NJ:\n\"Using our own fleet of
  trucks, we pick up large-scale donations from hundreds of corporation
 s in New Jersey. The FoodBank is the state's largest provider of donat
 ed groceries to charities, shipping up to 24 million pounds of food an
 nually to 1,500 food pantries, soup kitchens, homeless shelters and ot
 her programs in 18 counties. The FoodBank also distributes government-
 donated U.S. Agriculture Department food product.\"\n\nFor more inform
 ation visit http://njyp.org/events/volunteering-food-bank
DTSTART;TZID=America/New_York:20090613T084500
DTEND;TZID=America/New_York:20090613T113000
CATEGORIES:"union county", community
LOCATION:Community Food Bank
WEBSITE:http://maps.google.com/maps?hl=en&sourceid=navclient-ff&rlz=1B
 3GGGL_enUS323US323&q=31+Evans+Terminal+Hillside,+NJ&um=1&ie=UTF-8&spli
 t=0&gl=us&ei=wnoJSpDIGoOGtgeXy4DaCw&sa=X&oi=geocode_result&ct=title&re
 snum=1
URL:http://maps.google.com/maps?hl=en&sourceid=navclient-ff&rlz=1B3GGG
 L_enUS323US323&q=31+Evans+Terminal+Hillside,+NJ&um=1&ie=UTF-8&split=0&
 gl=us&ei=wnoJSpDIGoOGtgeXy4DaCw&sa=X&oi=geocode_result&ct=title&resnum
 =1
CONTACT:
ORGANIZER;CN="Brian and Mike":http://njyp.org/profile/BrianMike
ATTACH;FMTTYPE="image/jpeg":http://storage.ning.com/topology/rest/1.0/
 file/get/1088520056?profile=original
ATTENDEE;ROLE=REQ-PARTICIPANT;PARTSTAT=ACCEPTED;RSVP=TRUE;CN="Justin L
 ejava":http://njyp.org/profile/JustinLejava
ATTENDEE;ROLE=REQ-PARTICIPANT;PARTSTAT=ACCEPTED;RSVP=TRUE;CN=Frank:htt
 p://njyp.org/profile/Frank
ATTENDEE;ROLE=REQ-PARTICIPANT;PARTSTAT=ACCEPTED;RSVP=TRUE;CN=Eridania:
 http://njyp.org/profile/Eridania
ATTENDEE;ROLE=REQ-PARTICIPANT;PARTSTAT=ACCEPTED;RSVP=TRUE;CN="Niraj Ch
 habra":http://njyp.org/profile/nirajchhabra
ATTENDEE;ROLE=REQ-PARTICIPANT;PARTSTAT=ACCEPTED;RSVP=TRUE;CN=Laurel:ht
 tp://njyp.org/profile/Laurel
ATTENDEE;ROLE=REQ-PARTICIPANT;PARTSTAT=ACCEPTED;RSVP=TRUE;CN=tesh:http
 ://njyp.org/profile/t
ATTENDEE;ROLE=REQ-PARTICIPANT;PARTSTAT=ACCEPTED;RSVP=TRUE;CN=NorthNJDa
 vid:http://njyp.org/profile/NorthNJDavid
ATTENDEE;ROLE=REQ-PARTICIPANT;PARTSTAT=ACCEPTED;RSVP=TRUE;CN="Nicole F
 ulmino":http://njyp.org/profile/NicoleFulmino
ATTENDEE;ROLE=REQ-PARTICIPANT;PARTSTAT=ACCEPTED;RSVP=TRUE;CN="Brian an
 d Mike":http://njyp.org/profile/BrianMike
ATTENDEE;ROLE=REQ-PARTICIPANT;PARTSTAT=TENTATIVE;RSVP=TRUE;CN=Jon:http
 ://njyp.org/profile/Jon
ATTENDEE;ROLE=REQ-PARTICIPANT;PARTSTAT=TENTATIVE;RSVP=TRUE;CN="Vijay R
 aman":http://njyp.org/profile/VijayRaman
ATTENDEE;ROLE=REQ-PARTICIPANT;PARTSTAT=TENTATIVE;RSVP=TRUE;CN="Craig W
 all":http://njyp.org/profile/CraigWall
ATTENDEE;ROLE=REQ-PARTICIPANT;PARTSTAT=TENTATIVE;RSVP=TRUE;CN="Karl  A
  Kraus":http://njyp.org/profile/KarlAKraus
ATTENDEE;ROLE=REQ-PARTICIPANT;PARTSTAT=TENTATIVE;RSVP=TRUE;CN="Serena 
 Valdes":http://njyp.org/profile/SerenaValdes
ATTENDEE;ROLE=REQ-PARTICIPANT;PARTSTAT=TENTATIVE;RSVP=TRUE;CN="Michael
  Roselle":http://njyp.org/profile/MichaelRoselle
ATTENDEE;ROLE=REQ-PARTICIPANT;PARTSTAT=TENTATIVE;RSVP=TRUE;CN="Peter E
 skow":http://njyp.org/profile/PeterEskow
END:VEVENT
END:VCALENDAR
