BEGIN:VCALENDAR
PRODID:NingEventWidget-v1
VERSION:2.0
METHOD:PUBLISH
BEGIN:VTIMEZONE
TZID:America/New_York
X-LIC-LOCATION:America/New_York
BEGIN:DAYLIGHT
TZOFFSETFROM:-0500
TZOFFSETTO:-0400
TZNAME:EDT
DTSTART:19700308T020000
RRULE:FREQ=YEARLY;BYMONTH=3;BYDAY=2SU
END:DAYLIGHT
BEGIN:STANDARD
TZOFFSETFROM:-0400
TZOFFSETTO:-0500
TZNAME:EST
DTSTART:19701101T020000
RRULE:FREQ=YEARLY;BYMONTH=11;BYDAY=1SU
END:STANDARD
END:VTIMEZONE
BEGIN:VEVENT
UID:2938326:Event:3079
DTSTAMP:20260420T042754Z
SUMMARY:Volunteering: GardenWorks (Daytime Event)
DESCRIPTION:CANCELED due to lack of interest. So glad everyone found j
 obs!!!!!!!!!!!!\n\nWe are offering this DAYTIME event to anyone who is
  unemployed or on furlough. Bond, connect, and network while working i
 n one of Morris County’s beautiful gardens. The NJYP group of volunt
 eers will specifically be working in the Spring Garden/Azalea Trail on
  projects such as cutting back, removal of briars, raking, and weeding
 .\n\n\nRSVP (to the right) and we will let you know when tix are almos
 t gone, when prices are going up, if there are any changes, etc.\n\nDe
 posits:\nBecause they are relying on us we are asking that all volunte
 ers put down a FULLY REFUNDABLE DEPOSIT of $7.17. The $7.17 will be re
 turned to all who attend the event. Cancellations will be accepted up 
 until noon on the day before the event.\n\nAbout GardenWorks:\nThe Mor
 ris County Park Commission offers Group Gardening opportunities throug
 h our Horticulture Volunteer Program, GardenWorks. The objective is to
  introduce our community to the beautiful public gardens within Morris
  County.\n\nWhat to Wear/Bring:\nComfortable long-sleeved shirts and l
 ong pants.\nNo open-toe shoes, please.\nPerfume is not advised.\nPleas
 e bring gloves.\nBring water and a snack.\nBring a lunch; we will be t
 aking a break.\n\nDirections:\nhttp://njyperks.com/Gardenworks.htm\nRi
 ght across from the library\n\nFinding the Group:\nLet staff know you 
 are volutneering with NJYP. You should be meeting ALL the daily volunt
 eers at the main directory, which is located in the main parking area\
 n\nFor more information visit http://njyp.org/events/volunteering-gard
 enworks
DTSTART;TZID=America/New_York:20090618T090000
DTEND;TZID=America/New_York:20090618T143000
CATEGORIES:"morris county", community
LOCATION:Frelinghuysen Arboretum
WEBSITE:http://njyperks.com/Gardenworks.htm
URL:http://njyperks.com/Gardenworks.htm
CONTACT:
ORGANIZER;CN="Brian and Mike":http://njyp.org/profile/BrianMike
ATTACH;FMTTYPE="image/jpeg":http://storage.ning.com/topology/rest/1.0/
 file/get/1088526176?profile=original
ATTENDEE;ROLE=REQ-PARTICIPANT;PARTSTAT=ACCEPTED;RSVP=TRUE;CN="Brian an
 d Mike":http://njyp.org/profile/BrianMike
ATTENDEE;ROLE=REQ-PARTICIPANT;PARTSTAT=TENTATIVE;RSVP=TRUE;CN="Olivia 
 Morgado":http://njyp.org/profile/OliviaMorgado
ATTENDEE;ROLE=REQ-PARTICIPANT;PARTSTAT=TENTATIVE;RSVP=TRUE;CN="Doug Be
 man":http://njyp.org/profile/DougBeman
END:VEVENT
END:VCALENDAR
