BEGIN:VCALENDAR
PRODID:NingEventWidget-v1
VERSION:2.0
METHOD:PUBLISH
BEGIN:VTIMEZONE
TZID:America/New_York
X-LIC-LOCATION:America/New_York
BEGIN:DAYLIGHT
TZOFFSETFROM:-0500
TZOFFSETTO:-0400
TZNAME:EDT
DTSTART:19700308T020000
RRULE:FREQ=YEARLY;BYMONTH=3;BYDAY=2SU
END:DAYLIGHT
BEGIN:STANDARD
TZOFFSETFROM:-0400
TZOFFSETTO:-0500
TZNAME:EST
DTSTART:19701101T020000
RRULE:FREQ=YEARLY;BYMONTH=11;BYDAY=1SU
END:STANDARD
END:VTIMEZONE
BEGIN:VEVENT
UID:2938326:Event:882
DTSTAMP:20260420T042753Z
SUMMARY:Volunteering: Giving Gardens
DESCRIPTION:This event is perfect for the garden lover in all of us! W
 e will be meeting up to plant, weed, spread wood chips, stake tomatoes
 , or cultivate. It all depends on how far along the gardens are by our
  volunteer date. And the best part? The program we are supporting give
 s all the produce to New Jersey’s needy. So, if you are up for a few
  hours of hard but rewarding work outdoors please REGISTER (sorry, no 
 party crashers).\n\n\nRSVP (to the right) and we will let you know whe
 n tix are almost gone, when prices are going up, if there are any chan
 ges, etc.\n\nDeposits:\nBecause they are relying on us we are asking t
 hat all volunteers put down a FULLY REFUNDABLE DEPOSIT of $6.99. The $
 6.99 will be returned to all who attend the event. Cancellations will 
 be accepted up until noon on the day before the event.\n\nWhat to brin
 g:\nWATER (required), sun block, hat, garden gloves, snacks.\nBring a 
 bagged lunch and at 1pm we can find a shady tree to eat under before h
 eading home.\nWear clothes that can get dirty.\n\nAbout the Giving Gar
 dens Project:\nhttp://www.wfafnj.org/ggp.html\nThe purpose of the (GGP
 ) Giving Gardeners Project is to produce vegetables, dedicated to feed
  the poor and needy, which will be distributed through agencies such a
 s SHIP, Food Bank Network of Somerset County, Star Fish, soup kitchens
 , Second Harvest, and other appropriate agencies. The gardens are grow
 n on plots donated by Wagner Farms Arboretum Foundation (WFAF) and ten
 ded entirely by volunteers.\n\nHost Needed:\nElizabeth will be hosting
 .\n\nWeather:\nYES, heavy rain will cancel this event but drizzle migh
 t not. RSVP and select a ticket to stay informed.\n\nHow to find the g
 roup:\nLet staff know you are volunteering with NJYP.\n\nParking/Direc
 tions:\nhttp://www.wfafnj.org/directions.html\nPark near the silo.\n\n
 For more information visit http://njyp.org/events/volunteering-giving-
 gardens
DTSTART;TZID=America/New_York:20090614T100000
DTEND;TZID=America/New_York:20090614T130000
CATEGORIES:"somerset county", community
LOCATION:Wagner Farm Arboretum
WEBSITE:http://www.wfafnj.org/directions.html
URL:http://www.wfafnj.org/directions.html
CONTACT:
ORGANIZER;CN="Brian and Mike":http://njyp.org/profile/BrianMike
ATTACH;FMTTYPE="image/jpeg":http://storage.ning.com/topology/rest/1.0/
 file/get/1088519848?profile=original
ATTENDEE;ROLE=REQ-PARTICIPANT;PARTSTAT=ACCEPTED;RSVP=TRUE;CN="Jay Rava
 l":http://njyp.org/profile/JayRaval
ATTENDEE;ROLE=REQ-PARTICIPANT;PARTSTAT=ACCEPTED;RSVP=TRUE;CN="Angie Me
 yer":http://njyp.org/profile/AngieMeyer
ATTENDEE;ROLE=REQ-PARTICIPANT;PARTSTAT=ACCEPTED;RSVP=TRUE;CN=Anita:htt
 p://njyp.org/profile/Anita
ATTENDEE;ROLE=REQ-PARTICIPANT;PARTSTAT=TENTATIVE;RSVP=TRUE;CN="Doug Be
 man":http://njyp.org/profile/DougBeman
ATTENDEE;ROLE=REQ-PARTICIPANT;PARTSTAT=TENTATIVE;RSVP=TRUE;CN="Lauren 
 Montemarano":http://njyp.org/profile/LaurenMontemarano
ATTENDEE;ROLE=REQ-PARTICIPANT;PARTSTAT=TENTATIVE;RSVP=TRUE;CN="Cindy B
 ":http://njyp.org/profile/CindyBale
ATTENDEE;ROLE=REQ-PARTICIPANT;PARTSTAT=TENTATIVE;RSVP=TRUE;CN="Alix Fo
 ster":http://njyp.org/profile/AlixFoster
ATTENDEE;ROLE=REQ-PARTICIPANT;PARTSTAT=TENTATIVE;RSVP=TRUE;CN=Dar:http
 ://njyp.org/profile/Darlene
ATTENDEE;ROLE=REQ-PARTICIPANT;PARTSTAT=TENTATIVE;RSVP=TRUE;CN="Brian a
 nd Mike":http://njyp.org/profile/BrianMike
ATTENDEE;ROLE=REQ-PARTICIPANT;PARTSTAT=TENTATIVE;RSVP=TRUE;CN="Peter E
 skow":http://njyp.org/profile/PeterEskow
END:VEVENT
END:VCALENDAR
