BEGIN:VCALENDAR
PRODID:NingEventWidget-v1
VERSION:2.0
METHOD:PUBLISH
BEGIN:VTIMEZONE
TZID:America/New_York
X-LIC-LOCATION:America/New_York
BEGIN:DAYLIGHT
TZOFFSETFROM:-0500
TZOFFSETTO:-0400
TZNAME:EDT
DTSTART:19700308T020000
RRULE:FREQ=YEARLY;BYMONTH=3;BYDAY=2SU
END:DAYLIGHT
BEGIN:STANDARD
TZOFFSETFROM:-0400
TZOFFSETTO:-0500
TZNAME:EST
DTSTART:19701101T020000
RRULE:FREQ=YEARLY;BYMONTH=11;BYDAY=1SU
END:STANDARD
END:VTIMEZONE
BEGIN:VEVENT
UID:2938326:Event:13201
DTSTAMP:20260422T053605Z
SUMMARY:Volunteering: Habitat for Humanity
DESCRIPTION:Must Read:\nDue to permit issues we will be working on a d
 ifferent project on 11.7.09.\n\nOld Project: Zoe's House in Garfield (
 canceled)\n\nNew Project: Condo Conversion in Waldwick! 101 Wyckoff Av
 e in Waldwick, NJ 07463\n\nBackground:\nHabitat for Humanity of Bergen
  County will be converting the 5,100 sq ft home in to 4 condos for aff
 ordable housing in Bergen County. There will be two 2 bedrooms, one 3 
 bedroom and one 4 bedroom condos.\n-----------------------------------
 ----------------------------\nIf you cannot attend please let me know 
 ASAP so I can refund your Paypal deposit. Info@NJYP.org\n\n\nWoo hoo, 
 our first Habitat for Humanity event is on the calendar! Join us for t
 his private volunteering event that is JUST for the members of NJYP. T
 ogether we will be working to refurbish a building in Garfield for Zoe
 ’s Place, http://zoesplaceinc.com/home.asp. There will be 2 shifts a
 nd we need 24 volunteers in all so please register and spread the word
  about this great giving back opportunity.\n\nDeposits:\nBecause they 
 are relying on us we are asking that all volunteers put down a FULLY R
 EFUNDABLE DEPOSIT of $10.22. The $10.22 will be returned to all who at
 tend the event. Cancellations will be accepted up until noon on the da
 y before the volunteering event.\n\n\nRSVP (to the right) and we will 
 let you know when the event is almost full.\n\nSchedule:\nWe are going
  to break the workday up into 2 shifts. If you want to stay all day pl
 ease sign up for both shifts by putting a deposit down twice.\nShift A
  8am - 12pm\nShift B 12:30pm – 4pm\n\nWho Should Attend:\nAnyone who
  is 21-39 years old.\n\nWaiver:\nPlease bring the attached Waiver with
  you, the day of the event.\n\nNJYP Host:\nJenny is going to host Shif
 t A.\nTJ will host Shift B.\n\nWorksite Information:\n• Please be pr
 ompt.\n• In case of inclement weather, please contact the site super
 visor before reporting for work. Bob Preis – cell phone #201-707-588
 1\n• Water is provided by Habitat for Humanity of Bergen County, how
 ever, volunteers are responsible for bringing their own lunch and snac
 ks.\n• Volunteers will have a morning break at 10:00am and lunch at 
 12:00pm.\n• Wearing a baseball cap can help keep dust out of your fa
 ce.\n• Safety items such as dust masks and goggles will be provided 
 by Habitat Bergen.\n• Tools will be provided for volunteers by the S
 ite Supervisor\n• Please wear sturdy footwear. No flip-flops, sandal
 s or open-toed shoes!\n• Please wear clothing that you don’t mind 
 getting dirty!\n• At the beginning of each shift, the Site Superviso
 r will advise all volunteers of the safety protocols for the day. If y
 ou have any questions or feel uncomfortable with a task at any time du
 ring your volunteering, go directly to the Site Supervisor.\n• Drugs
  and alcohol are not permitted on the work site.\n• Be prepared to g
 o home dirty but with a deep feeling of accomplishment.\n\nAbout the B
 ergen Habitat:\nhttp://www.habitatbergen.org/volunteer/index.php\n\nHo
 w to Find Us:\nLet staff know you are volunteering with NJYP. We are t
 he only volunteers schedule for that day.\n\nFor more information visi
 t http://njyp.org/events/volunteering-habitat-for
DTSTART;TZID=America/New_York:20091107T080000
DTEND;TZID=America/New_York:20091107T160000
CATEGORIES:"bergen county", community
LOCATION:Habitat Site- Condo Conversion of a House
WEBSITE:
URL:
CONTACT:
ORGANIZER;CN="Brian and Mike":http://njyp.org/profile/BrianMike
ATTACH;FMTTYPE="image/jpeg":http://storage.ning.com/topology/rest/1.0/
 file/get/1088552353?profile=original
ATTENDEE;ROLE=REQ-PARTICIPANT;PARTSTAT=ACCEPTED;RSVP=TRUE;CN="Dave P":
 http://njyp.org/profile/DaveP
ATTENDEE;ROLE=REQ-PARTICIPANT;PARTSTAT=ACCEPTED;RSVP=TRUE;CN="Beth Man
 del":http://njyp.org/profile/BethMandel
ATTENDEE;ROLE=REQ-PARTICIPANT;PARTSTAT=ACCEPTED;RSVP=TRUE;CN="Ilya Gan
 ov":http://njyp.org/profile/IlyaGanov
ATTENDEE;ROLE=REQ-PARTICIPANT;PARTSTAT=ACCEPTED;RSVP=TRUE;CN=Kevin:htt
 p://njyp.org/profile/Kevin
ATTENDEE;ROLE=REQ-PARTICIPANT;PARTSTAT=ACCEPTED;RSVP=TRUE;CN=Rebecca:h
 ttp://njyp.org/profile/Rebecca
ATTENDEE;ROLE=REQ-PARTICIPANT;PARTSTAT=ACCEPTED;RSVP=TRUE;CN="Dennis L
 ee":http://njyp.org/profile/leeden
ATTENDEE;ROLE=REQ-PARTICIPANT;PARTSTAT=ACCEPTED;RSVP=TRUE;CN="Melanie 
 Hazim":http://njyp.org/profile/MelanieHazim
ATTENDEE;ROLE=REQ-PARTICIPANT;PARTSTAT=ACCEPTED;RSVP=TRUE;CN="Bethany 
 Myers":http://njyp.org/profile/BethanyMyers
ATTENDEE;ROLE=REQ-PARTICIPANT;PARTSTAT=ACCEPTED;RSVP=TRUE;CN="Lynn Ada
 mo":http://njyp.org/profile/LynnAdamo
ATTENDEE;ROLE=REQ-PARTICIPANT;PARTSTAT=ACCEPTED;RSVP=TRUE;CN="Tara Bur
 ns":http://njyp.org/profile/TaraBurns
ATTENDEE;ROLE=REQ-PARTICIPANT;PARTSTAT=ACCEPTED;RSVP=TRUE;CN=TJ:http:/
 /njyp.org/profile/TJ
ATTENDEE;ROLE=REQ-PARTICIPANT;PARTSTAT=ACCEPTED;RSVP=TRUE;CN="Niraj Ch
 habra":http://njyp.org/profile/nirajchhabra
ATTENDEE;ROLE=REQ-PARTICIPANT;PARTSTAT=ACCEPTED;RSVP=TRUE;CN="Nikki Ha
 rt":http://njyp.org/profile/DomenicaHart
ATTENDEE;ROLE=REQ-PARTICIPANT;PARTSTAT=ACCEPTED;RSVP=TRUE;CN="Doug Bem
 an":http://njyp.org/profile/DougBeman
ATTENDEE;ROLE=REQ-PARTICIPANT;PARTSTAT=ACCEPTED;RSVP=TRUE;CN=Antonella
 :http://njyp.org/profile/Antonella
ATTENDEE;ROLE=REQ-PARTICIPANT;PARTSTAT=ACCEPTED;RSVP=TRUE;CN="Kristen 
 Helmstetter":http://njyp.org/profile/KristenHelmstetter
ATTENDEE;ROLE=REQ-PARTICIPANT;PARTSTAT=ACCEPTED;RSVP=TRUE;CN=Shirley:h
 ttp://njyp.org/profile/shirleyzuniga
ATTENDEE;ROLE=REQ-PARTICIPANT;PARTSTAT=ACCEPTED;RSVP=TRUE;CN="Sarah K.
  Ober":http://njyp.org/profile/SarahKOber
ATTENDEE;ROLE=REQ-PARTICIPANT;PARTSTAT=ACCEPTED;RSVP=TRUE;CN="Katherin
 e Cuartas":http://njyp.org/profile/KatherineCuartas
ATTENDEE;ROLE=REQ-PARTICIPANT;PARTSTAT=ACCEPTED;RSVP=TRUE;CN=Frank:htt
 p://njyp.org/profile/Frank
ATTENDEE;ROLE=REQ-PARTICIPANT;PARTSTAT=ACCEPTED;RSVP=TRUE;CN=Paulyn:ht
 tp://njyp.org/profile/PLyn
ATTENDEE;ROLE=REQ-PARTICIPANT;PARTSTAT=ACCEPTED;RSVP=TRUE;CN="Alix Fos
 ter":http://njyp.org/profile/AlixFoster
ATTENDEE;ROLE=REQ-PARTICIPANT;PARTSTAT=ACCEPTED;RSVP=TRUE;CN="rachel i
 rene":http://njyp.org/profile/rachel_irene
ATTENDEE;ROLE=REQ-PARTICIPANT;PARTSTAT=ACCEPTED;RSVP=TRUE;CN="Adrienne
  A. Desch":http://njyp.org/profile/AdrienneADesch
ATTENDEE;ROLE=REQ-PARTICIPANT;PARTSTAT=ACCEPTED;RSVP=TRUE;CN=Jessica:h
 ttp://njyp.org/profile/JessicaCon
ATTENDEE;ROLE=REQ-PARTICIPANT;PARTSTAT=ACCEPTED;RSVP=TRUE;CN="Brian an
 d Mike":http://njyp.org/profile/BrianMike
ATTENDEE;ROLE=REQ-PARTICIPANT;PARTSTAT=ACCEPTED;RSVP=TRUE;CN=Laurel:ht
 tp://njyp.org/profile/Laurel
ATTENDEE;ROLE=REQ-PARTICIPANT;PARTSTAT=ACCEPTED;RSVP=TRUE;CN="Shafali 
 Dua":http://njyp.org/profile/ShafaliDua
ATTENDEE;ROLE=REQ-PARTICIPANT;PARTSTAT=TENTATIVE;RSVP=TRUE;CN=akhtar:h
 ttp://njyp.org/profile/nasser
ATTENDEE;ROLE=REQ-PARTICIPANT;PARTSTAT=TENTATIVE;RSVP=TRUE;CN="John K.
 ":http://njyp.org/profile/skiandpilot
ATTENDEE;ROLE=REQ-PARTICIPANT;PARTSTAT=TENTATIVE;RSVP=TRUE;CN="Charlot
 te Strauss":http://njyp.org/profile/CharlotteStrauss
ATTENDEE;ROLE=REQ-PARTICIPANT;PARTSTAT=TENTATIVE;RSVP=TRUE;CN="Kendall
  R.":http://njyp.org/profile/KR
ATTENDEE;ROLE=REQ-PARTICIPANT;PARTSTAT=TENTATIVE;RSVP=TRUE;CN="Melanie
  Wische":http://njyp.org/profile/MelanieWische
ATTENDEE;ROLE=REQ-PARTICIPANT;PARTSTAT=TENTATIVE;RSVP=TRUE;CN="Jeffrey
  Key":http://njyp.org/profile/JeffreyKey
ATTENDEE;ROLE=REQ-PARTICIPANT;PARTSTAT=TENTATIVE;RSVP=TRUE;CN=Frank:ht
 tp://njyp.org/profile/FrankAbreu
ATTENDEE;ROLE=REQ-PARTICIPANT;PARTSTAT=TENTATIVE;RSVP=TRUE;CN="Kevin H
 aughwout":http://njyp.org/profile/KevinHaughwout
ATTENDEE;ROLE=REQ-PARTICIPANT;PARTSTAT=TENTATIVE;RSVP=TRUE;CN="Shannon
  C":http://njyp.org/profile/ShannonC
ATTENDEE;ROLE=REQ-PARTICIPANT;PARTSTAT=TENTATIVE;RSVP=TRUE;CN=Samantha
 :http://njyp.org/profile/Samantha
ATTENDEE;ROLE=REQ-PARTICIPANT;PARTSTAT=TENTATIVE;RSVP=TRUE;CN=Karen:ht
 tp://njyp.org/profile/Karen
ATTENDEE;ROLE=REQ-PARTICIPANT;PARTSTAT=TENTATIVE;RSVP=TRUE;CN=Zhenya:h
 ttp://njyp.org/profile/ZhenyaKucsma
ATTENDEE;ROLE=REQ-PARTICIPANT;PARTSTAT=TENTATIVE;RSVP=TRUE;CN="Janet S
 tevens":http://njyp.org/profile/JanetStevens
ATTENDEE;ROLE=REQ-PARTICIPANT;PARTSTAT=TENTATIVE;RSVP=TRUE;CN="Gina La
 vagna":http://njyp.org/profile/GinaLavagna
ATTENDEE;ROLE=REQ-PARTICIPANT;PARTSTAT=TENTATIVE;RSVP=TRUE;CN=Elizabet
 h:http://njyp.org/profile/Quirky3
ATTENDEE;ROLE=REQ-PARTICIPANT;PARTSTAT=TENTATIVE;RSVP=TRUE;CN=HippieBr
 ownGirl:http://njyp.org/profile/HippieBrownGirl
ATTENDEE;ROLE=REQ-PARTICIPANT;PARTSTAT=TENTATIVE;RSVP=TRUE;CN=NorthNJD
 avid:http://njyp.org/profile/NorthNJDavid
ATTENDEE;ROLE=REQ-PARTICIPANT;PARTSTAT=TENTATIVE;RSVP=TRUE;CN=Susan:ht
 tp://njyp.org/profile/Susan
ATTENDEE;ROLE=REQ-PARTICIPANT;PARTSTAT=TENTATIVE;RSVP=TRUE;CN="Kelly J
 ones":http://njyp.org/profile/KellyJones
ATTENDEE;ROLE=REQ-PARTICIPANT;PARTSTAT=TENTATIVE;RSVP=TRUE;CN="NIcole 
 Vinnal":http://njyp.org/profile/NIcoleVinnal
ATTENDEE;ROLE=REQ-PARTICIPANT;PARTSTAT=TENTATIVE;RSVP=TRUE;CN="Jennife
 r L. Campbell":http://njyp.org/profile/JenniferLCampbell
ATTENDEE;ROLE=REQ-PARTICIPANT;PARTSTAT=TENTATIVE;RSVP=TRUE;CN="Heather
  C":http://njyp.org/profile/HeatherComero
ATTENDEE;ROLE=REQ-PARTICIPANT;PARTSTAT=TENTATIVE;RSVP=TRUE;CN="Andrew 
 Vasta":http://njyp.org/profile/AndrewVasta
END:VEVENT
END:VCALENDAR
