BEGIN:VCALENDAR
PRODID:NingEventWidget-v1
VERSION:2.0
METHOD:PUBLISH
BEGIN:VTIMEZONE
TZID:America/New_York
X-LIC-LOCATION:America/New_York
BEGIN:DAYLIGHT
TZOFFSETFROM:-0500
TZOFFSETTO:-0400
TZNAME:EDT
DTSTART:19700308T020000
RRULE:FREQ=YEARLY;BYMONTH=3;BYDAY=2SU
END:DAYLIGHT
BEGIN:STANDARD
TZOFFSETFROM:-0400
TZOFFSETTO:-0500
TZNAME:EST
DTSTART:19701101T020000
RRULE:FREQ=YEARLY;BYMONTH=11;BYDAY=1SU
END:STANDARD
END:VTIMEZONE
BEGIN:VEVENT
UID:2938326:Event:605
DTSTAMP:20260420T042620Z
SUMMARY:Volunteering: Soup Kitchen
DESCRIPTION:\nRSVP (to the right) and we will let you know when tix ar
 e almost gone, when prices are going up, if there are any changes, etc
 .\n\nPlease do not \"crash\" this event. If you did not put down a dep
 osit, please do not attend due to safety/space issues. \"Party crasher
 s\" will not be upgraded to Premium Membership and may be asked to lea
 ve if there is no space.\n========\n\nLet's meet-up and volunteer two 
 hours of our day to help the Hoboken Shelter in their Soup Kitchen. As
  a group we will assist with preparing and serving meals for their gue
 sts in need.\n\nWhat to bring:\nBring 1 paper product (a box of plates
 , a bag of napkins, paper cups, etc)\n\nWhat to wear:\nOverall wear co
 mfortable clothing, jeans, T-shirt, etc\nPlease dress appropriately. D
 o not wear inappropriate clothing.\nPlease wear long pants, no shorts.
 \nNo loose clothing.\nNO OPEN-TOED SHOES instead wear non-slippery sho
 es.\nBring a hat if you do not want to wear a hairnet.\nPlease leave a
 ll purses, backpacks, I-Pods and other valuables locked in your cars.\
 n\nSchedule:\n5:45 Meet-up with the NJYP volunteer host.\n6:00 to 8:00
  Volunteer Activity\n\nDeposits:\nBecause the Soup Kitchen is relying 
 on us we are asking that all volunteers put down a FULLY REFUNDABLE DE
 POSIT of $12.99. The $12.99 will be returned to all who attend the eve
 nt. Cancellations will be accepted up until noon on the day before the
  event.\n\nAbout the Shelter:\n\"The mission of The Hoboken Shelter is
  to provide a safe haven to homelessness adult men and women. The shel
 ter is owned and operated by Communities of Faith for Housing, Inc., a
  non-profit housing corporation made up of ministers and laity from ho
 uses of worship, as well as several Hoboken community leaders.\nThe sh
 elter provides accommodations for 50 men and women nightly and serves 
 200 meals daily. The shelter also offers case management, counseling, 
 workshops in the arts, and training in job & life skills.\"\n\nNJYP Ho
 st:\nIf you can host, email laura@njyp.org\n\nHow to find the Group:\n
 Enter on 3rd Street and head right to the kitchen.\n\nFor more informa
 tion visit http://njyp.org/events/volunteering-soup-kitchen
DTSTART;TZID=America/New_York:20090530T174500
DTEND;TZID=America/New_York:20090530T200000
CATEGORIES:"hudson county", community
LOCATION:The Hoboken Shelter
WEBSITE:http://www.hobokenshelter.org/contact/index.html
URL:http://www.hobokenshelter.org/contact/index.html
CONTACT:
ORGANIZER;CN="Brian and Mike":http://njyp.org/profile/BrianMike
ATTACH;FMTTYPE="image/jpeg":http://storage.ning.com/topology/rest/1.0/
 file/get/1088520985?profile=original
ATTENDEE;ROLE=REQ-PARTICIPANT;PARTSTAT=ACCEPTED;RSVP=TRUE;CN="Ken Howi
 e":http://njyp.org/profile/KenHowie
ATTENDEE;ROLE=REQ-PARTICIPANT;PARTSTAT=ACCEPTED;RSVP=TRUE;CN="Neel Aro
 on":http://njyp.org/profile/NeelAroon
ATTENDEE;ROLE=REQ-PARTICIPANT;PARTSTAT=ACCEPTED;RSVP=TRUE;CN="Vijay Ra
 man":http://njyp.org/profile/VijayRaman
ATTENDEE;ROLE=REQ-PARTICIPANT;PARTSTAT=ACCEPTED;RSVP=TRUE;CN="Brian an
 d Mike":http://njyp.org/profile/BrianMike
END:VEVENT
END:VCALENDAR
