BEGIN:VCALENDAR
PRODID:NingEventWidget-v1
VERSION:2.0
METHOD:PUBLISH
BEGIN:VTIMEZONE
TZID:America/New_York
X-LIC-LOCATION:America/New_York
BEGIN:DAYLIGHT
TZOFFSETFROM:-0500
TZOFFSETTO:-0400
TZNAME:EDT
DTSTART:19700308T020000
RRULE:FREQ=YEARLY;BYMONTH=3;BYDAY=2SU
END:DAYLIGHT
BEGIN:STANDARD
TZOFFSETFROM:-0400
TZOFFSETTO:-0500
TZNAME:EST
DTSTART:19701101T020000
RRULE:FREQ=YEARLY;BYMONTH=11;BYDAY=1SU
END:STANDARD
END:VTIMEZONE
BEGIN:VEVENT
UID:2938326:Event:611
DTSTAMP:20260420T055829Z
SUMMARY:Volunteering: Walk n' Roll
DESCRIPTION:\nRSVP (to the right) and we will let you know when tix ar
 e almost gone, when prices are going up, if there are any changes, etc
 .\n\n*********\nPlease do not crash this event. If the event is listed
  as \"SOLD OUT\" than we are at capacity.\n*********\n\nWe are linking
  up with Team Charity to help out at Children's Specialized Hospital W
 alk n' Roll event. Volunteers are needed to help with activities such 
 as registration, directing walkers and handing out t-shirts, food and 
 water to the walkers.\n\nSchedule:\nVolunteers will be working from 8a
 m to 1:30pm.\nPlease arrive on time as you will be needed!\nFood will 
 be for sale at the event or you can brown-bag it.\n\nDeposits:\nBecaus
 e they are relying on us we are asking that all volunteers put down a 
 FULLY REFUNDABLE DEPOSIT of $8.88. The $8.88 will be returned to all w
 ho attend the event. Cancellations will be accepted up until noon on t
 he day before the event.\n\nDress Code:\nDress comfortable based on th
 e weather. A t-shirt will be provided to all volunteers.\n\nFinding th
 e Group:\nUse Google Maps to get yourself to Johnson County Park in Pi
 scataway. Follow the orange parking signs. Report to the volunteer ten
 t.\n\nFor more information visit http://njyp.org/events/volunteering-w
 alk-n-roll
DTSTART;TZID=America/New_York:20090530T080000
DTEND;TZID=America/New_York:20090530T133000
CATEGORIES:"middlesex county", community
LOCATION:Johnson County Park
WEBSITE:http://tinyurl.com/dh227x
URL:http://tinyurl.com/dh227x
CONTACT:
ORGANIZER;CN="Brian and Mike":http://njyp.org/profile/BrianMike
ATTACH;FMTTYPE="image/jpeg":http://storage.ning.com/topology/rest/1.0/
 file/get/1088521215?profile=original
ATTENDEE;ROLE=REQ-PARTICIPANT;PARTSTAT=ACCEPTED;RSVP=TRUE;CN=tesh:http
 ://njyp.org/profile/t
ATTENDEE;ROLE=REQ-PARTICIPANT;PARTSTAT=ACCEPTED;RSVP=TRUE;CN="Cindy B"
 :http://njyp.org/profile/CindyBale
ATTENDEE;ROLE=REQ-PARTICIPANT;PARTSTAT=ACCEPTED;RSVP=TRUE;CN="Steven H
 oltzman":http://njyp.org/profile/StevenHoltzman
ATTENDEE;ROLE=REQ-PARTICIPANT;PARTSTAT=ACCEPTED;RSVP=TRUE;CN=Amari:htt
 p://njyp.org/profile/AmariVerastegui
ATTENDEE;ROLE=REQ-PARTICIPANT;PARTSTAT=ACCEPTED;RSVP=TRUE;CN="Neel Aro
 on":http://njyp.org/profile/NeelAroon
ATTENDEE;ROLE=REQ-PARTICIPANT;PARTSTAT=ACCEPTED;RSVP=TRUE;CN=Kelley:ht
 tp://njyp.org/profile/KelleyBoyle
ATTENDEE;ROLE=REQ-PARTICIPANT;PARTSTAT=ACCEPTED;RSVP=TRUE;CN=NorthNJDa
 vid:http://njyp.org/profile/NorthNJDavid
ATTENDEE;ROLE=REQ-PARTICIPANT;PARTSTAT=ACCEPTED;RSVP=TRUE;CN="Leora Gr
 eenhaus":http://njyp.org/profile/LeoraDagani
ATTENDEE;ROLE=REQ-PARTICIPANT;PARTSTAT=ACCEPTED;RSVP=TRUE;CN=d:http://
 njyp.org/profile/d
ATTENDEE;ROLE=REQ-PARTICIPANT;PARTSTAT=ACCEPTED;RSVP=TRUE;CN=Melinda:h
 ttp://njyp.org/profile/Melinda
ATTENDEE;ROLE=REQ-PARTICIPANT;PARTSTAT=ACCEPTED;RSVP=TRUE;CN=Helen:htt
 p://njyp.org/profile/Helen
ATTENDEE;ROLE=REQ-PARTICIPANT;PARTSTAT=ACCEPTED;RSVP=TRUE;CN="Nicole F
 ulmino":http://njyp.org/profile/NicoleFulmino
ATTENDEE;ROLE=REQ-PARTICIPANT;PARTSTAT=TENTATIVE;RSVP=TRUE;CN=JMICH95:
 http://njyp.org/profile/JW
ATTENDEE;ROLE=REQ-PARTICIPANT;PARTSTAT=TENTATIVE;RSVP=TRUE;CN="Peter E
 skow":http://njyp.org/profile/PeterEskow
END:VEVENT
END:VCALENDAR
