BEGIN:VCALENDAR
PRODID:NingEventWidget-v1
VERSION:2.0
METHOD:PUBLISH
BEGIN:VTIMEZONE
TZID:America/New_York
X-LIC-LOCATION:America/New_York
BEGIN:DAYLIGHT
TZOFFSETFROM:-0500
TZOFFSETTO:-0400
TZNAME:EDT
DTSTART:19700308T020000
RRULE:FREQ=YEARLY;BYMONTH=3;BYDAY=2SU
END:DAYLIGHT
BEGIN:STANDARD
TZOFFSETFROM:-0400
TZOFFSETTO:-0500
TZNAME:EST
DTSTART:19701101T020000
RRULE:FREQ=YEARLY;BYMONTH=11;BYDAY=1SU
END:STANDARD
END:VTIMEZONE
BEGIN:VEVENT
UID:2938326:Event:80813
DTSTAMP:20260420T153204Z
SUMMARY:Walk and Talk in Cranford
DESCRIPTION:Hi,\n\nDue to the thunderstorms we are changing this event
  from a \"Walk and Talk\" to a \"Drink and Talk\". Meet us at Cervante
 s of Spain tonight at 7pm. We will be in the bar area which is small s
 o the group will be easy to find.\n\nhttp://www.cervantesofspain.com/\
 n\nThanks to Sue for hosting!\n\nBest,\nLaura\n\n\nLet’s meet up aft
 er work for a Summertime “Walk and Talk” around the perimeter of N
 omahegan Park. The idea will be to meet other Young Professionals who 
 live locally while spending some time outside, breathing in the summer
  air.\n\nWho Can Join Us:\nThis is a “Members Only” FREE event. Yo
 u must be a Member, aka you paid your Membership Dues. Please RSVP for
  updates.\n\nSpecs:\nWe will do the paved loop around Nomahegan Park, 
 twice.\nThe total distance will be 3-4 miles and should take about 1 h
 our.\nPace will be brisk but slower than power walking.\n\nWhat to Bri
 ng:\nSneakers or good walking shoes will be fine. You can probably eve
 n do flip flops if you have a tolerance.\nWater and Bug Spray.\n\nPost
  Event:\nLets head over to The Office Bar and Grill (3 South Ave, Cran
 ford) just 1.5 miles away for drinks and dinner. Bring driving directi
 ons with you please and meet the group in the bar area or outside.\n\n
 NJYP Host:\nSusan will be hosting this event.\n\nDirections to the Par
 king Lot:\nUse Google Maps to get you here, 1033 Springfield Ave, Cran
 ford, NJ or\nhttp://www.ucnj.org/parks/directionsnomahegan.html\nExtra
  parking is across the street at Union County College\n\nHow to find t
 he Group:\nMeet us by the bathrooms that are joined to the parking lot
 . We will NOT be waiting for late comers so if you miss us try to catc
 h up. We will walk clockwise around the park.\n\nFor more information 
 visit http://njyp.org/events/walk-and-talk-in-cranford
DTSTART;TZID=America/New_York:20100714T190000
DTEND;TZID=America/New_York:20100714T200000
CATEGORIES:"union county", social, athletic
LOCATION:Nomahegan Park
WEBSITE:http://www.ucnj.org/parks/directionsnomahegan.html
URL:http://www.ucnj.org/parks/directionsnomahegan.html
CONTACT:
ORGANIZER;CN="Brian and Mike":http://njyp.org/profile/BrianMike
ATTACH;FMTTYPE="image/jpeg":http://storage.ning.com/topology/rest/1.0/
 file/get/1088625090?profile=original
ATTENDEE;ROLE=REQ-PARTICIPANT;PARTSTAT=ACCEPTED;RSVP=TRUE;CN=Jason:htt
 p://njyp.org/profile/Jason358
ATTENDEE;ROLE=REQ-PARTICIPANT;PARTSTAT=ACCEPTED;RSVP=TRUE;CN=Deborah:h
 ttp://njyp.org/profile/Deborah
ATTENDEE;ROLE=REQ-PARTICIPANT;PARTSTAT=ACCEPTED;RSVP=TRUE;CN="John Cel
 ock":http://njyp.org/profile/JohnCelock
ATTENDEE;ROLE=REQ-PARTICIPANT;PARTSTAT=ACCEPTED;RSVP=TRUE;CN=Dean:http
 ://njyp.org/profile/Dean
ATTENDEE;ROLE=REQ-PARTICIPANT;PARTSTAT=ACCEPTED;RSVP=TRUE;CN=Monika:ht
 tp://njyp.org/profile/MonikaSymms
ATTENDEE;ROLE=REQ-PARTICIPANT;PARTSTAT=ACCEPTED;RSVP=TRUE;CN=Lauren:ht
 tp://njyp.org/profile/Lauren853
ATTENDEE;ROLE=REQ-PARTICIPANT;PARTSTAT=ACCEPTED;RSVP=TRUE;CN=Susan:htt
 p://njyp.org/profile/SusanIngraffea
ATTENDEE;ROLE=REQ-PARTICIPANT;PARTSTAT=ACCEPTED;RSVP=TRUE;CN="Dave Don
 io":http://njyp.org/profile/DaveDonio
ATTENDEE;ROLE=REQ-PARTICIPANT;PARTSTAT=ACCEPTED;RSVP=TRUE;CN=Tracie:ht
 tp://njyp.org/profile/Tracie
ATTENDEE;ROLE=REQ-PARTICIPANT;PARTSTAT=ACCEPTED;RSVP=TRUE;CN="Jessica 
 S.":http://njyp.org/profile/Jessica896
ATTENDEE;ROLE=REQ-PARTICIPANT;PARTSTAT=ACCEPTED;RSVP=TRUE;CN=Ting:http
 ://njyp.org/profile/TingZhang
ATTENDEE;ROLE=REQ-PARTICIPANT;PARTSTAT=ACCEPTED;RSVP=TRUE;CN="Leslie Y
 oung":http://njyp.org/profile/wLeslieYoung
ATTENDEE;ROLE=REQ-PARTICIPANT;PARTSTAT=ACCEPTED;RSVP=TRUE;CN="Brian an
 d Mike":http://njyp.org/profile/BrianMike
ATTENDEE;ROLE=REQ-PARTICIPANT;PARTSTAT=TENTATIVE;RSVP=TRUE;CN=akhtar:h
 ttp://njyp.org/profile/nasser
ATTENDEE;ROLE=REQ-PARTICIPANT;PARTSTAT=TENTATIVE;RSVP=TRUE;CN="Cindy B
 ":http://njyp.org/profile/CindyBale
ATTENDEE;ROLE=REQ-PARTICIPANT;PARTSTAT=TENTATIVE;RSVP=TRUE;CN=Ataa:htt
 p://njyp.org/profile/AtaaAddo
ATTENDEE;ROLE=REQ-PARTICIPANT;PARTSTAT=TENTATIVE;RSVP=TRUE;CN="Leana M
 alinowsky":http://njyp.org/profile/LeanaMalinowsky
ATTENDEE;ROLE=REQ-PARTICIPANT;PARTSTAT=TENTATIVE;RSVP=TRUE;CN=Jenn:htt
 p://njyp.org/profile/Jenn
ATTENDEE;ROLE=REQ-PARTICIPANT;PARTSTAT=TENTATIVE;RSVP=TRUE;CN="Jennife
 r Decker":http://njyp.org/profile/JenniferDecker
ATTENDEE;ROLE=REQ-PARTICIPANT;PARTSTAT=TENTATIVE;RSVP=TRUE;CN=Andrew:h
 ttp://njyp.org/profile/Andrew885
ATTENDEE;ROLE=REQ-PARTICIPANT;PARTSTAT=TENTATIVE;RSVP=TRUE;CN=Charles:
 http://njyp.org/profile/CharleyB
ATTENDEE;ROLE=REQ-PARTICIPANT;PARTSTAT=TENTATIVE;RSVP=TRUE;CN=James:ht
 tp://njyp.org/profile/JamesShow
ATTENDEE;ROLE=REQ-PARTICIPANT;PARTSTAT=TENTATIVE;RSVP=TRUE;CN=Abe:http
 ://njyp.org/profile/AbrahamJLevine
ATTENDEE;ROLE=REQ-PARTICIPANT;PARTSTAT=TENTATIVE;RSVP=TRUE;CN="Jenna C
 lausen":http://njyp.org/profile/JennaClausen
ATTENDEE;ROLE=REQ-PARTICIPANT;PARTSTAT=TENTATIVE;RSVP=TRUE;CN="Jo Dhes
 i":http://njyp.org/profile/JoDhesi
END:VEVENT
END:VCALENDAR
