BEGIN:VCALENDAR
PRODID:NingEventWidget-v1
VERSION:2.0
METHOD:PUBLISH
BEGIN:VTIMEZONE
TZID:America/New_York
X-LIC-LOCATION:America/New_York
BEGIN:DAYLIGHT
TZOFFSETFROM:-0500
TZOFFSETTO:-0400
TZNAME:EDT
DTSTART:19700308T020000
RRULE:FREQ=YEARLY;BYMONTH=3;BYDAY=2SU
END:DAYLIGHT
BEGIN:STANDARD
TZOFFSETFROM:-0400
TZOFFSETTO:-0500
TZNAME:EST
DTSTART:19701101T020000
RRULE:FREQ=YEARLY;BYMONTH=11;BYDAY=1SU
END:STANDARD
END:VTIMEZONE
BEGIN:VEVENT
UID:2938326:Event:8703
DTSTAMP:20260421T014216Z
SUMMARY:Walk and Talk with Bibi the Nutritionist
DESCRIPTION:Let’s meet up after work for a summertime “Walk and Ta
 lk” through Duke Island State Park. This walk will be led by Bibiana
  Bendikova, CNC and the idea will be to meet other Young Professionals
  who live locally while having the open opportunity to ask any nutriti
 onal questions you may have. In a casual and supportive setting you ca
 n ask questions such as, ‘How much water should I drink?’, ‘Is O
 live Oil good for me?’, ‘How do I keep weight off?’, ‘Is it po
 ssible to take too many vitamins?’, etc. So, join us for a healthy a
 nd educational walk that will bring many local Young Professionals tog
 ether!\n\n\nRSVP (to the right) and we will let you know when tix are 
 almost gone, when prices are going up, if there are any changes, etc.\
 n\nMember Cost:\n$5 for the first 10 to register.\n$10 for the next 10
  to register.\n\nNon-Member Cost:\n$20\n\nPremium Member Cost:\nFree\n
 \nWho can Attend:\nAnyone who is 21-39 years old.\n\nSpecs:\nThis will
  be an easy walk that most anyone can do.\nThe total distance will be 
 3-4 miles and should take about 1 hour.\nPace will be brisk but slower
  than power walking.\n\nWhat to Bring:\nSneakers or good walking shoes
  will be fine. You can probably even do flip flops if you have a toler
 ance.\nWater and Bug Spray.\n\nDirections to the Parking Lot:\nPark in
  lot B.\nhttp://www.somersetcountyparks.org/information/Directions/Duk
 eIslandPk.htm\n\nHow to find the Group:\nPark in lot B.\nMeet in front
  of the Visitor’s Center. We will NOT be waiting for late comers.\n\
 nFor more information visit http://njyp.org/events/walk-and-talk-with-
 bibi-the
DTSTART;TZID=America/New_York:20090728T190000
DTEND;TZID=America/New_York:20090728T203000
CATEGORIES:"somerset county", athletic, educational
LOCATION:Duke Island State Park
WEBSITE:http://www.somersetcountyparks.org/information/Directions/Duke
 IslandPk.htm
URL:http://www.somersetcountyparks.org/information/Directions/DukeIsla
 ndPk.htm
CONTACT:
ORGANIZER;CN="Brian and Mike":http://njyp.org/profile/BrianMike
ATTACH;FMTTYPE="image/jpeg":http://storage.ning.com/topology/rest/1.0/
 file/get/1088544619?profile=original
ATTENDEE;ROLE=REQ-PARTICIPANT;PARTSTAT=ACCEPTED;RSVP=TRUE;CN="Kristen 
 Ann":http://njyp.org/profile/KristenAnn
ATTENDEE;ROLE=REQ-PARTICIPANT;PARTSTAT=ACCEPTED;RSVP=TRUE;CN="Carrie N
 .":http://njyp.org/profile/CarrieNeigel
ATTENDEE;ROLE=REQ-PARTICIPANT;PARTSTAT=ACCEPTED;RSVP=TRUE;CN="Neel Aro
 on":http://njyp.org/profile/NeelAroon
ATTENDEE;ROLE=REQ-PARTICIPANT;PARTSTAT=ACCEPTED;RSVP=TRUE;CN=Anne-Mari
 e:http://njyp.org/profile/AnneMarieSanocki
ATTENDEE;ROLE=REQ-PARTICIPANT;PARTSTAT=ACCEPTED;RSVP=TRUE;CN="Serena V
 aldes":http://njyp.org/profile/SerenaValdes
ATTENDEE;ROLE=REQ-PARTICIPANT;PARTSTAT=ACCEPTED;RSVP=TRUE;CN="Bibi B t
 he Nutritionist":http://njyp.org/profile/BibianaBendikova
ATTENDEE;ROLE=REQ-PARTICIPANT;PARTSTAT=ACCEPTED;RSVP=TRUE;CN=Sara:http
 ://njyp.org/profile/SaraLevenstein
ATTENDEE;ROLE=REQ-PARTICIPANT;PARTSTAT=TENTATIVE;RSVP=TRUE;CN="Joey Wu
 ":http://njyp.org/profile/JoeyWu
ATTENDEE;ROLE=REQ-PARTICIPANT;PARTSTAT=TENTATIVE;RSVP=TRUE;CN="JW Sche
 rm":http://njyp.org/profile/JWScherm
ATTENDEE;ROLE=REQ-PARTICIPANT;PARTSTAT=TENTATIVE;RSVP=TRUE;CN="Chris G
 ":http://njyp.org/profile/ChrisG
ATTENDEE;ROLE=REQ-PARTICIPANT;PARTSTAT=TENTATIVE;RSVP=TRUE;CN=Dharm:ht
 tp://njyp.org/profile/DharmeshMistry
ATTENDEE;ROLE=REQ-PARTICIPANT;PARTSTAT=TENTATIVE;RSVP=TRUE;CN="Joshua 
 Langweil":http://njyp.org/profile/JoshuaLangweil
ATTENDEE;ROLE=REQ-PARTICIPANT;PARTSTAT=TENTATIVE;RSVP=TRUE;CN="Rhandi 
 L":http://njyp.org/profile/RhandiL
ATTENDEE;ROLE=REQ-PARTICIPANT;PARTSTAT=TENTATIVE;RSVP=TRUE;CN="Elaine 
 Andrecovich":http://njyp.org/profile/ElaineAndrecovich
ATTENDEE;ROLE=REQ-PARTICIPANT;PARTSTAT=TENTATIVE;RSVP=TRUE;CN="Kate Sw
 eeney":http://njyp.org/profile/KateSweeney
ATTENDEE;ROLE=REQ-PARTICIPANT;PARTSTAT=TENTATIVE;RSVP=TRUE;CN="Doug Be
 man":http://njyp.org/profile/DougBeman
END:VEVENT
END:VCALENDAR
