BEGIN:VCALENDAR
PRODID:NingEventWidget-v1
VERSION:2.0
METHOD:PUBLISH
BEGIN:VTIMEZONE
TZID:America/New_York
X-LIC-LOCATION:America/New_York
BEGIN:DAYLIGHT
TZOFFSETFROM:-0500
TZOFFSETTO:-0400
TZNAME:EDT
DTSTART:19700308T020000
RRULE:FREQ=YEARLY;BYMONTH=3;BYDAY=2SU
END:DAYLIGHT
BEGIN:STANDARD
TZOFFSETFROM:-0400
TZOFFSETTO:-0500
TZNAME:EST
DTSTART:19701101T020000
RRULE:FREQ=YEARLY;BYMONTH=11;BYDAY=1SU
END:STANDARD
END:VTIMEZONE
BEGIN:VEVENT
UID:2938326:Event:13833
DTSTAMP:20260422T051121Z
SUMMARY:Walk and Talk with Carrie
DESCRIPTION:Let's meet up after work for a \"Walk and Talk\" through D
 uke Island State Park. This event will be led by Carrie Neigel, Skin C
 are Consultant, and the idea will be to meet other Young Professionals
  who live locally while having the open opportunity to ask any skin ca
 re and general health/wellness questions you may have.\n\nIn a casual 
 and supportive setting you can ask questions such as:\n* What kind of 
 habits promote healthy skin?\n* What are some things I can do to keep 
 my skin from breaking out?\n* What kinds of ingredients should I look 
 for in a face wash or moisturizer?\n\nSo, join us for a healthy and ed
 ucational walk that will bring many local Young Professionals together
 !\n\nCost:\nThis is a “Members Only” FREE event.\nYou must be a Me
 mber (aka paid the $9.99) on the new website.\nPlease RSVP so we know 
 to expect you.\n\nSpecs:\nThis will be an easy walk that most anyone c
 an do.\nThe total distance will be 3-4 miles and should take about 1 h
 our.\nPace will be brisk but slower than power walking.\n\nWhat to Bri
 ng:\nSneakers or good walking shoes will be fine. You can probably eve
 n do flip flops if you have a tolerance.\nWater and Bug Spray.\n\nDire
 ctions to the Parking Lot:\nPark in lot B.\nhttp://www.somersetcountyp
 arks.org/information/Directions/DukeIslandPk.htm\n\nHow to find the Gr
 oup:\nMeet in front of the Visitor’s Center. We will NOT be waiting 
 for late comers so please be prompt.\n\nFor more information visit htt
 p://njyp.org/events/walk-and-talk-with-carrie
DTSTART;TZID=America/New_York:20090908T183000
DTEND;TZID=America/New_York:20090908T200000
CATEGORIES:"somerset county", athletic, educational
LOCATION:Duke Island State Park
WEBSITE:http://maps.google.com/maps?hl=en&rlz=1B3GGGL_enUS323US323&um=
 1&ie=UTF-8&cid=0,0,7773550132851384254&fb=1&split=1&gl=us&dq=duke+isla
 nd+state+park+nj&daddr=191+Old+York+Rd,+Bridgewater,+NJ+08807&geocode=
 16356156013600791249,40.551358,-74.670768&ei=oLCBStrnJIOktgfpxIjQCg&sa
 =X&oi=local_result&ct=directions-to&resnum=1
URL:http://maps.google.com/maps?hl=en&rlz=1B3GGGL_enUS323US323&um=1&ie
 =UTF-8&cid=0,0,7773550132851384254&fb=1&split=1&gl=us&dq=duke+island+s
 tate+park+nj&daddr=191+Old+York+Rd,+Bridgewater,+NJ+08807&geocode=1635
 6156013600791249,40.551358,-74.670768&ei=oLCBStrnJIOktgfpxIjQCg&sa=X&o
 i=local_result&ct=directions-to&resnum=1
CONTACT:
ORGANIZER;CN="Brian and Mike":http://njyp.org/profile/BrianMike
ATTACH;FMTTYPE="image/jpeg":http://storage.ning.com/topology/rest/1.0/
 file/get/1088552596?profile=original
ATTENDEE;ROLE=REQ-PARTICIPANT;PARTSTAT=ACCEPTED;RSVP=TRUE;CN=Jay:http:
 //njyp.org/profile/WXYZ1234
ATTENDEE;ROLE=REQ-PARTICIPANT;PARTSTAT=ACCEPTED;RSVP=TRUE;CN="Carrie N
 .":http://njyp.org/profile/CarrieNeigel
ATTENDEE;ROLE=REQ-PARTICIPANT;PARTSTAT=TENTATIVE;RSVP=TRUE;CN="Doug Be
 man":http://njyp.org/profile/DougBeman
ATTENDEE;ROLE=REQ-PARTICIPANT;PARTSTAT=TENTATIVE;RSVP=TRUE;CN="Yvonne 
 Zarnitz":http://njyp.org/profile/YvonneZarnitz
END:VEVENT
END:VCALENDAR
