BEGIN:VCALENDAR
PRODID:NingEventWidget-v1
VERSION:2.0
METHOD:PUBLISH
BEGIN:VTIMEZONE
TZID:America/New_York
X-LIC-LOCATION:America/New_York
BEGIN:DAYLIGHT
TZOFFSETFROM:-0500
TZOFFSETTO:-0400
TZNAME:EDT
DTSTART:19700308T020000
RRULE:FREQ=YEARLY;BYMONTH=3;BYDAY=2SU
END:DAYLIGHT
BEGIN:STANDARD
TZOFFSETFROM:-0400
TZOFFSETTO:-0500
TZNAME:EST
DTSTART:19701101T020000
RRULE:FREQ=YEARLY;BYMONTH=11;BYDAY=1SU
END:STANDARD
END:VTIMEZONE
BEGIN:VEVENT
UID:2938326:Event:13838
DTSTAMP:20260422T145653Z
SUMMARY:Walk and Talk with Laura
DESCRIPTION:All- I am going to CANCEL this and pick a new date. Rain i
 s still looming and I do not want people to travel there only to have 
 to walk in the rain.\n\nNEW DATE is on the way.. I'll squeeze it in Se
 pt\n\nLet’s meet up after work for a “Walk and Talk” through par
 ts of the Saddle River County Park. The idea will be to meet other You
 ng Professionals who live locally while spending some time outside, br
 eathing in the soon-to-be Fall air.\n\nCost:\nThis is a “Members Onl
 y” FREE event.\nYou must be a Member (aka paid the $9.99) on the new
  website.\nPlease RSVP so we know to expect you.\n\nSpecs:\nWe will wa
 lk for 30 minutes along the trail then turn around and walk back.\nPac
 e will be brisk but slower than power walking.\n\nWhat to Bring:\nSnea
 kers or good walking shoes will be fine. You can probably even do flip
  flops if you have a tolerance.\nWater and Bug Spray.\nFlashlight (it 
 may start to get dark).\n\nPost Event:\nLets head over to The Office B
 ar and Grill (32 Chestnut St, Ridgewood) just 1.5 miles away for drink
 s and dinner. Bring driving directions with you please and meet the gr
 oup in the bar area or outside.\n\nDirections to the Ridgewood Duck Po
 nd:\nLots of free parking!\nhttp://www.co.bergen.nj.us/Parks/Parks/dir
 ections/Saddle%20River%20Wild%20Duck.PDF\n\nHow to find the Group:\nMe
 et us by this sign that sits along Ridgewood Ave. Please be prompt, we
  will not wait for latecomers.\n\n\nFor more information visit http://
 njyp.org/events/walk-and-talk-with-laura
DTSTART;TZID=America/New_York:20090916T183000
DTEND;TZID=America/New_York:20090916T193000
CATEGORIES:"bergen county", athletic
LOCATION:Duck Pond Area of the Saddle River Co Park
WEBSITE:http://www.co.bergen.nj.us/Parks/Parks/directions/Saddle%20Riv
 er%20Wild%20Duck.PDF
URL:http://www.co.bergen.nj.us/Parks/Parks/directions/Saddle%20River%2
 0Wild%20Duck.PDF
CONTACT:
ORGANIZER;CN="Brian and Mike":http://njyp.org/profile/BrianMike
ATTACH;FMTTYPE="image/jpeg":http://storage.ning.com/topology/rest/1.0/
 file/get/1088552861?profile=original
ATTENDEE;ROLE=REQ-PARTICIPANT;PARTSTAT=ACCEPTED;RSVP=TRUE;CN="Niraj Ch
 habra":http://njyp.org/profile/nirajchhabra
ATTENDEE;ROLE=REQ-PARTICIPANT;PARTSTAT=ACCEPTED;RSVP=TRUE;CN=Brianne:h
 ttp://njyp.org/profile/BrianneSherwood
ATTENDEE;ROLE=REQ-PARTICIPANT;PARTSTAT=ACCEPTED;RSVP=TRUE;CN="Kristin 
 Kopec":http://njyp.org/profile/KristinKopec
ATTENDEE;ROLE=REQ-PARTICIPANT;PARTSTAT=ACCEPTED;RSVP=TRUE;CN="Nikki Ha
 rt":http://njyp.org/profile/DomenicaHart
ATTENDEE;ROLE=REQ-PARTICIPANT;PARTSTAT=ACCEPTED;RSVP=TRUE;CN="Dennis L
 ee":http://njyp.org/profile/leeden
ATTENDEE;ROLE=REQ-PARTICIPANT;PARTSTAT=ACCEPTED;RSVP=TRUE;CN=Laurel:ht
 tp://njyp.org/profile/Laurel
ATTENDEE;ROLE=REQ-PARTICIPANT;PARTSTAT=ACCEPTED;RSVP=TRUE;CN=Tara:http
 ://njyp.org/profile/TaraMorey
ATTENDEE;ROLE=REQ-PARTICIPANT;PARTSTAT=ACCEPTED;RSVP=TRUE;CN="Joanna V
 ogel":http://njyp.org/profile/JoannaVogel
ATTENDEE;ROLE=REQ-PARTICIPANT;PARTSTAT=ACCEPTED;RSVP=TRUE;CN=Jessica:h
 ttp://njyp.org/profile/JessicaNatalizio
ATTENDEE;ROLE=REQ-PARTICIPANT;PARTSTAT=ACCEPTED;RSVP=TRUE;CN=Lizzie:ht
 tp://njyp.org/profile/ElizabethKuhns
ATTENDEE;ROLE=REQ-PARTICIPANT;PARTSTAT=ACCEPTED;RSVP=TRUE;CN="Brian an
 d Mike":http://njyp.org/profile/BrianMike
ATTENDEE;ROLE=REQ-PARTICIPANT;PARTSTAT=TENTATIVE;RSVP=TRUE;CN=Kathy:ht
 tp://njyp.org/profile/KathyJahnke
ATTENDEE;ROLE=REQ-PARTICIPANT;PARTSTAT=TENTATIVE;RSVP=TRUE;CN=akhtar:h
 ttp://njyp.org/profile/nasser
ATTENDEE;ROLE=REQ-PARTICIPANT;PARTSTAT=TENTATIVE;RSVP=TRUE;CN="Dave B"
 :http://njyp.org/profile/daveb
ATTENDEE;ROLE=REQ-PARTICIPANT;PARTSTAT=TENTATIVE;RSVP=TRUE;CN=David:ht
 tp://njyp.org/profile/DavidAAdams
ATTENDEE;ROLE=REQ-PARTICIPANT;PARTSTAT=TENTATIVE;RSVP=TRUE;CN="Anthony
  Sciortino":http://njyp.org/profile/AnthonySciortino
ATTENDEE;ROLE=REQ-PARTICIPANT;PARTSTAT=TENTATIVE;RSVP=TRUE;CN="Peter E
 skow":http://njyp.org/profile/PeterEskow
ATTENDEE;ROLE=REQ-PARTICIPANT;PARTSTAT=TENTATIVE;RSVP=TRUE;CN="Stacey 
 A Sotomayor":http://njyp.org/profile/StaceyASotomayor
ATTENDEE;ROLE=REQ-PARTICIPANT;PARTSTAT=TENTATIVE;RSVP=TRUE;CN=Deborah:
 http://njyp.org/profile/Deborah
ATTENDEE;ROLE=REQ-PARTICIPANT;PARTSTAT=TENTATIVE;RSVP=TRUE;CN="Wendy P
 arker":http://njyp.org/profile/WendyParker
END:VEVENT
END:VCALENDAR
