BEGIN:VCALENDAR
PRODID:NingEventWidget-v1
VERSION:2.0
METHOD:PUBLISH
BEGIN:VTIMEZONE
TZID:America/New_York
X-LIC-LOCATION:America/New_York
BEGIN:DAYLIGHT
TZOFFSETFROM:-0500
TZOFFSETTO:-0400
TZNAME:EDT
DTSTART:19700308T020000
RRULE:FREQ=YEARLY;BYMONTH=3;BYDAY=2SU
END:DAYLIGHT
BEGIN:STANDARD
TZOFFSETFROM:-0400
TZOFFSETTO:-0500
TZNAME:EST
DTSTART:19701101T020000
RRULE:FREQ=YEARLY;BYMONTH=11;BYDAY=1SU
END:STANDARD
END:VTIMEZONE
BEGIN:VEVENT
UID:2938326:Event:376848
DTSTAMP:20260419T205027Z
SUMMARY:Wayne Happy Hour
DESCRIPTION:Your local Happy Hour is back on the calendar and this tim
 e we will be at In The Crease.  Join other NJYPers at this member’s
  only mix & mingle event.  As always, there is no cover, plus there w
 ill be great specials to keep the drinks and the laughter flowing. Whe
 ther this is your first event or your fiftieth, you will find yourself
  surrounded by friendly faces and future friends.  Who should attend: 
 Members only who are 21-39 years old. There is no cover charge but the
 re is a 1 item minimum (food or drink). Please RSVP so we know you are
  coming.  What to expect: Our Happy Hours are very casual. There are n
 o sign-in tables, no name tags, and no ice breakers. Expect people to 
 walk up to you to introduce themselves and feel free to walk up to oth
 ers who you do not know. Newbies are at EVERY NJYP event so if this is
  your first, you won't be alone.   How to find the group: Meet us at t
 he bar of course. Look for signs or ask staff but know we will gather 
 around the high top tables.  Directions: http://www.inthecreasesportsp
 ub.com/content/\nPlenty of free parking. This unique venue is inside t
 he Ice Vault, http://www.icevault.com/indexb.php\n\nFor more informat
 ion visit http://njyp.org/events/wayne-happy-hour
DTSTART;TZID=America/New_York:20120926T180000
DTEND;TZID=America/New_York:20120926T200000
CATEGORIES:"passaic county", social, members
LOCATION:In The Crease Sports Pub (in the Ice Vault)
WEBSITE:http://www.inthecreasesportspub.com/content/
URL:http://www.inthecreasesportspub.com/content/
CONTACT:
ORGANIZER;CN="Brian and Mike":http://njyp.org/profile/BrianMike
ATTACH;FMTTYPE="image/jpeg":http://storage.ning.com/topology/rest/1.0/
 file/get/1088708007?profile=original
ATTENDEE;ROLE=REQ-PARTICIPANT;PARTSTAT=ACCEPTED;RSVP=TRUE;CN=Serena:ht
 tp://njyp.org/profile/Serena
ATTENDEE;ROLE=REQ-PARTICIPANT;PARTSTAT=ACCEPTED;RSVP=TRUE;CN=Diana:htt
 p://njyp.org/profile/Diana19
ATTENDEE;ROLE=REQ-PARTICIPANT;PARTSTAT=ACCEPTED;RSVP=TRUE;CN="Kelly An
 ne":http://njyp.org/profile/KellyGoodwin
ATTENDEE;ROLE=REQ-PARTICIPANT;PARTSTAT=ACCEPTED;RSVP=TRUE;CN=Joe:http:
 //njyp.org/profile/Joe245
ATTENDEE;ROLE=REQ-PARTICIPANT;PARTSTAT=ACCEPTED;RSVP=TRUE;CN="rachel i
 rene":http://njyp.org/profile/rachel_irene
ATTENDEE;ROLE=REQ-PARTICIPANT;PARTSTAT=ACCEPTED;RSVP=TRUE;CN=Katie:htt
 p://njyp.org/profile/Katie743
ATTENDEE;ROLE=REQ-PARTICIPANT;PARTSTAT=ACCEPTED;RSVP=TRUE;CN="NIcole V
 innal":http://njyp.org/profile/NIcoleVinnal
ATTENDEE;ROLE=REQ-PARTICIPANT;PARTSTAT=ACCEPTED;RSVP=TRUE;CN=Phillip:h
 ttp://njyp.org/profile/Phillip725
ATTENDEE;ROLE=REQ-PARTICIPANT;PARTSTAT=ACCEPTED;RSVP=TRUE;CN="Jessica 
 Gill":http://njyp.org/profile/JessicaGill
ATTENDEE;ROLE=REQ-PARTICIPANT;PARTSTAT=ACCEPTED;RSVP=TRUE;CN=Julie:htt
 p://njyp.org/profile/Julie942
ATTENDEE;ROLE=REQ-PARTICIPANT;PARTSTAT=TENTATIVE;RSVP=TRUE;CN=John:htt
 p://njyp.org/profile/John483
ATTENDEE;ROLE=REQ-PARTICIPANT;PARTSTAT=TENTATIVE;RSVP=TRUE;CN=Krista:h
 ttp://njyp.org/profile/Krista365
ATTENDEE;ROLE=REQ-PARTICIPANT;PARTSTAT=TENTATIVE;RSVP=TRUE;CN="Mark Ki
 ngsley":http://njyp.org/profile/MarkKingsley
ATTENDEE;ROLE=REQ-PARTICIPANT;PARTSTAT=TENTATIVE;RSVP=TRUE;CN="Lisa F"
 :http://njyp.org/profile/LisaF
ATTENDEE;ROLE=REQ-PARTICIPANT;PARTSTAT=TENTATIVE;RSVP=TRUE;CN=Digant:h
 ttp://njyp.org/profile/Digant
ATTENDEE;ROLE=REQ-PARTICIPANT;PARTSTAT=TENTATIVE;RSVP=TRUE;CN=Matt:htt
 p://njyp.org/profile/Matt471
ATTENDEE;ROLE=REQ-PARTICIPANT;PARTSTAT=TENTATIVE;RSVP=TRUE;CN=Vadim:ht
 tp://njyp.org/profile/Vadim
ATTENDEE;ROLE=REQ-PARTICIPANT;PARTSTAT=TENTATIVE;RSVP=TRUE;CN=David:ht
 tp://njyp.org/profile/DavidKasten
ATTENDEE;ROLE=REQ-PARTICIPANT;PARTSTAT=TENTATIVE;RSVP=TRUE;CN=Tim:http
 ://njyp.org/profile/TimothyH
ATTENDEE;ROLE=REQ-PARTICIPANT;PARTSTAT=TENTATIVE;RSVP=TRUE;CN=Marcelo:
 http://njyp.org/profile/EzraS
ATTENDEE;ROLE=REQ-PARTICIPANT;PARTSTAT=TENTATIVE;RSVP=TRUE;CN=Kathryn:
 http://njyp.org/profile/Kathryn825
ATTENDEE;ROLE=REQ-PARTICIPANT;PARTSTAT=TENTATIVE;RSVP=TRUE;CN=Pam:http
 ://njyp.org/profile/PamStomel
ATTENDEE;ROLE=REQ-PARTICIPANT;PARTSTAT=TENTATIVE;RSVP=TRUE;CN=Jen:http
 ://njyp.org/profile/Jen794
ATTENDEE;ROLE=REQ-PARTICIPANT;PARTSTAT=TENTATIVE;RSVP=TRUE;CN="Khyati 
 Rana":http://njyp.org/profile/KhyatiRana
ATTENDEE;ROLE=REQ-PARTICIPANT;PARTSTAT=TENTATIVE;RSVP=TRUE;CN=Leah:htt
 p://njyp.org/profile/LeahZ
ATTENDEE;ROLE=REQ-PARTICIPANT;PARTSTAT=TENTATIVE;RSVP=TRUE;CN="Michael
  Keating":http://njyp.org/profile/MichaelKeating
ATTENDEE;ROLE=REQ-PARTICIPANT;PARTSTAT=TENTATIVE;RSVP=TRUE;CN=Ariana:h
 ttp://njyp.org/profile/Ariana
ATTENDEE;ROLE=REQ-PARTICIPANT;PARTSTAT=TENTATIVE;RSVP=TRUE;CN="JENNIFE
 R tURKISH":http://njyp.org/profile/JENNIFERtURKISH
END:VEVENT
END:VCALENDAR
