BEGIN:VCALENDAR
PRODID:NingEventWidget-v1
VERSION:2.0
METHOD:PUBLISH
BEGIN:VTIMEZONE
TZID:America/New_York
X-LIC-LOCATION:America/New_York
BEGIN:DAYLIGHT
TZOFFSETFROM:-0500
TZOFFSETTO:-0400
TZNAME:EDT
DTSTART:19700308T020000
RRULE:FREQ=YEARLY;BYMONTH=3;BYDAY=2SU
END:DAYLIGHT
BEGIN:STANDARD
TZOFFSETFROM:-0400
TZOFFSETTO:-0500
TZNAME:EST
DTSTART:19701101T020000
RRULE:FREQ=YEARLY;BYMONTH=11;BYDAY=1SU
END:STANDARD
END:VTIMEZONE
BEGIN:VEVENT
UID:2938326:Event:515806
DTSTAMP:20260420T055838Z
SUMMARY:Wellness Wednesday
DESCRIPTION:Dr. Kevin is offering free therapy sessions for Wednesday,
  2.19.14  Dr. Kevin is one of the only therapists in New Jersey who c
 oncentrates on Young Professionals.  He regularly sees clients who wor
 ry about changing careers, finding Mr/Ms. Right, making friends, turni
 ng 30, the Thrisis, and the Quarter-life Crisis.  Sessions are first c
 ome, first served so email DrKevin@DrKevinb.com to book.      As se
 en in Time Out New York  As heard on Your Time with Kim  As the psycho
 logy expert throughout Your So-Called Life  * Offer is for new clients
  only and first come, first served.\n\nFor more information visit http
 ://njyp.org/events/wellness-wednesday-2
DTSTART;TZID=America/New_York:20140219T090000
DTEND;TZID=America/New_York:20140219T180000
CATEGORIES:"bergen county", educational
LOCATION:Dr. Kevin
WEBSITE:http://www.drkevinb.com/
URL:http://www.drkevinb.com/
CONTACT:
ORGANIZER;CN="Brian and Mike":http://njyp.org/profile/BrianMike
ATTACH;FMTTYPE="image/jpeg":http://storage.ning.com/topology/rest/1.0/
 file/get/1088723218?profile=original
ATTENDEE;ROLE=REQ-PARTICIPANT;PARTSTAT=ACCEPTED;RSVP=TRUE;CN=Kevin:htt
 p://njyp.org/profile/Kevin292
ATTENDEE;ROLE=REQ-PARTICIPANT;PARTSTAT=ACCEPTED;RSVP=TRUE;CN=Gabriela:
 http://njyp.org/profile/Gabriela
ATTENDEE;ROLE=REQ-PARTICIPANT;PARTSTAT=ACCEPTED;RSVP=TRUE;CN="Brian an
 d Mike":http://njyp.org/profile/BrianMike
ATTENDEE;ROLE=REQ-PARTICIPANT;PARTSTAT=TENTATIVE;RSVP=TRUE;CN=Marie:ht
 tp://njyp.org/profile/Marie810
END:VEVENT
END:VCALENDAR
