BEGIN:VCALENDAR
PRODID:NingEventWidget-v1
VERSION:2.0
METHOD:PUBLISH
BEGIN:VTIMEZONE
TZID:America/New_York
X-LIC-LOCATION:America/New_York
BEGIN:DAYLIGHT
TZOFFSETFROM:-0500
TZOFFSETTO:-0400
TZNAME:EDT
DTSTART:19700308T020000
RRULE:FREQ=YEARLY;BYMONTH=3;BYDAY=2SU
END:DAYLIGHT
BEGIN:STANDARD
TZOFFSETFROM:-0400
TZOFFSETTO:-0500
TZNAME:EST
DTSTART:19701101T020000
RRULE:FREQ=YEARLY;BYMONTH=11;BYDAY=1SU
END:STANDARD
END:VTIMEZONE
BEGIN:VEVENT
UID:2938326:Event:318837
DTSTAMP:20260420T021513Z
SUMMARY:Winter Walk and Talk
DESCRIPTION:Take a refreshing wintertime “Walk & Talk” with NJYP.
  Nestled in bustling New Brunswick, beautiful gardens and a bamboo fo
 rest wait in Helyar Woods. We’ll mingle on the trail and then head o
 ut for juice and a healthy lunch so grab your coat, enjoy the fresh ai
 r, and let good conversation keep you warm.  The group will go here af
 ter the walk so please bring driving directions with you. http://www.n
 amastejuicebar.com/  Specs: This will be a very easy 2.5 walk but our 
 pace will be at a healthy speed. After we complete the walk the group 
 will vote on whether we should do it again, for a total of 5 miles.  \
 nMember Cost: $5 online $10 at the door  Non-Member Cost: $10 online a
 nd at the door  Are you a Sideliner or Player? Go here for ticket disc
 ount info, http://www.njyp.org/group/the-better-body-challenge-main-gr
 oup  Tickets: There are a limited number of Tickets for sale. Tickets 
 are not mailed, but your name will be kept at the door. Actual walk is
  subject to change depending on weather conditions, fallen trees, etc.
  All sales are final.  Leader: Keira will be leading this walk.  What 
 to bring: Hiking boots or sneakers 2 Liters of Water (required). Snack
 s, a light lunch, etc. Layers if it is cold. Toilet paper, tissues, pl
 astic bags for garbage, etc.  Inclement Weather: Heavy rain or extreme
  cold might cancel this walk. Please check your inbox for updates and 
 the NJYP.org calendar. Tickets will be refunded.  Directions: http://r
 utgersgardens.rutgers.edu/directions.html Please note that if you are 
 using either a GPS or on line mapping service the directions may be wr
 ong. Follow the link above. The Holly House is located at the first st
 op sign. Make a right and visitor parking is available.  Finding the G
 roup: Meet us in the visitor parking lot.\n\nFor more information visi
 t http://njyp.org/events/winter-walk-and-talk
DTSTART;TZID=America/New_York:20120226T103000
DTEND;TZID=America/New_York:20120226T130000
CATEGORIES:"middlesex county", athletic, bbc
LOCATION:Rutgers Gardens
WEBSITE:http://maps.google.com/maps?f=d&source=s_d&saddr=&daddr=40.762
 162,-74.54567&hl=en&geocode=&mra=mi&mrsp=0&sz=16&sll=40.762016,-74.545
 906&sspn=0.011913,0.017145&ie=UTF8&ll=40.762715,-74.545691&spn=0.01191
 3,0.017145&z=16
URL:http://maps.google.com/maps?f=d&source=s_d&saddr=&daddr=40.762162,
 -74.54567&hl=en&geocode=&mra=mi&mrsp=0&sz=16&sll=40.762016,-74.545906&
 sspn=0.011913,0.017145&ie=UTF8&ll=40.762715,-74.545691&spn=0.011913,0.
 017145&z=16
CONTACT:
ORGANIZER;CN="Brian and Mike":http://njyp.org/profile/BrianMike
ATTACH;FMTTYPE="image/jpeg":http://storage.ning.com/topology/rest/1.0/
 file/get/1088750525?profile=original
ATTENDEE;ROLE=REQ-PARTICIPANT;PARTSTAT=ACCEPTED;RSVP=TRUE;CN="Gregory 
 Egan":http://njyp.org/profile/GregoryEgan
ATTENDEE;ROLE=REQ-PARTICIPANT;PARTSTAT=ACCEPTED;RSVP=TRUE;CN=Morgan:ht
 tp://njyp.org/profile/Morgan191
ATTENDEE;ROLE=REQ-PARTICIPANT;PARTSTAT=ACCEPTED;RSVP=TRUE;CN=James:htt
 p://njyp.org/profile/JamesShow
ATTENDEE;ROLE=REQ-PARTICIPANT;PARTSTAT=ACCEPTED;RSVP=TRUE;CN="Jim Perr
 y":http://njyp.org/profile/JamesMPerry
ATTENDEE;ROLE=REQ-PARTICIPANT;PARTSTAT=ACCEPTED;RSVP=TRUE;CN=Michelle:
 http://njyp.org/profile/Michelle693
ATTENDEE;ROLE=REQ-PARTICIPANT;PARTSTAT=ACCEPTED;RSVP=TRUE;CN="Lauren S
 eabrooks":http://njyp.org/profile/LaurenSeabrooks
ATTENDEE;ROLE=REQ-PARTICIPANT;PARTSTAT=ACCEPTED;RSVP=TRUE;CN=Peter:htt
 p://njyp.org/profile/PeterMcDonnell
ATTENDEE;ROLE=REQ-PARTICIPANT;PARTSTAT=ACCEPTED;RSVP=TRUE;CN="Stefanie
  Lampf":http://njyp.org/profile/StefanieLampf
ATTENDEE;ROLE=REQ-PARTICIPANT;PARTSTAT=ACCEPTED;RSVP=TRUE;CN=Susan:htt
 p://njyp.org/profile/Susan617
ATTENDEE;ROLE=REQ-PARTICIPANT;PARTSTAT=ACCEPTED;RSVP=TRUE;CN=Diana:htt
 p://njyp.org/profile/Diana437
ATTENDEE;ROLE=REQ-PARTICIPANT;PARTSTAT=ACCEPTED;RSVP=TRUE;CN=Chelise:h
 ttp://njyp.org/profile/Chelise
ATTENDEE;ROLE=REQ-PARTICIPANT;PARTSTAT=ACCEPTED;RSVP=TRUE;CN=Amanda:ht
 tp://njyp.org/profile/Amanda710
ATTENDEE;ROLE=REQ-PARTICIPANT;PARTSTAT=ACCEPTED;RSVP=TRUE;CN=Shakira:h
 ttp://njyp.org/profile/Shakira
ATTENDEE;ROLE=REQ-PARTICIPANT;PARTSTAT=ACCEPTED;RSVP=TRUE;CN=Sheila:ht
 tp://njyp.org/profile/Sheila
ATTENDEE;ROLE=REQ-PARTICIPANT;PARTSTAT=ACCEPTED;RSVP=TRUE;CN="Brian an
 d Mike":http://njyp.org/profile/BrianMike
ATTENDEE;ROLE=REQ-PARTICIPANT;PARTSTAT=ACCEPTED;RSVP=TRUE;CN=Keira:htt
 p://njyp.org/profile/Keira
ATTENDEE;ROLE=REQ-PARTICIPANT;PARTSTAT=ACCEPTED;RSVP=TRUE;CN=Anysa:htt
 p://njyp.org/profile/Any
ATTENDEE;ROLE=REQ-PARTICIPANT;PARTSTAT=TENTATIVE;RSVP=TRUE;CN=AnnMarie
 :http://njyp.org/profile/AnnMarieMcDonald
ATTENDEE;ROLE=REQ-PARTICIPANT;PARTSTAT=TENTATIVE;RSVP=TRUE;CN=Janene:h
 ttp://njyp.org/profile/Janene
ATTENDEE;ROLE=REQ-PARTICIPANT;PARTSTAT=TENTATIVE;RSVP=TRUE;CN=John:htt
 p://njyp.org/profile/JohnE
ATTENDEE;ROLE=REQ-PARTICIPANT;PARTSTAT=TENTATIVE;RSVP=TRUE;CN=Sarah:ht
 tp://njyp.org/profile/smasimpsons
ATTENDEE;ROLE=REQ-PARTICIPANT;PARTSTAT=TENTATIVE;RSVP=TRUE;CN=Madelein
 e:http://njyp.org/profile/Madeleine
ATTENDEE;ROLE=REQ-PARTICIPANT;PARTSTAT=TENTATIVE;RSVP=TRUE;CN=David:ht
 tp://njyp.org/profile/David261
ATTENDEE;ROLE=REQ-PARTICIPANT;PARTSTAT=TENTATIVE;RSVP=TRUE;CN=Dianne:h
 ttp://njyp.org/profile/Dianne
ATTENDEE;ROLE=REQ-PARTICIPANT;PARTSTAT=TENTATIVE;RSVP=TRUE;CN=Leah:htt
 p://njyp.org/profile/LeahZ
ATTENDEE;ROLE=REQ-PARTICIPANT;PARTSTAT=TENTATIVE;RSVP=TRUE;CN=Brandy:h
 ttp://njyp.org/profile/Brandy
ATTENDEE;ROLE=REQ-PARTICIPANT;PARTSTAT=TENTATIVE;RSVP=TRUE;CN=Rebecca:
 http://njyp.org/profile/theRebecca
ATTENDEE;ROLE=REQ-PARTICIPANT;PARTSTAT=TENTATIVE;RSVP=TRUE;CN=Crystal:
 http://njyp.org/profile/CrystalRoll
ATTENDEE;ROLE=REQ-PARTICIPANT;PARTSTAT=TENTATIVE;RSVP=TRUE;CN=Robert:h
 ttp://njyp.org/profile/Robert882
ATTENDEE;ROLE=REQ-PARTICIPANT;PARTSTAT=TENTATIVE;RSVP=TRUE;CN="Samir A
 . Shah":http://njyp.org/profile/SamirAShah
ATTENDEE;ROLE=REQ-PARTICIPANT;PARTSTAT=TENTATIVE;RSVP=TRUE;CN=Arielle:
 http://njyp.org/profile/Arielle
ATTENDEE;ROLE=REQ-PARTICIPANT;PARTSTAT=TENTATIVE;RSVP=TRUE;CN=Dejan:ht
 tp://njyp.org/profile/Dejan
ATTENDEE;ROLE=REQ-PARTICIPANT;PARTSTAT=TENTATIVE;RSVP=TRUE;CN="Nelly G
 alan":http://njyp.org/profile/NellyGalan
ATTENDEE;ROLE=REQ-PARTICIPANT;PARTSTAT=TENTATIVE;RSVP=TRUE;CN=Will:htt
 p://njyp.org/profile/William
ATTENDEE;ROLE=REQ-PARTICIPANT;PARTSTAT=TENTATIVE;RSVP=TRUE;CN=Sara:htt
 p://njyp.org/profile/SaraLevenstein
ATTENDEE;ROLE=REQ-PARTICIPANT;PARTSTAT=TENTATIVE;RSVP=TRUE;CN="Melanie
  Wische":http://njyp.org/profile/MelanieWische
ATTENDEE;ROLE=REQ-PARTICIPANT;PARTSTAT=TENTATIVE;RSVP=TRUE;CN=Gina:htt
 p://njyp.org/profile/Gina815
END:VEVENT
END:VCALENDAR
