BEGIN:VCALENDAR
PRODID:NingEventWidget-v1
VERSION:2.0
METHOD:PUBLISH
BEGIN:VTIMEZONE
TZID:America/New_York
X-LIC-LOCATION:America/New_York
BEGIN:DAYLIGHT
TZOFFSETFROM:-0500
TZOFFSETTO:-0400
TZNAME:EDT
DTSTART:19700308T020000
RRULE:FREQ=YEARLY;BYMONTH=3;BYDAY=2SU
END:DAYLIGHT
BEGIN:STANDARD
TZOFFSETFROM:-0400
TZOFFSETTO:-0500
TZNAME:EST
DTSTART:19701101T020000
RRULE:FREQ=YEARLY;BYMONTH=11;BYDAY=1SU
END:STANDARD
END:VTIMEZONE
BEGIN:VEVENT
UID:2938326:Event:65269
DTSTAMP:20260419T135727Z
SUMMARY:Women Friending
DESCRIPTION:Women! Come to expand your social circle or to network wit
 h professionals and business owners. Our 4-Minute Friending events for
  Women ONLY will bring you face to face with local women who are 21 to
  39 years old. By the end of the evening you will walk away having mad
 e 10 to 20 new contacts!\n\nBonus!\nWe will share the guest list with 
 you. That means upon arrival you will receive a list of everyone’s n
 ames, emails, hobbies, etc. Following the event you can easily reach o
 ut to your new contacts.\n\n\n\nMember Cost:\n$5 for the first 20 to r
 egister\n$10 for the next 21 to 39 to register\n$20 for walk-ins\nWalk
 -Ins will not be on the shared information sheet.\n\nNon-Member Cost:\
 n$20 online and at the door\nWalk-Ins will not be on the shared inform
 ation sheet.\n\nWho should attend:\nThis event is open to WOMEN who ar
 e 21-39, single or married.\nCome out to make new friends or come to n
 etwork.\nThere is no dress code and you may bring business cards.\n\n2
  Item Minimum:\nEveryone must purchase 2 items (drink only). Ask the b
 artender if there are any drink specials going on.\n\nTickets:\nThere 
 are a limited number of Tickets for sale. Tickets are not mailed, but 
 your name will be kept at the door. All sales are final.\n\nNJYP Host:
 \nTBD will be hosting this event.\n\nFor more information visit http:/
 /njyp.org/events/women-friending-4
DTSTART;TZID=America/New_York:20100525T190000
DTEND;TZID=America/New_York:20100525T210000
CATEGORIES:"middlesex county", social, "women only"
LOCATION:Glo Lounge
WEBSITE:http://glonj.com/
URL:http://glonj.com/
CONTACT:
ORGANIZER;CN="Brian and Mike":http://njyp.org/profile/BrianMike
ATTACH;FMTTYPE="image/jpeg":http://storage.ning.com/topology/rest/1.0/
 file/get/1088613681?profile=original
ATTENDEE;ROLE=REQ-PARTICIPANT;PARTSTAT=ACCEPTED;RSVP=TRUE;CN=Jennifer:
 http://njyp.org/profile/Jennifer587
ATTENDEE;ROLE=REQ-PARTICIPANT;PARTSTAT=ACCEPTED;RSVP=TRUE;CN=Kelley:ht
 tp://njyp.org/profile/KelleyBoyle
ATTENDEE;ROLE=REQ-PARTICIPANT;PARTSTAT=ACCEPTED;RSVP=TRUE;CN=Gretchen:
 http://njyp.org/profile/Gretchen432
ATTENDEE;ROLE=REQ-PARTICIPANT;PARTSTAT=ACCEPTED;RSVP=TRUE;CN=Melissa:h
 ttp://njyp.org/profile/Melissa43
ATTENDEE;ROLE=REQ-PARTICIPANT;PARTSTAT=ACCEPTED;RSVP=TRUE;CN="Lauren S
 eabrooks":http://njyp.org/profile/LaurenSeabrooks
ATTENDEE;ROLE=REQ-PARTICIPANT;PARTSTAT=ACCEPTED;RSVP=TRUE;CN="Karrin P
 erez":http://njyp.org/profile/KarrinPerez
ATTENDEE;ROLE=REQ-PARTICIPANT;PARTSTAT=ACCEPTED;RSVP=TRUE;CN=Carissa:h
 ttp://njyp.org/profile/Carissa
ATTENDEE;ROLE=REQ-PARTICIPANT;PARTSTAT=ACCEPTED;RSVP=TRUE;CN=Sara:http
 ://njyp.org/profile/SaraLevenstein
ATTENDEE;ROLE=REQ-PARTICIPANT;PARTSTAT=ACCEPTED;RSVP=TRUE;CN="Cindy Li
 n":http://njyp.org/profile/CindyLin
ATTENDEE;ROLE=REQ-PARTICIPANT;PARTSTAT=ACCEPTED;RSVP=TRUE;CN="Marley N
 olan":http://njyp.org/profile/MarleyNolan
ATTENDEE;ROLE=REQ-PARTICIPANT;PARTSTAT=ACCEPTED;RSVP=TRUE;CN="Carrie N
 .":http://njyp.org/profile/CarrieNeigel
ATTENDEE;ROLE=REQ-PARTICIPANT;PARTSTAT=ACCEPTED;RSVP=TRUE;CN=Sherin:ht
 tp://njyp.org/profile/Sherin
ATTENDEE;ROLE=REQ-PARTICIPANT;PARTSTAT=ACCEPTED;RSVP=TRUE;CN="Jennifer
  Redmond":http://njyp.org/profile/JenniferRedmond
ATTENDEE;ROLE=REQ-PARTICIPANT;PARTSTAT=ACCEPTED;RSVP=TRUE;CN=Lisa:http
 ://njyp.org/profile/Lisa416
ATTENDEE;ROLE=REQ-PARTICIPANT;PARTSTAT=ACCEPTED;RSVP=TRUE;CN="Allison 
 Jones":http://njyp.org/profile/AllisonJones
ATTENDEE;ROLE=REQ-PARTICIPANT;PARTSTAT=ACCEPTED;RSVP=TRUE;CN="Stephani
 e Coutros":http://njyp.org/profile/StephanieCoutros
ATTENDEE;ROLE=REQ-PARTICIPANT;PARTSTAT=ACCEPTED;RSVP=TRUE;CN="Belinda 
 Pentony":http://njyp.org/profile/BelindaPentony
ATTENDEE;ROLE=REQ-PARTICIPANT;PARTSTAT=ACCEPTED;RSVP=TRUE;CN="Allison 
 P. Kaplan":http://njyp.org/profile/AllisonPKaplan
ATTENDEE;ROLE=REQ-PARTICIPANT;PARTSTAT=ACCEPTED;RSVP=TRUE;CN="Brian an
 d Mike":http://njyp.org/profile/BrianMike
ATTENDEE;ROLE=REQ-PARTICIPANT;PARTSTAT=TENTATIVE;RSVP=TRUE;CN=Gabby:ht
 tp://njyp.org/profile/Gabby
ATTENDEE;ROLE=REQ-PARTICIPANT;PARTSTAT=TENTATIVE;RSVP=TRUE;CN="Elena P
 ":http://njyp.org/profile/ElenaPtchelintsevaRFC
ATTENDEE;ROLE=REQ-PARTICIPANT;PARTSTAT=TENTATIVE;RSVP=TRUE;CN="Sarah M
 iddleton":http://njyp.org/profile/SarahM
ATTENDEE;ROLE=REQ-PARTICIPANT;PARTSTAT=TENTATIVE;RSVP=TRUE;CN=Kirsten:
 http://njyp.org/profile/KirstenSwanson
ATTENDEE;ROLE=REQ-PARTICIPANT;PARTSTAT=TENTATIVE;RSVP=TRUE;CN=Lindsey:
 http://njyp.org/profile/Lindsey
ATTENDEE;ROLE=REQ-PARTICIPANT;PARTSTAT=TENTATIVE;RSVP=TRUE;CN=Debbie:h
 ttp://njyp.org/profile/Debbie
ATTENDEE;ROLE=REQ-PARTICIPANT;PARTSTAT=TENTATIVE;RSVP=TRUE;CN="Jennife
 r Decker":http://njyp.org/profile/JenniferDecker
END:VEVENT
END:VCALENDAR
