BEGIN:VCALENDAR
PRODID:NingEventWidget-v1
VERSION:2.0
METHOD:PUBLISH
BEGIN:VTIMEZONE
TZID:America/New_York
X-LIC-LOCATION:America/New_York
BEGIN:DAYLIGHT
TZOFFSETFROM:-0500
TZOFFSETTO:-0400
TZNAME:EDT
DTSTART:19700308T020000
RRULE:FREQ=YEARLY;BYMONTH=3;BYDAY=2SU
END:DAYLIGHT
BEGIN:STANDARD
TZOFFSETFROM:-0400
TZOFFSETTO:-0500
TZNAME:EST
DTSTART:19701101T020000
RRULE:FREQ=YEARLY;BYMONTH=11;BYDAY=1SU
END:STANDARD
END:VTIMEZONE
BEGIN:VEVENT
UID:2938326:Event:669904
DTSTAMP:20260420T042938Z
SUMMARY:Women's Walk and Talk in Ridgewood
DESCRIPTION:Let’s meet up after work for a “Walk and Talk” throu
 gh parts of the Saddle River County Park. The idea will be to meet oth
 er female, Young Professionals who live locally while spending some ti
 me outside; breathing in the warm summer air. After our walk we'll hea
 d over to The Office for cold drinks.  Cost: This is a “Members Only
 ” FREE event for women. You must be a Member, aka you paid your Memb
 ership Dues, http://www.njyp.org/page/pay-dues Please RSVP so we know
  to expect you.  Specs: We will walk for 30 minutes along the trail th
 en turn around and walk back. Pace will be brisk but slower than power
  walking.  What to Bring: Sneakers or good walking shoes will be fine.
  You can probably even do flip flops if you have a tolerance. Water an
 d Bug Spray.  Post-Event:Optionally, lets head over to The Office Bar 
 and Grill (32 Chestnut St, Ridgewood) just 1.5 miles away for drinks a
 nd dinner. Bring driving directions with you please and meet the group
  in the bar area or outside.  Host: Email info@NJYP.org if you can hos
 t.  How to find the Group: Meet us by this sign that sits along Ridgew
 ood Ave. Please be prompt, we will not wait for latecomers. Lots of fr
 ee parking! \n\nFor more information visit http://njyp.org/events/wome
 n-s-walk-and-talk-in-ridgewood
DTSTART;TZID=America/New_York:20150428T183000
DTEND;TZID=America/New_York:20150428T193000
CATEGORIES:"bergen county", athletic, social
LOCATION:Duck Pond Area of the Saddle River Co Park
WEBSITE:http://www.co.bergen.nj.us/bcparks/maps/WildDuckPond.pdf
URL:http://www.co.bergen.nj.us/bcparks/maps/WildDuckPond.pdf
CONTACT:
ORGANIZER;CN="Brian and Mike":http://njyp.org/profile/BrianMike
ATTACH;FMTTYPE="image/jpeg":http://storage.ning.com/topology/rest/1.0/
 file/get/1089052155?profile=original
ATTENDEE;ROLE=REQ-PARTICIPANT;PARTSTAT=ACCEPTED;RSVP=TRUE;CN="Joanna V
 ogel":http://njyp.org/profile/JoannaVogel
ATTENDEE;ROLE=REQ-PARTICIPANT;PARTSTAT=ACCEPTED;RSVP=TRUE;CN=Magaly:ht
 tp://njyp.org/profile/MagalyMaggie
ATTENDEE;ROLE=REQ-PARTICIPANT;PARTSTAT=ACCEPTED;RSVP=TRUE;CN=Mae:http:
 //njyp.org/profile/Mae
ATTENDEE;ROLE=REQ-PARTICIPANT;PARTSTAT=TENTATIVE;RSVP=TRUE;CN=Cara:htt
 p://njyp.org/profile/Cara737
ATTENDEE;ROLE=REQ-PARTICIPANT;PARTSTAT=TENTATIVE;RSVP=TRUE;CN=Zee:http
 ://njyp.org/profile/Zee687
END:VEVENT
END:VCALENDAR
