BEGIN:VCALENDAR
PRODID:NingEventWidget-v1
VERSION:2.0
METHOD:PUBLISH
BEGIN:VTIMEZONE
TZID:America/New_York
X-LIC-LOCATION:America/New_York
BEGIN:DAYLIGHT
TZOFFSETFROM:-0500
TZOFFSETTO:-0400
TZNAME:EDT
DTSTART:19700308T020000
RRULE:FREQ=YEARLY;BYMONTH=3;BYDAY=2SU
END:DAYLIGHT
BEGIN:STANDARD
TZOFFSETFROM:-0400
TZOFFSETTO:-0500
TZNAME:EST
DTSTART:19701101T020000
RRULE:FREQ=YEARLY;BYMONTH=11;BYDAY=1SU
END:STANDARD
END:VTIMEZONE
BEGIN:VEVENT
UID:2938326:Event:322083
DTSTAMP:20260421T063039Z
SUMMARY:Yoga for Beginners
DESCRIPTION:March comes in like a lion and goes out like a lamb- so ch
 eck your roars at the door and join us for an invigorating & relaxing 
 session at Ananta Yoga Studio.   Using this ancient practice, we’l
 l release tensions from the work week and embrace an inner calmness fo
 r the next.  After we stretch our stress away, we’ll enjoy a health
 y lunch nearby.  Who can Attend: This class will be for those who are 
 new to yoga and for those who are rusty. Women or men who are 21 to 39
  years old. This will be a private event just for our organization.  W
 hat to bring: Here's an article on what to wear, http://www.livestrong
 .com/article/18568-wear-yoga/ Bring a towel and a bottle of water. Bri
 ng a yoga mat. You can rent one there if you do not own one.  \n Membe
 r Cost: $15 for the first 20 to register $20 for everyone else  Non-Me
 mber Cost: $25  Are you a Sideliner or Player? Go here for ticket disc
 ount info, http://www.njyp.org/group/the-better-body-challenge-main-gr
 oup  Tickets: There are a limited number of Tickets for sale. Tickets 
 are not mailed, but your name will be kept at the door. All sales are 
 final.  Directions: http://www.wayneyoga.com/location.php Parking lot 
 behind the building.\n\nFor more information visit http://njyp.org/eve
 nts/yoga-for-beginners
DTSTART;TZID=America/New_York:20120318T110000
DTEND;TZID=America/New_York:20120318T120000
CATEGORIES:"passaic county", athletic, bbc
LOCATION:Ananta Yoga
WEBSITE:http://www.wayneyoga.com/location.php
URL:http://www.wayneyoga.com/location.php
CONTACT:
ORGANIZER;CN="Brian and Mike":http://njyp.org/profile/BrianMike
ATTACH;FMTTYPE="image/jpeg":http://storage.ning.com/topology/rest/1.0/
 file/get/1088760133?profile=original
ATTENDEE;ROLE=REQ-PARTICIPANT;PARTSTAT=ACCEPTED;RSVP=TRUE;CN=Larry:htt
 p://njyp.org/profile/LarryYang
ATTENDEE;ROLE=REQ-PARTICIPANT;PARTSTAT=ACCEPTED;RSVP=TRUE;CN="Jessica 
 Gill":http://njyp.org/profile/JessicaGill
ATTENDEE;ROLE=REQ-PARTICIPANT;PARTSTAT=ACCEPTED;RSVP=TRUE;CN=Sara:http
 ://njyp.org/profile/Sara409
ATTENDEE;ROLE=REQ-PARTICIPANT;PARTSTAT=ACCEPTED;RSVP=TRUE;CN="Lisa E":
 http://njyp.org/profile/Lisa816
ATTENDEE;ROLE=REQ-PARTICIPANT;PARTSTAT=ACCEPTED;RSVP=TRUE;CN=Pam:http:
 //njyp.org/profile/PamStomel
ATTENDEE;ROLE=REQ-PARTICIPANT;PARTSTAT=ACCEPTED;RSVP=TRUE;CN=Keri:http
 ://njyp.org/profile/Keri690
ATTENDEE;ROLE=REQ-PARTICIPANT;PARTSTAT=ACCEPTED;RSVP=TRUE;CN=Gina:http
 ://njyp.org/profile/Gina815
ATTENDEE;ROLE=REQ-PARTICIPANT;PARTSTAT=ACCEPTED;RSVP=TRUE;CN="Brian an
 d Mike":http://njyp.org/profile/BrianMike
ATTENDEE;ROLE=REQ-PARTICIPANT;PARTSTAT=ACCEPTED;RSVP=TRUE;CN=Diana:htt
 p://njyp.org/profile/Diana437
ATTENDEE;ROLE=REQ-PARTICIPANT;PARTSTAT=TENTATIVE;RSVP=TRUE;CN="Justin 
 Gross":http://njyp.org/profile/JustinGross
ATTENDEE;ROLE=REQ-PARTICIPANT;PARTSTAT=TENTATIVE;RSVP=TRUE;CN=Dejan:ht
 tp://njyp.org/profile/Dejan
ATTENDEE;ROLE=REQ-PARTICIPANT;PARTSTAT=TENTATIVE;RSVP=TRUE;CN="Janet S
 tevens":http://njyp.org/profile/JanetStevens
ATTENDEE;ROLE=REQ-PARTICIPANT;PARTSTAT=TENTATIVE;RSVP=TRUE;CN="Anne Ma
 rie":http://njyp.org/profile/AnneMarie376
ATTENDEE;ROLE=REQ-PARTICIPANT;PARTSTAT=TENTATIVE;RSVP=TRUE;CN=Jessica:
 http://njyp.org/profile/JessicaNatalizio
ATTENDEE;ROLE=REQ-PARTICIPANT;PARTSTAT=TENTATIVE;RSVP=TRUE;CN="Kevin H
 aughwout":http://njyp.org/profile/KevinHaughwout
END:VEVENT
END:VCALENDAR
