BEGIN:VCALENDAR
PRODID:NingEventWidget-v1
VERSION:2.0
METHOD:PUBLISH
BEGIN:VTIMEZONE
TZID:America/New_York
X-LIC-LOCATION:America/New_York
BEGIN:DAYLIGHT
TZOFFSETFROM:-0500
TZOFFSETTO:-0400
TZNAME:EDT
DTSTART:19700308T020000
RRULE:FREQ=YEARLY;BYMONTH=3;BYDAY=2SU
END:DAYLIGHT
BEGIN:STANDARD
TZOFFSETFROM:-0400
TZOFFSETTO:-0500
TZNAME:EST
DTSTART:19701101T020000
RRULE:FREQ=YEARLY;BYMONTH=11;BYDAY=1SU
END:STANDARD
END:VTIMEZONE
BEGIN:VEVENT
UID:2938326:Event:428467
DTSTAMP:20260421T040404Z
SUMMARY:Yoga Renewal in Morristown
DESCRIPTION:Join us for an invigorating & relaxing session at Yoga Mon
 tclair. Using this ancient practice, we’ll release tensions from the
  work week and embrace an inner calmness.  Who can Attend: All levels 
 may attend. This will not be a private event; we will join in on a cla
 ss that already exists.  What to bring: Here's an article on what to w
 ear, http://www.livestrong.com/article/18568-wear-yoga/ Remember socks
 . Bring a towel and a reusable bottle of water. Bring a yoga mat. You 
 can rent one there for $1 if you do not own one.  Cost: $15 for Better
  Body Challenge participants $19 for everyone else Payable at the door
   Are you a Sideliner or Player? Go here for ticket discount info, htt
 p://www.njyp.org/group/the-better-body-challenge-2013  Tickets: There 
 are a limited number of Tickets for sale. Tickets are not mailed, but 
 your name will be kept at the door. All sales are final.  Directions:h
 ttp://www.yogainmorristown.com/\n\nFor more information visit http://n
 jyp.org/events/yoga-renewal-in-morristown
DTSTART;TZID=America/New_York:20130407T111500
DTEND;TZID=America/New_York:20130407T123000
CATEGORIES:"morris county", athletic, bbc
LOCATION:Yoga Morristown
WEBSITE:http://www.yogainmorristown.com/
URL:http://www.yogainmorristown.com/
CONTACT:
ORGANIZER;CN="Brian and Mike":http://njyp.org/profile/BrianMike
ATTACH;FMTTYPE="image/jpeg":http://storage.ning.com/topology/rest/1.0/
 file/get/1088848965?profile=original
ATTENDEE;ROLE=REQ-PARTICIPANT;PARTSTAT=ACCEPTED;RSVP=TRUE;CN="Brian an
 d Mike":http://njyp.org/profile/BrianMike
END:VEVENT
END:VCALENDAR
