BEGIN:VCALENDAR
PRODID:NingEventWidget-v1
VERSION:2.0
METHOD:PUBLISH
BEGIN:VTIMEZONE
TZID:America/New_York
X-LIC-LOCATION:America/New_York
BEGIN:DAYLIGHT
TZOFFSETFROM:-0500
TZOFFSETTO:-0400
TZNAME:EDT
DTSTART:19700308T020000
RRULE:FREQ=YEARLY;BYMONTH=3;BYDAY=2SU
END:DAYLIGHT
BEGIN:STANDARD
TZOFFSETFROM:-0400
TZOFFSETTO:-0500
TZNAME:EST
DTSTART:19701101T020000
RRULE:FREQ=YEARLY;BYMONTH=11;BYDAY=1SU
END:STANDARD
END:VTIMEZONE
BEGIN:VEVENT
UID:2938326:Event:534406
DTSTAMP:20260419T223627Z
SUMMARY:Yoga Wine Trail (Sponsored)
DESCRIPTION:Yoga, nature, and wine…. together, they can provide a wa
 y to unwind the mind, body, and spirit. Unique Yoga Events is offering
  a Yoga Wine Trail at Cava Winery in New Jersey starting. The class w
 ill be held outdoors and is designed to suit all experience levels, be
 ginner to advanced. Tickets are available for $25 but are limited.\n\n
 Purchase tickers here:\nCava Winery Tickets\n\nSituated in the beautif
 ul Skylands of northwest New Jersey, Cava Winery & Vineyard is a story
  of a family journey.  The name Cava in Italian means cave or mine. W
 ith Hamburg and the surrounding towns known for their history in minin
 g, the name seemed an appropriate tribute to the blistered hands that 
 achieved the area’s reputation.\n\nYoga encourages us to gracefully 
 unwind and age, much like a beautiful bottle of wine. Your focus will 
 be drawn away from the everyday hustle and bustle and released into th
 e beautiful air of a vast  with this one of a kind yoga class. Each 
 class is designed to relax the mind and open the senses to encourage a
  mindful, one of a kind wine tasting experience.\n\n- Class is 60 minu
 tes\n- Wine tasting to follow class - Beginners are encouraged to join
 ! - Wear comfortable clothing, dress for outdoor weather - Bring a yog
 a mat and water - Contact info@yogawinetrail.com with any questions\
 n\nPlease note this is a sponsored event. If you wish to meet up with 
 other NJYP Members please post on the event wall.\n\nFor more informat
 ion visit http://njyp.org/events/yoga-wine-trail-sponsored
DTSTART;TZID=America/New_York:20140503T110000
DTEND;TZID=America/New_York:20140503T130000
CATEGORIES:"sussex county", athletic, sponsored
LOCATION:Cava Winery
WEBSITE:http://yogawinetrail.com
URL:http://yogawinetrail.com
CONTACT:
ORGANIZER;CN=Admin:http://njyp.org/profile/Admin
ATTACH;FMTTYPE="image/jpeg":http://storage.ning.com/topology/rest/1.0/
 file/get/1088944906?profile=original
ATTENDEE;ROLE=REQ-PARTICIPANT;PARTSTAT=ACCEPTED;RSVP=TRUE;CN=Hema:http
 ://njyp.org/profile/Hema
ATTENDEE;ROLE=REQ-PARTICIPANT;PARTSTAT=ACCEPTED;RSVP=TRUE;CN=Natalie:h
 ttp://njyp.org/profile/Natalie642
ATTENDEE;ROLE=REQ-PARTICIPANT;PARTSTAT=ACCEPTED;RSVP=TRUE;CN="Karrin P
 erez":http://njyp.org/profile/KarrinPerez
ATTENDEE;ROLE=REQ-PARTICIPANT;PARTSTAT=ACCEPTED;RSVP=TRUE;CN=Jamie:htt
 p://njyp.org/profile/Jamie127
ATTENDEE;ROLE=REQ-PARTICIPANT;PARTSTAT=ACCEPTED;RSVP=TRUE;CN=Admin:htt
 p://njyp.org/profile/Admin
ATTENDEE;ROLE=REQ-PARTICIPANT;PARTSTAT=TENTATIVE;RSVP=TRUE;CN=Michael:
 http://njyp.org/profile/Michael858
ATTENDEE;ROLE=REQ-PARTICIPANT;PARTSTAT=TENTATIVE;RSVP=TRUE;CN=Kalie:ht
 tp://njyp.org/profile/Kalie612
ATTENDEE;ROLE=REQ-PARTICIPANT;PARTSTAT=TENTATIVE;RSVP=TRUE;CN="Jeffrey
  Gates":http://njyp.org/profile/JeffreyGates
ATTENDEE;ROLE=REQ-PARTICIPANT;PARTSTAT=TENTATIVE;RSVP=TRUE;CN=Rachel:h
 ttp://njyp.org/profile/Rachel686
ATTENDEE;ROLE=REQ-PARTICIPANT;PARTSTAT=TENTATIVE;RSVP=TRUE;CN=Ilam:htt
 p://njyp.org/profile/Ilam
ATTENDEE;ROLE=REQ-PARTICIPANT;PARTSTAT=TENTATIVE;RSVP=TRUE;CN=Larry:ht
 tp://njyp.org/profile/LarryYang
END:VEVENT
END:VCALENDAR
