BEGIN:VCALENDAR
PRODID:NingEventWidget-v1
VERSION:2.0
METHOD:PUBLISH
BEGIN:VTIMEZONE
TZID:America/New_York
X-LIC-LOCATION:America/New_York
BEGIN:DAYLIGHT
TZOFFSETFROM:-0500
TZOFFSETTO:-0400
TZNAME:EDT
DTSTART:19700308T020000
RRULE:FREQ=YEARLY;BYMONTH=3;BYDAY=2SU
END:DAYLIGHT
BEGIN:STANDARD
TZOFFSETFROM:-0400
TZOFFSETTO:-0500
TZNAME:EST
DTSTART:19701101T020000
RRULE:FREQ=YEARLY;BYMONTH=11;BYDAY=1SU
END:STANDARD
END:VTIMEZONE
BEGIN:VEVENT
UID:2938326:Event:107733
DTSTAMP:20260421T091834Z
SUMMARY:YP Multi-Group Mixer
DESCRIPTION:The Young Professionals Multi-Group Mixer is an extraordin
 ary event that will combine both business and social networking. 400-5
 00 Young Professionals from 20 different YP organizations are expected
  to attend our NINTH bi-annual event scheduled for Nov 11th at the 4Si
 xty6 in West Orange, NJ. Registration is now open so grab a ticket and
  save the date!\n\nPictures from the April 2010 YP Multi-Group Mixer, 
 http://www.njyp.org/photo/albums/young-professionals-multigroup-1\n\nA
 tmosphere:\n* This event is strictly for those 21-39 years old and is 
 open to all career types.\n* The YP Mixer will run like an extended co
 cktail hour with drink specials and light hors d'oeuvres.\n* Lights an
 d music will be low but not too low.\n* The dress code is Business or 
 Business Casual.\n* Bring at least 30 to 60 business cards and any lit
 erature you may have. Some past participants have also brought resumes
  and portfolios.\n\nInformation Tables:\nVarious organization and comp
 anies will have an information table set-up. Stop by to obtain literat
 ure, enter raffles, and grab freebies! If you would like to have a tab
 le at the event contact Laura@NJYP.org\n\n\n\nMember Cost:\n$10 for th
 e first 100 Members\n$15 for the next 100+ Members\n$20 at the door, t
 he day of\n\nNon-Member Cost:\n$20 online or at the door\n\nTickets:\n
 There are a limited number of Tickets for sale. Tickets are not mailed
 , but your name will be kept at the door. All sales are final.\n\nUNEM
 PLOYED OPTION:\nAre you looking for a new job? Job seekers will be giv
 en a glow bracelet. This will help recruiters and those looking to hir
 e find you quickly in the crowd!\n\nSpecials:\nComplimentary light hor
 s d' oeuvres for the first two hours.\n$4 Beers and $6 Wines and Mixed
  Drinks\n\nDirections/Parking:\nhttp://4sixty6.com/contact/\n\nThis YP
  Mixer is by invite only and will include members from the following o
 rganizations:\n1. AIA NJ Emerging Professionals / Young Architects For
 um\n2. AIChE- NJ section\n3. Architecture for Humanity -Newark Chapter
 \n4. ArtPride NJ\n5. BlackNJ\n6. Cook College/Community Young Alumni\n
 7. Discover Jersey Arts\n8. Jersey Young Urban Professionals\n9. Jewis
 h Young Adults of Hoboken\n10. Let My People Go\n11. Morris County Jay
 cees\n12. NetParty\n13. New Jersey Young Professionals\n14. NJ Chapter
  of The Leukemia & Lymphoma Society's Young Professionals Committee\n1
 5. NJ Young Latino Professionals\n16. Rockland / Bergen Young Professi
 onals\n17. Rutgers University Alumni Association\n18. Team Charity\n19
 . Young Professionals of North Jersey\n20. Young Professionals of Some
 rset County United Way\n\nFor more information visit http://njyp.org/e
 vents/yp-multigroup-mixer-1
DTSTART;TZID=America/New_York:20101111T183000
DTEND;TZID=America/New_York:20101111T223000
CATEGORIES:"essex county", social, networking
LOCATION:4Sixty6
WEBSITE:http://4sixty6.com/contact/
URL:http://4sixty6.com/contact/
CONTACT:
ORGANIZER;CN="Brian and Mike":http://njyp.org/profile/BrianMike
ATTACH;FMTTYPE="image/jpeg":http://storage.ning.com/topology/rest/1.0/
 file/get/1088652904?profile=original
ATTENDEE;ROLE=REQ-PARTICIPANT;PARTSTAT=ACCEPTED;RSVP=TRUE;CN=James:htt
 p://njyp.org/profile/JamesShow
ATTENDEE;ROLE=REQ-PARTICIPANT;PARTSTAT=ACCEPTED;RSVP=TRUE;CN=Kim:http:
 //njyp.org/profile/Kim17
ATTENDEE;ROLE=REQ-PARTICIPANT;PARTSTAT=ACCEPTED;RSVP=TRUE;CN=Alessio:h
 ttp://njyp.org/profile/Alessio
ATTENDEE;ROLE=REQ-PARTICIPANT;PARTSTAT=ACCEPTED;RSVP=TRUE;CN=Angela:ht
 tp://njyp.org/profile/Angela594
ATTENDEE;ROLE=REQ-PARTICIPANT;PARTSTAT=ACCEPTED;RSVP=TRUE;CN=R:http://
 njyp.org/profile/RaymondJ
ATTENDEE;ROLE=REQ-PARTICIPANT;PARTSTAT=ACCEPTED;RSVP=TRUE;CN="Jessica 
 Gill":http://njyp.org/profile/JessicaGill
ATTENDEE;ROLE=REQ-PARTICIPANT;PARTSTAT=ACCEPTED;RSVP=TRUE;CN="Jeffrey 
 Key":http://njyp.org/profile/JeffreyKey
ATTENDEE;ROLE=REQ-PARTICIPANT;PARTSTAT=ACCEPTED;RSVP=TRUE;CN="Lori Bur
 r":http://njyp.org/profile/LoriBurr
ATTENDEE;ROLE=REQ-PARTICIPANT;PARTSTAT=ACCEPTED;RSVP=TRUE;CN="Tim B":h
 ttp://njyp.org/profile/TimBreen
ATTENDEE;ROLE=REQ-PARTICIPANT;PARTSTAT=ACCEPTED;RSVP=TRUE;CN=Adriana:h
 ttp://njyp.org/profile/Adriana265
ATTENDEE;ROLE=REQ-PARTICIPANT;PARTSTAT=ACCEPTED;RSVP=TRUE;CN=Phil:http
 ://njyp.org/profile/Phil484
ATTENDEE;ROLE=REQ-PARTICIPANT;PARTSTAT=ACCEPTED;RSVP=TRUE;CN=Romin:htt
 p://njyp.org/profile/Raina
ATTENDEE;ROLE=REQ-PARTICIPANT;PARTSTAT=ACCEPTED;RSVP=TRUE;CN=Brian:htt
 p://njyp.org/profile/Brian453
ATTENDEE;ROLE=REQ-PARTICIPANT;PARTSTAT=ACCEPTED;RSVP=TRUE;CN=Millie:ht
 tp://njyp.org/profile/Millie
ATTENDEE;ROLE=REQ-PARTICIPANT;PARTSTAT=ACCEPTED;RSVP=TRUE;CN="Chip Rob
 inson":http://njyp.org/profile/ChipRobinson
ATTENDEE;ROLE=REQ-PARTICIPANT;PARTSTAT=ACCEPTED;RSVP=TRUE;CN=Adrienne:
 http://njyp.org/profile/Adrienne
ATTENDEE;ROLE=REQ-PARTICIPANT;PARTSTAT=ACCEPTED;RSVP=TRUE;CN=Kurt:http
 ://njyp.org/profile/Kurt
ATTENDEE;ROLE=REQ-PARTICIPANT;PARTSTAT=ACCEPTED;RSVP=TRUE;CN="Lauren S
 wern":http://njyp.org/profile/LaurenSwern
ATTENDEE;ROLE=REQ-PARTICIPANT;PARTSTAT=ACCEPTED;RSVP=TRUE;CN=Mercedes:
 http://njyp.org/profile/MercedesMora
ATTENDEE;ROLE=REQ-PARTICIPANT;PARTSTAT=ACCEPTED;RSVP=TRUE;CN=Christoph
 er:http://njyp.org/profile/Christopher855
ATTENDEE;ROLE=REQ-PARTICIPANT;PARTSTAT=ACCEPTED;RSVP=TRUE;CN=Preeti:ht
 tp://njyp.org/profile/Preeti
ATTENDEE;ROLE=REQ-PARTICIPANT;PARTSTAT=ACCEPTED;RSVP=TRUE;CN=Kimberly:
 http://njyp.org/profile/Kimberly35
ATTENDEE;ROLE=REQ-PARTICIPANT;PARTSTAT=ACCEPTED;RSVP=TRUE;CN="Marisa E
 sposito":http://njyp.org/profile/MarisaEsposito
ATTENDEE;ROLE=REQ-PARTICIPANT;PARTSTAT=ACCEPTED;RSVP=TRUE;CN="Ken S.":
 http://njyp.org/profile/KennethSirower
ATTENDEE;ROLE=REQ-PARTICIPANT;PARTSTAT=ACCEPTED;RSVP=TRUE;CN="Richard 
 Neretic":http://njyp.org/profile/RichardNeretic
ATTENDEE;ROLE=REQ-PARTICIPANT;PARTSTAT=ACCEPTED;RSVP=TRUE;CN="Jeffrey 
 Gates":http://njyp.org/profile/JeffreyGates
ATTENDEE;ROLE=REQ-PARTICIPANT;PARTSTAT=ACCEPTED;RSVP=TRUE;CN="Louis C.
  Hochman":http://njyp.org/profile/LouisCHochman
ATTENDEE;ROLE=REQ-PARTICIPANT;PARTSTAT=ACCEPTED;RSVP=TRUE;CN="T.J.":ht
 tp://njyp.org/profile/TJEsposito
ATTENDEE;ROLE=REQ-PARTICIPANT;PARTSTAT=ACCEPTED;RSVP=TRUE;CN=John:http
 ://njyp.org/profile/John141
ATTENDEE;ROLE=REQ-PARTICIPANT;PARTSTAT=ACCEPTED;RSVP=TRUE;CN=Allison:h
 ttp://njyp.org/profile/Allison91
ATTENDEE;ROLE=REQ-PARTICIPANT;PARTSTAT=ACCEPTED;RSVP=TRUE;CN="Vincent 
 Pittaro":http://njyp.org/profile/VincentPittaroJr
ATTENDEE;ROLE=REQ-PARTICIPANT;PARTSTAT=ACCEPTED;RSVP=TRUE;CN="Ryan Hub
 an":http://njyp.org/profile/RyanHuban
ATTENDEE;ROLE=REQ-PARTICIPANT;PARTSTAT=ACCEPTED;RSVP=TRUE;CN=Abby:http
 ://njyp.org/profile/Abby
ATTENDEE;ROLE=REQ-PARTICIPANT;PARTSTAT=ACCEPTED;RSVP=TRUE;CN=Olya:http
 ://njyp.org/profile/Olya
ATTENDEE;ROLE=REQ-PARTICIPANT;PARTSTAT=ACCEPTED;RSVP=TRUE;CN="Daniel L
 ahey":http://njyp.org/profile/DanielLahey
ATTENDEE;ROLE=REQ-PARTICIPANT;PARTSTAT=ACCEPTED;RSVP=TRUE;CN=Melissa:h
 ttp://njyp.org/profile/Melissa302
ATTENDEE;ROLE=REQ-PARTICIPANT;PARTSTAT=ACCEPTED;RSVP=TRUE;CN=Saila:htt
 p://njyp.org/profile/Saila
ATTENDEE;ROLE=REQ-PARTICIPANT;PARTSTAT=ACCEPTED;RSVP=TRUE;CN=Lissa:htt
 p://njyp.org/profile/Lissa
ATTENDEE;ROLE=REQ-PARTICIPANT;PARTSTAT=ACCEPTED;RSVP=TRUE;CN="Jennifer
  Redmond":http://njyp.org/profile/JenniferRedmond
ATTENDEE;ROLE=REQ-PARTICIPANT;PARTSTAT=ACCEPTED;RSVP=TRUE;CN=Maria:htt
 p://njyp.org/profile/Maria357
ATTENDEE;ROLE=REQ-PARTICIPANT;PARTSTAT=ACCEPTED;RSVP=TRUE;CN="Amit Pat
 el":http://njyp.org/profile/AmitPatel
ATTENDEE;ROLE=REQ-PARTICIPANT;PARTSTAT=ACCEPTED;RSVP=TRUE;CN=Kelley:ht
 tp://njyp.org/profile/KelleyBoyle
ATTENDEE;ROLE=REQ-PARTICIPANT;PARTSTAT=ACCEPTED;RSVP=TRUE;CN=Lowell:ht
 tp://njyp.org/profile/Lowell
ATTENDEE;ROLE=REQ-PARTICIPANT;PARTSTAT=ACCEPTED;RSVP=TRUE;CN=Michelle:
 http://njyp.org/profile/Michelle768
ATTENDEE;ROLE=REQ-PARTICIPANT;PARTSTAT=ACCEPTED;RSVP=TRUE;CN="Alicia Z
 ":http://njyp.org/profile/AliciaZagorski
ATTENDEE;ROLE=REQ-PARTICIPANT;PARTSTAT=ACCEPTED;RSVP=TRUE;CN="Jenna Cl
 ausen":http://njyp.org/profile/JennaClausen
ATTENDEE;ROLE=REQ-PARTICIPANT;PARTSTAT=ACCEPTED;RSVP=TRUE;CN=Magaly:ht
 tp://njyp.org/profile/MagalyMaggie
ATTENDEE;ROLE=REQ-PARTICIPANT;PARTSTAT=ACCEPTED;RSVP=TRUE;CN=Viola:htt
 p://njyp.org/profile/Viola
ATTENDEE;ROLE=REQ-PARTICIPANT;PARTSTAT=ACCEPTED;RSVP=TRUE;CN="Lillian 
 T.":http://njyp.org/profile/LillianT
ATTENDEE;ROLE=REQ-PARTICIPANT;PARTSTAT=ACCEPTED;RSVP=TRUE;CN=Jennifer:
 http://njyp.org/profile/JenniferGates
ATTENDEE;ROLE=REQ-PARTICIPANT;PARTSTAT=TENTATIVE;RSVP=TRUE;CN="Zack Ja
 mes":http://njyp.org/profile/ZacharyRJames
ATTENDEE;ROLE=REQ-PARTICIPANT;PARTSTAT=TENTATIVE;RSVP=TRUE;CN=Ade:http
 ://njyp.org/profile/Clement
ATTENDEE;ROLE=REQ-PARTICIPANT;PARTSTAT=TENTATIVE;RSVP=TRUE;CN=Aleia:ht
 tp://njyp.org/profile/Aleia
ATTENDEE;ROLE=REQ-PARTICIPANT;PARTSTAT=TENTATIVE;RSVP=TRUE;CN=Rich:htt
 p://njyp.org/profile/Shami
ATTENDEE;ROLE=REQ-PARTICIPANT;PARTSTAT=TENTATIVE;RSVP=TRUE;CN="Lori Si
 nclair":http://njyp.org/profile/LoriSinclair
ATTENDEE;ROLE=REQ-PARTICIPANT;PARTSTAT=TENTATIVE;RSVP=TRUE;CN=Ahsan:ht
 tp://njyp.org/profile/Ahsan
ATTENDEE;ROLE=REQ-PARTICIPANT;PARTSTAT=TENTATIVE;RSVP=TRUE;CN=Jenn:htt
 p://njyp.org/profile/Jenn231
ATTENDEE;ROLE=REQ-PARTICIPANT;PARTSTAT=TENTATIVE;RSVP=TRUE;CN=Pamela:h
 ttp://njyp.org/profile/Pamela791
ATTENDEE;ROLE=REQ-PARTICIPANT;PARTSTAT=TENTATIVE;RSVP=TRUE;CN=Minesh:h
 ttp://njyp.org/profile/Max
ATTENDEE;ROLE=REQ-PARTICIPANT;PARTSTAT=TENTATIVE;RSVP=TRUE;CN=Shyam:ht
 tp://njyp.org/profile/Shyam
ATTENDEE;ROLE=REQ-PARTICIPANT;PARTSTAT=TENTATIVE;RSVP=TRUE;CN=Gerald:h
 ttp://njyp.org/profile/GeraldFittipaldi
ATTENDEE;ROLE=REQ-PARTICIPANT;PARTSTAT=TENTATIVE;RSVP=TRUE;CN="Jon Ber
 rian":http://njyp.org/profile/JonBerrian
ATTENDEE;ROLE=REQ-PARTICIPANT;PARTSTAT=TENTATIVE;RSVP=TRUE;CN=Henrique
 :http://njyp.org/profile/Henrique
ATTENDEE;ROLE=REQ-PARTICIPANT;PARTSTAT=TENTATIVE;RSVP=TRUE;CN=Daniela:
 http://njyp.org/profile/Daniela
ATTENDEE;ROLE=REQ-PARTICIPANT;PARTSTAT=TENTATIVE;RSVP=TRUE;CN=Matt:htt
 p://njyp.org/profile/Matt471
ATTENDEE;ROLE=REQ-PARTICIPANT;PARTSTAT=TENTATIVE;RSVP=TRUE;CN=Laura:ht
 tp://njyp.org/profile/Laura668
ATTENDEE;ROLE=REQ-PARTICIPANT;PARTSTAT=TENTATIVE;RSVP=TRUE;CN=Carol:ht
 tp://njyp.org/profile/Carol
ATTENDEE;ROLE=REQ-PARTICIPANT;PARTSTAT=TENTATIVE;RSVP=TRUE;CN="A D Y":
 http://njyp.org/profile/ADY
ATTENDEE;ROLE=REQ-PARTICIPANT;PARTSTAT=TENTATIVE;RSVP=TRUE;CN=sandra:h
 ttp://njyp.org/profile/sandra307
ATTENDEE;ROLE=REQ-PARTICIPANT;PARTSTAT=TENTATIVE;RSVP=TRUE;CN=Kelvin:h
 ttp://njyp.org/profile/Kelvin
ATTENDEE;ROLE=REQ-PARTICIPANT;PARTSTAT=TENTATIVE;RSVP=TRUE;CN=Nathan:h
 ttp://njyp.org/profile/NathanMcMillan
ATTENDEE;ROLE=REQ-PARTICIPANT;PARTSTAT=TENTATIVE;RSVP=TRUE;CN=Sarah:ht
 tp://njyp.org/profile/Sarah210
ATTENDEE;ROLE=REQ-PARTICIPANT;PARTSTAT=TENTATIVE;RSVP=TRUE;CN="Amanda 
 Taylor":http://njyp.org/profile/AmandaTaylor
ATTENDEE;ROLE=REQ-PARTICIPANT;PARTSTAT=TENTATIVE;RSVP=TRUE;CN=Bisha:ht
 tp://njyp.org/profile/Bisha
ATTENDEE;ROLE=REQ-PARTICIPANT;PARTSTAT=TENTATIVE;RSVP=TRUE;CN="Deb P."
 :http://njyp.org/profile/DebPassner
ATTENDEE;ROLE=REQ-PARTICIPANT;PARTSTAT=TENTATIVE;RSVP=TRUE;CN="Ayana C
 .":http://njyp.org/profile/AyanaCJoseph
ATTENDEE;ROLE=REQ-PARTICIPANT;PARTSTAT=TENTATIVE;RSVP=TRUE;CN="Tricia 
 McAleer":http://njyp.org/profile/TriciaMcAleer
ATTENDEE;ROLE=REQ-PARTICIPANT;PARTSTAT=TENTATIVE;RSVP=TRUE;CN=Regina:h
 ttp://njyp.org/profile/Regina
ATTENDEE;ROLE=REQ-PARTICIPANT;PARTSTAT=TENTATIVE;RSVP=TRUE;CN="Lisa F"
 :http://njyp.org/profile/LisaF
ATTENDEE;ROLE=REQ-PARTICIPANT;PARTSTAT=TENTATIVE;RSVP=TRUE;CN="Shahroo
 z Bhopti":http://njyp.org/profile/speedlike
ATTENDEE;ROLE=REQ-PARTICIPANT;PARTSTAT=TENTATIVE;RSVP=TRUE;CN=Justin:h
 ttp://njyp.org/profile/Justin97
ATTENDEE;ROLE=REQ-PARTICIPANT;PARTSTAT=TENTATIVE;RSVP=TRUE;CN=Angeliqu
 e:http://njyp.org/profile/Angelique
ATTENDEE;ROLE=REQ-PARTICIPANT;PARTSTAT=TENTATIVE;RSVP=TRUE;CN=MaryGrac
 e:http://njyp.org/profile/MaryGrace
END:VEVENT
END:VCALENDAR
