BEGIN:VCALENDAR
PRODID:NingEventWidget-v1
VERSION:2.0
METHOD:PUBLISH
BEGIN:VTIMEZONE
TZID:America/New_York
X-LIC-LOCATION:America/New_York
BEGIN:DAYLIGHT
TZOFFSETFROM:-0500
TZOFFSETTO:-0400
TZNAME:EDT
DTSTART:19700308T020000
RRULE:FREQ=YEARLY;BYMONTH=3;BYDAY=2SU
END:DAYLIGHT
BEGIN:STANDARD
TZOFFSETFROM:-0400
TZOFFSETTO:-0500
TZNAME:EST
DTSTART:19701101T020000
RRULE:FREQ=YEARLY;BYMONTH=11;BYDAY=1SU
END:STANDARD
END:VTIMEZONE
BEGIN:VEVENT
UID:2938326:Event:364231
DTSTAMP:20260422T064941Z
SUMMARY:Zombie Prom Night Fundraiser
DESCRIPTION:Don your finest dresses, suits…and bloody green zombie g
 oo! It’s prom night, ZOMBIE style. Enjoy an evening of music (“Thr
 iller”, anyone?), dancing (can you say “Monster Mash\"?), refreshm
 ents (don’t worry—it’s not brains), BYO-merriment, and priceless
  photo ops. You may even been named zombie-prom queen or king! All pro
 ceeds benefit Tomfoolery Theatre Inc.’s summer production of ZOMBIE 
 PROM: The Musical. Proceeds from every Tomfoolery Theatre production 
 benefit The ROSE Foundation of Haiti.\n\nWho Should Attend:\nThis part
 y is for zombies of all persuasions, not just NJYP.\n Tickets:\n$10 at
  the door\n\nWhat to Wear/What to Bring:\nWear Prom night attire & you
 r most creative zombie face. Plus, don't forget to BYOB.\n\nHow to Fin
 d the Group:\nNJYP zombies will mix & mingle with the general public. 
 Don’t worry—they’re friendly and don't bite...much.\n\nFor more 
 information visit http://njyp.org/events/zombie-prom-night-fundraiser
DTSTART;TZID=America/New_York:20120720T200000
DTEND;TZID=America/New_York:20120720T230000
CATEGORIES:social, "bergen county"
LOCATION:Guardian Angel Church Auditorium
WEBSITE:https://sites.google.com/site/tomfoolerytheatre/
URL:https://sites.google.com/site/tomfoolerytheatre/
CONTACT:
ORGANIZER;CN=Admin:http://njyp.org/profile/Admin
ATTACH;FMTTYPE="image/jpeg":http://storage.ning.com/topology/rest/1.0/
 file/get/1088792468?profile=original
ATTENDEE;ROLE=REQ-PARTICIPANT;PARTSTAT=ACCEPTED;RSVP=TRUE;CN=Katie:htt
 p://njyp.org/profile/Katie684
ATTENDEE;ROLE=REQ-PARTICIPANT;PARTSTAT=ACCEPTED;RSVP=TRUE;CN=Admin:htt
 p://njyp.org/profile/Admin
ATTENDEE;ROLE=REQ-PARTICIPANT;PARTSTAT=TENTATIVE;RSVP=TRUE;CN=Edward:h
 ttp://njyp.org/profile/EKotwica
ATTENDEE;ROLE=REQ-PARTICIPANT;PARTSTAT=TENTATIVE;RSVP=TRUE;CN=Steve:ht
 tp://njyp.org/profile/Steve355
ATTENDEE;ROLE=REQ-PARTICIPANT;PARTSTAT=TENTATIVE;RSVP=TRUE;CN=Peter:ht
 tp://njyp.org/profile/PeterMcDonnell
ATTENDEE;ROLE=REQ-PARTICIPANT;PARTSTAT=TENTATIVE;RSVP=TRUE;CN="Christo
 pher Dingman":http://njyp.org/profile/ChristopherDingman
ATTENDEE;ROLE=REQ-PARTICIPANT;PARTSTAT=TENTATIVE;RSVP=TRUE;CN=Fran:htt
 p://njyp.org/profile/Fran
ATTENDEE;ROLE=REQ-PARTICIPANT;PARTSTAT=TENTATIVE;RSVP=TRUE;CN=James:ht
 tp://njyp.org/profile/JamesShow
ATTENDEE;ROLE=REQ-PARTICIPANT;PARTSTAT=TENTATIVE;RSVP=TRUE;CN="Jennife
 r Redmond":http://njyp.org/profile/JenniferRedmond
ATTENDEE;ROLE=REQ-PARTICIPANT;PARTSTAT=TENTATIVE;RSVP=TRUE;CN=Dexter:h
 ttp://njyp.org/profile/Dexter
ATTENDEE;ROLE=REQ-PARTICIPANT;PARTSTAT=TENTATIVE;RSVP=TRUE;CN=Zachary:
 http://njyp.org/profile/Zachary
ATTENDEE;ROLE=REQ-PARTICIPANT;PARTSTAT=TENTATIVE;RSVP=TRUE;CN="Kevin H
 aughwout":http://njyp.org/profile/KevinHaughwout
END:VEVENT
END:VCALENDAR
