BEGIN:VCALENDAR
PRODID:NingEventWidget-v1
VERSION:2.0
METHOD:PUBLISH
BEGIN:VTIMEZONE
TZID:America/New_York
X-LIC-LOCATION:America/New_York
BEGIN:DAYLIGHT
TZOFFSETFROM:-0500
TZOFFSETTO:-0400
TZNAME:EDT
DTSTART:19700308T020000
RRULE:FREQ=YEARLY;BYMONTH=3;BYDAY=2SU
END:DAYLIGHT
BEGIN:STANDARD
TZOFFSETFROM:-0400
TZOFFSETTO:-0500
TZNAME:EST
DTSTART:19701101T020000
RRULE:FREQ=YEARLY;BYMONTH=11;BYDAY=1SU
END:STANDARD
END:VTIMEZONE
BEGIN:VEVENT
UID:2938326:Event:322804
DTSTAMP:20260422T050637Z
SUMMARY:Zumba!
DESCRIPTION:So sorry, this was canceled due to lack of interest.\nZumb
 a is fun, exciting, and guaranteed to get your heart racing! Join us w
 hether you are a Zumba pro or are just figuring out what Zumba is. Eit
 her way you will benefit from this whole body workout that is perfect 
 for all levels. This private class for the Members of NJYP will last 1
  hour and will be followed by a healthy, local lunch.  Who can Attend:
  This will be a beginners class. Women or men who are 21 to 39 years o
 ld may participate. This will be a private event just for our organiza
 tion.  What to bring: Please dress in athletic clothing, including sne
 akers. Bring a towel and a bottle of water.   Member Cost: $15 for the
  first 20 to register $20 for everyone else  Non-Member Cost: $25  Are
  you a Sideliner or Player? Go here for ticket discount info, http://w
 ww.njyp.org/group/the-better-body-challenge-main-group  Tickets: There
  are a limited number of Tickets for sale. Tickets are not mailed, but
  your name will be kept at the door. All sales are final.  Directions:
  Please use Google Maps. Zumba will take place in the Wayne Orthopedic
  Physical Therapy Building. Go upstairs once you arrive. http://www.wa
 yneorthopt.com/hours_directions.html (this event is NOT being run by W
 ayne Orthopedic Physical Therapy)\n\nFor more information visit http:/
 /njyp.org/events/zumba
DTSTART;TZID=America/New_York:20120303T123000
DTEND;TZID=America/New_York:20120303T133000
CATEGORIES:"passaic county", athletic, bbc
LOCATION:Upstairs at the Wayne Orthopedic Physical herapy Building
WEBSITE:
URL:
CONTACT:
ORGANIZER;CN="Brian and Mike":http://njyp.org/profile/BrianMike
ATTACH;FMTTYPE="image/jpeg":http://storage.ning.com/topology/rest/1.0/
 file/get/1088760414?profile=original
ATTENDEE;ROLE=REQ-PARTICIPANT;PARTSTAT=ACCEPTED;RSVP=TRUE;CN=Keri:http
 ://njyp.org/profile/Keri690
ATTENDEE;ROLE=REQ-PARTICIPANT;PARTSTAT=ACCEPTED;RSVP=TRUE;CN=Susan:htt
 p://njyp.org/profile/Susan617
ATTENDEE;ROLE=REQ-PARTICIPANT;PARTSTAT=ACCEPTED;RSVP=TRUE;CN="Brian an
 d Mike":http://njyp.org/profile/BrianMike
ATTENDEE;ROLE=REQ-PARTICIPANT;PARTSTAT=TENTATIVE;RSVP=TRUE;CN="Jessica
  Gill":http://njyp.org/profile/JessicaGill
ATTENDEE;ROLE=REQ-PARTICIPANT;PARTSTAT=TENTATIVE;RSVP=TRUE;CN=Sara:htt
 p://njyp.org/profile/Sara670
ATTENDEE;ROLE=REQ-PARTICIPANT;PARTSTAT=TENTATIVE;RSVP=TRUE;CN=Rebecca:
 http://njyp.org/profile/Rebecca
END:VEVENT
END:VCALENDAR
